BEGIN:VCALENDAR
VERSION:2.0
PRODID:-//vivat - ECPv4.9.14//NONSGML v1.0//EN
CALSCALE:GREGORIAN
METHOD:PUBLISH
X-WR-CALNAME:vivat
X-ORIGINAL-URL:https://vivatselvmordsforebygging.net
X-WR-CALDESC:Events for vivat
BEGIN:VTIMEZONE
TZID:Europe/Oslo
BEGIN:DAYLIGHT
TZOFFSETFROM:+0100
TZOFFSETTO:+0200
TZNAME:CEST
DTSTART:20260329T010000
END:DAYLIGHT
BEGIN:STANDARD
TZOFFSETFROM:+0200
TZOFFSETTO:+0100
TZNAME:CET
DTSTART:20261025T010000
END:STANDARD
END:VTIMEZONE
BEGIN:VEVENT
DTSTART;VALUE=DATE:20260608
DTEND;VALUE=DATE:20260610
DTSTAMP:20260424T062037
CREATED:20260420T121056Z
LAST-MODIFIED:20260420T121056Z
UID:12593-1780876800-1781049599@vivatselvmordsforebygging.net
SUMMARY:Romerike\, Førstehjelp ved selvmordsfare
DESCRIPTION:Kriminalomsorgens høgskole og utdanningssenter – KRUS arrangerer kurset Førstehjelp ved selvmordsfare. \nKurset er på Romerike II fengsel. Kurset er for aspiranter ved KRUS og er lukket for andre deltakere. \nKontaktperson er Anne Natrud\, epost: anne.natrud@krus.no \n
URL:https://vivatselvmordsforebygging.net/event/romerike-forstehjelp-ved-selvmordsfare-2/
LOCATION:Romerike\, Norge
CATEGORIES:Kurs,Førstehjelp ved selvmordsfare,Øst,Lukket kurs
END:VEVENT
END:VCALENDAR