BEGIN:VCALENDAR
VERSION:2.0
PRODID:-//vivat - ECPv4.9.14//NONSGML v1.0//EN
CALSCALE:GREGORIAN
METHOD:PUBLISH
X-WR-CALNAME:vivat
X-ORIGINAL-URL:https://vivatselvmordsforebygging.net
X-WR-CALDESC:Events for vivat
BEGIN:VTIMEZONE
TZID:Europe/Oslo
BEGIN:DAYLIGHT
TZOFFSETFROM:+0100
TZOFFSETTO:+0200
TZNAME:CEST
DTSTART:20170326T010000
END:DAYLIGHT
BEGIN:STANDARD
TZOFFSETFROM:+0200
TZOFFSETTO:+0100
TZNAME:CET
DTSTART:20171029T010000
END:STANDARD
END:VTIMEZONE
BEGIN:VEVENT
DTSTART;TZID=Europe/Oslo:20170102T120000
DTEND;TZID=Europe/Oslo:20170102T153000
DTSTAMP:20260421T081604
CREATED:20161213T122013Z
LAST-MODIFIED:20161213T141340Z
UID:2396-1483358400-1483371000@vivatselvmordsforebygging.net
SUMMARY:Stavanger\, safeTALK
DESCRIPTION:safeTALK arrangeres for ansatte ved Lenden skole og ressurssenter. Kurset er lukket. \nKontaktperson er Anne Håkonsholm\, e-post: vivatah@gmail.com \n
URL:https://vivatselvmordsforebygging.net/event/stavanger-safetalk-4/
LOCATION:Stavanger\, Rogaland\, 4000\, Norge
CATEGORIES:Kurs,Oppmerksom på selvmordstanker,Vest
GEO:58.9562814;5.7377252
END:VEVENT
END:VCALENDAR