BEGIN:VCALENDAR
VERSION:2.0
PRODID:-//vivat - ECPv4.9.14//NONSGML v1.0//EN
CALSCALE:GREGORIAN
METHOD:PUBLISH
X-WR-CALNAME:vivat
X-ORIGINAL-URL:https://vivatselvmordsforebygging.net
X-WR-CALDESC:Events for vivat
BEGIN:VTIMEZONE
TZID:Europe/Oslo
BEGIN:DAYLIGHT
TZOFFSETFROM:+0100
TZOFFSETTO:+0200
TZNAME:CEST
DTSTART:20170326T010000
END:DAYLIGHT
BEGIN:STANDARD
TZOFFSETFROM:+0200
TZOFFSETTO:+0100
TZNAME:CET
DTSTART:20171029T010000
END:STANDARD
END:VTIMEZONE
BEGIN:VEVENT
DTSTART;VALUE=DATE:20171205
DTEND;VALUE=DATE:20171207
DTSTAMP:20260426T035123
CREATED:20170915T071437Z
LAST-MODIFIED:20170915T071437Z
UID:3009-1512432000-1512604799@vivatselvmordsforebygging.net
SUMMARY:Vennesla\, Førstehjelp ved selvmordsfare
DESCRIPTION:Vennesla kommune og VIVAT inviterer ansatte i Vennesla kommune til kurset Førstehjelp ved selvmordsfare. Kurset er et av Helsedirektoratets subsidierte kurs til kommuner. \nKontaktperson er Øyvind Dåsvatn\, e-post: oyvind.dasvatn@bufetat.no \n
URL:https://vivatselvmordsforebygging.net/event/vennesla-forstehjelp-ved-selvmordsfare-3/
LOCATION:Vennesla\, Vest-Agder\, 4700\, Norge
CATEGORIES:Kurs,Førstehjelp ved selvmordsfare,Sør
GEO:58.2939973;7.9835493
END:VEVENT
BEGIN:VEVENT
DTSTART;VALUE=DATE:20171205
DTEND;VALUE=DATE:20171207
DTSTAMP:20260426T035123
CREATED:20171011T123546Z
LAST-MODIFIED:20171109T142919Z
UID:3076-1512432000-1512604799@vivatselvmordsforebygging.net
SUMMARY:Sandefjord\, Førstehjelp ved selvmordsfare
DESCRIPTION:Sandefjord kommune arrangerer kurset Førstehjelp ved selvmordsfare 5.-6. desember. Kurset er for kommunens ansatte og ansatte hos noen av kommunens samarbeidspartnere. \nKontaktperson er Harald Heggernes\, e-post: harald.heggernes@sandefjord.kommune.no \n
URL:https://vivatselvmordsforebygging.net/event/stokke-forstehjelp-ved-selvmordsfare/
LOCATION:Stokke\, Vest-Agder
CATEGORIES:Kurs,Førstehjelp ved selvmordsfare,Sør
END:VEVENT
BEGIN:VEVENT
DTSTART;VALUE=DATE:20171205
DTEND;VALUE=DATE:20171207
DTSTAMP:20260426T035123
CREATED:20171107T102340Z
LAST-MODIFIED:20171107T102701Z
UID:3163-1512432000-1512604799@vivatselvmordsforebygging.net
SUMMARY:Sveio\, Førstehjelp ved selvmordsfare
DESCRIPTION:Sveio kommune arrangerer kurset Førstehjelp ved selvmordsfare i samarbeid med VIVAT. Kurset er et av de sponsede kursene til kommuner fra Helsedirektoratet. \nKontaktpersoner er Anne Håkonsholm\, e-post: vivatah@gmail.com og Tore Bøe Olsen\, e-post: tore.boe.olsen@sveio.kommune.no \n
URL:https://vivatselvmordsforebygging.net/event/sveio-forstehjelp-ved-selvmordsfare/
LOCATION:Sveio\, Vest-Agder
CATEGORIES:Kurs,Førstehjelp ved selvmordsfare,Vest
END:VEVENT
BEGIN:VEVENT
DTSTART;VALUE=DATE:20171206
DTEND;VALUE=DATE:20171208
DTSTAMP:20260426T035123
CREATED:20171110T103044Z
LAST-MODIFIED:20171110T103044Z
UID:3185-1512518400-1512691199@vivatselvmordsforebygging.net
SUMMARY:Oslo\, Førstehjelp ved selvmordsfare
DESCRIPTION:Kirkens Bymisjon\, avd. Nadheim arrangerer kurs for egne ansatte og vikarer. Kurset er lukket. \nKontaktperson er Hanna Guro brekke\, e-post: hanna.guro@gmail.com \n
URL:https://vivatselvmordsforebygging.net/event/oslo-forstehjelp-ved-selvmordsfare-25/
LOCATION:Oslo\, Vest-Agder\, Norge
CATEGORIES:Førstehjelp ved selvmordsfare,Øst
GEO:60.472024;8.468946
END:VEVENT
BEGIN:VEVENT
DTSTART;TZID=Europe/Oslo:20171206T113000
DTEND;TZID=Europe/Oslo:20171206T153000
DTSTAMP:20260426T035123
CREATED:20171016T112121Z
LAST-MODIFIED:20171016T112121Z
UID:3087-1512559800-1512574200@vivatselvmordsforebygging.net
SUMMARY:Trondheim\, safeTALK
DESCRIPTION:Trondheim kommune og RVTS Midt arrangerer to kurs for lærere ved Rosenborg ungdomsskole. Kursene er lukket for eksterne deltakere. \nKontaktperson er Rita Småvik i RVTS Midt\, e-post: rita.smavik@stolav.no \n
URL:https://vivatselvmordsforebygging.net/event/trondheim-safetalk-23/
LOCATION:Trondheim\, Trondheim\, Sør-Trøndelag\, 7000\, Norge
CATEGORIES:Kurs,Oppmerksom på selvmordstanker,Midt
GEO:63.427569;10.393207
END:VEVENT
END:VCALENDAR