BEGIN:VCALENDAR
VERSION:2.0
PRODID:-//vivat - ECPv4.9.14//NONSGML v1.0//EN
CALSCALE:GREGORIAN
METHOD:PUBLISH
X-WR-CALNAME:vivat
X-ORIGINAL-URL:https://vivatselvmordsforebygging.net
X-WR-CALDESC:Events for vivat
BEGIN:VTIMEZONE
TZID:Europe/Oslo
BEGIN:DAYLIGHT
TZOFFSETFROM:+0100
TZOFFSETTO:+0200
TZNAME:CEST
DTSTART:20170326T010000
END:DAYLIGHT
BEGIN:STANDARD
TZOFFSETFROM:+0200
TZOFFSETTO:+0100
TZNAME:CET
DTSTART:20171029T010000
END:STANDARD
END:VTIMEZONE
BEGIN:VEVENT
DTSTART;VALUE=DATE:20171206
DTEND;VALUE=DATE:20171208
DTSTAMP:20260426T035123
CREATED:20171110T103044Z
LAST-MODIFIED:20171110T103044Z
UID:3185-1512518400-1512691199@vivatselvmordsforebygging.net
SUMMARY:Oslo\, Førstehjelp ved selvmordsfare
DESCRIPTION:Kirkens Bymisjon\, avd. Nadheim arrangerer kurs for egne ansatte og vikarer. Kurset er lukket. \nKontaktperson er Hanna Guro brekke\, e-post: hanna.guro@gmail.com \n
URL:https://vivatselvmordsforebygging.net/event/oslo-forstehjelp-ved-selvmordsfare-25/
LOCATION:Oslo\, Norge
CATEGORIES:Førstehjelp ved selvmordsfare,Øst
GEO:60.472024;8.468946
END:VEVENT
BEGIN:VEVENT
DTSTART;VALUE=DATE:20171207
DTEND;VALUE=DATE:20171209
DTSTAMP:20260426T035123
CREATED:20170630T111943Z
LAST-MODIFIED:20171110T090500Z
UID:2888-1512604800-1512777599@vivatselvmordsforebygging.net
SUMMARY:Skien\, Førstehjelp ved selvmordsfare
DESCRIPTION:Kirkens SOS i Telemark skal arrangere kurs i Skien.  Kurset er åpent for alle å melde seg på. \nHer er mer informasjon om kurset og påmelding: INVITASJON  \nKontaktperson er Stine Sætre Risanger\, e-post: stine.risanger@kirkens-sos.no \n  \n
URL:https://vivatselvmordsforebygging.net/event/skien-forstehjelp-ved-selvmordsfare-3/
LOCATION:Skien\, Skien\, Telemark\, 3700\, Norge
CATEGORIES:Kurs,Førstehjelp ved selvmordsfare,Sør
GEO:59.205357;9.606522
END:VEVENT
BEGIN:VEVENT
DTSTART;TZID=Europe/Oslo:20171207T120000
DTEND;TZID=Europe/Oslo:20171207T160000
DTSTAMP:20260426T035123
CREATED:20171108T091326Z
LAST-MODIFIED:20171108T091326Z
UID:3167-1512648000-1512662400@vivatselvmordsforebygging.net
SUMMARY:Bodø\, safeTALK
DESCRIPTION:Politiet i Bodø arrangerer kurs for egne ansatte 7. desember. Kurset er lukket. \nKontaktperson er Torunn Blokhus\, e-post: torunn.blokhus@sbnett.no \n
URL:https://vivatselvmordsforebygging.net/event/bodo-safetalk-6/
LOCATION:Bodø\, Nordland\, 8000\, Norge
CATEGORIES:Kurs,Oppmerksom på selvmordstanker,Nord
GEO:59.9768021;10.3213481
END:VEVENT
END:VCALENDAR