BEGIN:VCALENDAR
VERSION:2.0
PRODID:-//vivat - ECPv4.9.14//NONSGML v1.0//EN
CALSCALE:GREGORIAN
METHOD:PUBLISH
X-WR-CALNAME:vivat
X-ORIGINAL-URL:https://vivatselvmordsforebygging.net
X-WR-CALDESC:Events for vivat
BEGIN:VTIMEZONE
TZID:Europe/Oslo
BEGIN:DAYLIGHT
TZOFFSETFROM:+0100
TZOFFSETTO:+0200
TZNAME:CEST
DTSTART:20170326T010000
END:DAYLIGHT
BEGIN:STANDARD
TZOFFSETFROM:+0200
TZOFFSETTO:+0100
TZNAME:CET
DTSTART:20171029T010000
END:STANDARD
END:VTIMEZONE
BEGIN:VEVENT
DTSTART;VALUE=DATE:20171212
DTEND;VALUE=DATE:20171214
DTSTAMP:20260426T035204
CREATED:20171120T082842Z
LAST-MODIFIED:20171120T082842Z
UID:3192-1513036800-1513209599@vivatselvmordsforebygging.net
SUMMARY:Lakselv\, Førstehjelp ved selvmordsfare
DESCRIPTION:Lakselv kommune arrangerer kurset Førstehjelp ved selvmordsfare i samarbeid med VIVAT. Kurset er for ansatte i kommunen. Dette er et av kursene til kommuner Helsedirektorat gir ekstra midler til i 2017. \nKontaktperson er Anneli Naukkarinen\, e-post: anneli.naukkarinen@porsanger.kommune.no \n
URL:https://vivatselvmordsforebygging.net/event/lakselv-forstehjelp-ved-selvmordsfare-2/
LOCATION:Lakselv\, lakselv\, Finnmark\, 9700\, Norge
CATEGORIES:Kurs,Førstehjelp ved selvmordsfare,Nord
GEO:70.0513264;24.9717819
END:VEVENT
BEGIN:VEVENT
DTSTART;VALUE=DATE:20171212
DTEND;VALUE=DATE:20171214
DTSTAMP:20260426T035204
CREATED:20171211T141725Z
LAST-MODIFIED:20171211T141725Z
UID:3214-1513036800-1513209599@vivatselvmordsforebygging.net
SUMMARY:Stjørdal\, Førstehjelp ved selvmordsfare
DESCRIPTION:Stjørdal kommune skal holde kurs for ansatte i Værnesregionen. Kurset er lukket. \nKontaktperson er Sidsel Storvik Nilsen\, e-post: sidsel.storvik.nilsen@stjordal.kommune.no \n
URL:https://vivatselvmordsforebygging.net/event/stjordal-forstehjelp-ved-selvmordsfare/
LOCATION:Stjørdal\, Finnmark
CATEGORIES:Kurs,Førstehjelp ved selvmordsfare,Midt
END:VEVENT
BEGIN:VEVENT
DTSTART;VALUE=DATE:20171213
DTEND;VALUE=DATE:20171215
DTSTAMP:20260426T035204
CREATED:20171031T085216Z
LAST-MODIFIED:20171109T124134Z
UID:3121-1513123200-1513295999@vivatselvmordsforebygging.net
SUMMARY:Skjetten\, Førstehjelp ved selvmordsfare
DESCRIPTION:Kommunehelsetjenesten  i Ullensaker kommune arrangerer kurs for helsetjenesten og fengselshelsetjenesten. Kurset er lukket. \nKontaktperson er Thea Schmidt\, e-post: thea.schmidt@ullensaker.kommune.no \n
URL:https://vivatselvmordsforebygging.net/event/jessheim-forstehjelp-ved-selvmordsfare/
LOCATION:Jessheim\, Finnmark
CATEGORIES:Kurs,Førstehjelp ved selvmordsfare,Øst
END:VEVENT
BEGIN:VEVENT
DTSTART;VALUE=DATE:20171213
DTEND;VALUE=DATE:20171215
DTSTAMP:20260426T035204
CREATED:20171130T121419Z
LAST-MODIFIED:20171130T121419Z
UID:3201-1513123200-1513295999@vivatselvmordsforebygging.net
SUMMARY:Arendal\, Førstehjelp ved selvmordsfare
DESCRIPTION:Arendal kommune og VIVAT arrangerer kurs i Arendal 13.-14. desember. Kurset er for ansatte i Arendal kommune. Dette kurset er et av de kursene Helsedirektoratet har bevilget ekstra midler til. \nKontaktperson er Øyvind Dåsvatn\, e-post: oyvind.dasvatn@bufetat.no \n
URL:https://vivatselvmordsforebygging.net/event/arendal-forstehjelp-ved-selvmordsfare-2/
LOCATION:Arendal\, Aust Agder\, 4838\, Norge
CATEGORIES:Kurs,Førstehjelp ved selvmordsfare,Sør
GEO:58.4657981;8.7579971
END:VEVENT
END:VCALENDAR