BEGIN:VCALENDAR
VERSION:2.0
PRODID:-//vivat - ECPv4.9.14//NONSGML v1.0//EN
CALSCALE:GREGORIAN
METHOD:PUBLISH
X-WR-CALNAME:vivat
X-ORIGINAL-URL:https://vivatselvmordsforebygging.net
X-WR-CALDESC:Events for vivat
BEGIN:VTIMEZONE
TZID:Europe/Oslo
BEGIN:DAYLIGHT
TZOFFSETFROM:+0100
TZOFFSETTO:+0200
TZNAME:CEST
DTSTART:20180325T010000
END:DAYLIGHT
BEGIN:STANDARD
TZOFFSETFROM:+0200
TZOFFSETTO:+0100
TZNAME:CET
DTSTART:20181028T010000
END:STANDARD
END:VTIMEZONE
BEGIN:VEVENT
DTSTART;VALUE=DATE:20180126
DTEND;VALUE=DATE:20180127
DTSTAMP:20260426T021841
CREATED:20171016T112601Z
LAST-MODIFIED:20171016T112601Z
UID:3089-1516924800-1517011199@vivatselvmordsforebygging.net
SUMMARY:Trondheim\, safeTALK
DESCRIPTION:Trondheim kommune og RVTS Midt arrangerer fire kurs for lærere ved Dalgård skole. Kursene er lukket for eksterne deltakere. \nKontaktperson er Rita Småvik i RVTS Midt\, e-post: rita.smavik@stolav.no \n
URL:https://vivatselvmordsforebygging.net/event/trondheim-safetalk-25/
LOCATION:Trondheim\, Trondheim\, Sør-Trøndelag\, 7000\, Norge
CATEGORIES:Kurs,Oppmerksom på selvmordstanker,Midt
GEO:63.427569;10.393207
END:VEVENT
BEGIN:VEVENT
DTSTART;VALUE=DATE:20180126
DTEND;VALUE=DATE:20180127
DTSTAMP:20260426T021841
CREATED:20171016T112812Z
LAST-MODIFIED:20171016T112812Z
UID:3090-1516924800-1517011199@vivatselvmordsforebygging.net
SUMMARY:Trondheim\, safeTALK
DESCRIPTION:Trondheim kommune og RVTS Midt arrangerer kurs for lærere ved Vikåsen barneskole. Kurset er lukket for eksterne deltakere. \nKontaktperson er Rita Småvik i RVTS Midt\, e-post: rita.smavik@stolav.no \n
URL:https://vivatselvmordsforebygging.net/event/trondheim-safetalk-26/
LOCATION:Trondheim\, Trondheim\, Sør-Trøndelag\, 7000\, Norge
CATEGORIES:Kurs,Oppmerksom på selvmordstanker,Midt
GEO:63.427569;10.393207
END:VEVENT
BEGIN:VEVENT
DTSTART;VALUE=DATE:20180126
DTEND;VALUE=DATE:20180127
DTSTAMP:20260426T021841
CREATED:20171016T113040Z
LAST-MODIFIED:20171016T113040Z
UID:3091-1516924800-1517011199@vivatselvmordsforebygging.net
SUMMARY:Trondheim\, safeTALK
DESCRIPTION:Trondheim kommune og RVTS Midt arrangerer to kurs for lærere ved Hårstad barneskole på Tiller. Kursene er lukket for eksterne deltakere. \nKontaktperson er Rita Småvik i RVTS Midt\, e-post: rita.smavik@stolav.no2 \n
URL:https://vivatselvmordsforebygging.net/event/trondheim-safetalk-27/
LOCATION:Trondheim\, Trondheim\, Sør-Trøndelag\, 7000\, Norge
CATEGORIES:Kurs,Oppmerksom på selvmordstanker,Midt
GEO:63.427569;10.393207
END:VEVENT
BEGIN:VEVENT
DTSTART;VALUE=DATE:20180126
DTEND;VALUE=DATE:20180127
DTSTAMP:20260426T021841
CREATED:20171016T113239Z
LAST-MODIFIED:20171016T113259Z
UID:3092-1516924800-1517011199@vivatselvmordsforebygging.net
SUMMARY:Trondheim\, safeTALK
DESCRIPTION:Trondheim kommune og RVTS Midt arrangerer kurs for lærere ved Stavset barneskole. Kursene er lukket for eksterne deltakere. \nKontaktperson er Rita Småvik i RVTS Midt\, e-post: rita.smavik@stolav.no \n
URL:https://vivatselvmordsforebygging.net/event/3092/
LOCATION:Trondheim\, Trondheim\, Sør-Trøndelag\, 7000\, Norge
CATEGORIES:Kurs,Oppmerksom på selvmordstanker,Midt
GEO:63.427569;10.393207
END:VEVENT
BEGIN:VEVENT
DTSTART;VALUE=DATE:20180126
DTEND;VALUE=DATE:20180127
DTSTAMP:20260426T021841
CREATED:20171016T113431Z
LAST-MODIFIED:20171016T113431Z
UID:3093-1516924800-1517011199@vivatselvmordsforebygging.net
SUMMARY:Trondheim\, safeTALK
DESCRIPTION:Trondheim kommune og RVTS Midt arrangerer to kurs for lærere ved Sverresborg ungdomsskole på Byåsen. Kursene er lukket for eksterne deltakere. \nKontaktperson er Rita Småvik i RVTS Midt\, e-post: rita.smavik@stolav.no \n
URL:https://vivatselvmordsforebygging.net/event/trondheim-safetalk-28/
LOCATION:Trondheim\, Trondheim\, Sør-Trøndelag\, 7000\, Norge
CATEGORIES:Kurs,Oppmerksom på selvmordstanker,Midt
GEO:63.427569;10.393207
END:VEVENT
BEGIN:VEVENT
DTSTART;VALUE=DATE:20180126
DTEND;VALUE=DATE:20180127
DTSTAMP:20260426T021841
CREATED:20171016T113614Z
LAST-MODIFIED:20171016T113614Z
UID:3094-1516924800-1517011199@vivatselvmordsforebygging.net
SUMMARY:Trondheim\, safeTALK
DESCRIPTION:Trondheim kommune og RVTS Midt arrangerer kurs for lærere ved Bispehaugen barneskole. Kursene er lukket for eksterne deltakere. \nKontaktperson er Rita Småvik i RVTS Midt\, e-post: rita.smavik@stolav.no \n
URL:https://vivatselvmordsforebygging.net/event/trondheim-safetalk-29/
LOCATION:Trondheim\, Trondheim\, Sør-Trøndelag\, 7000\, Norge
CATEGORIES:Kurs,Oppmerksom på selvmordstanker,Midt
GEO:63.427569;10.393207
END:VEVENT
BEGIN:VEVENT
DTSTART;VALUE=DATE:20180126
DTEND;VALUE=DATE:20180127
DTSTAMP:20260426T021841
CREATED:20171016T113832Z
LAST-MODIFIED:20171016T113832Z
UID:3095-1516924800-1517011199@vivatselvmordsforebygging.net
SUMMARY:Trondheim\, safeTALK
DESCRIPTION:Trondheim kommune og RVTS Midt arrangerer kurs for lærere ved Jakobsli skole. Kurset er lukket for eksterne deltakere. \nKontaktperson er Rita Småvik i RVTS Midt\, e-post: rita.smavik@stolav.no \n
URL:https://vivatselvmordsforebygging.net/event/trondheim-safetalk-30/
LOCATION:Trondheim\, Trondheim\, Sør-Trøndelag\, 7000\, Norge
CATEGORIES:Kurs,Oppmerksom på selvmordstanker,Midt
GEO:63.427569;10.393207
END:VEVENT
BEGIN:VEVENT
DTSTART;VALUE=DATE:20180126
DTEND;VALUE=DATE:20180127
DTSTAMP:20260426T021841
CREATED:20171016T114027Z
LAST-MODIFIED:20171016T114027Z
UID:3096-1516924800-1517011199@vivatselvmordsforebygging.net
SUMMARY:Trondheim\, safeTALK
DESCRIPTION:Trondheim kommune og RVTS Midt arrangerer to kurs for lærere ved Eberg barneskole. Kursene er lukket for eksterne deltakere. \nKontaktperson er Rita Småvik i RVTS Midt\, e-post: rita.smavik@stolav.no \n
URL:https://vivatselvmordsforebygging.net/event/trondheim-safetalk-31/
LOCATION:Trondheim\, Trondheim\, Sør-Trøndelag\, 7000\, Norge
CATEGORIES:Kurs,Oppmerksom på selvmordstanker,Midt
GEO:63.427569;10.393207
END:VEVENT
END:VCALENDAR