BEGIN:VCALENDAR
VERSION:2.0
PRODID:-//vivat - ECPv4.9.14//NONSGML v1.0//EN
CALSCALE:GREGORIAN
METHOD:PUBLISH
X-WR-CALNAME:vivat
X-ORIGINAL-URL:https://vivatselvmordsforebygging.net
X-WR-CALDESC:Events for vivat
BEGIN:VTIMEZONE
TZID:Europe/Oslo
BEGIN:DAYLIGHT
TZOFFSETFROM:+0100
TZOFFSETTO:+0200
TZNAME:CEST
DTSTART:20180325T010000
END:DAYLIGHT
BEGIN:STANDARD
TZOFFSETFROM:+0200
TZOFFSETTO:+0100
TZNAME:CET
DTSTART:20181028T010000
END:STANDARD
END:VTIMEZONE
BEGIN:VEVENT
DTSTART;VALUE=DATE:20180130
DTEND;VALUE=DATE:20180201
DTSTAMP:20260426T005242
CREATED:20171120T161824Z
LAST-MODIFIED:20171120T161922Z
UID:3194-1517270400-1517443199@vivatselvmordsforebygging.net
SUMMARY:Tromsø\, Førstehjelp ved selvmordsfare
DESCRIPTION:Fagutviklingsenheten i Psykisk Helse og Rusklinikken ved UNN inviterer alle ansatte i klinikken til kurset Førstehjelp ved selvmordsfare.  Invitasjon til kurset Førstehjelp ved selvmordsfare 30. og 31. januar 2018 \nKontaktperson er Joaquim Carvalho\, e-post: joaquim.carvalho@unn.no \n
URL:https://vivatselvmordsforebygging.net/event/tromso-forstehjelp-ved-selvmordsfare-22/
LOCATION:Tromsø\, Fiolveien 15\, Tromsø\, Troms\, 9016\, Norge
CATEGORIES:Kurs,Førstehjelp ved selvmordsfare,Nord
GEO:69.6857553;18.9930926
X-APPLE-STRUCTURED-LOCATION;VALUE=URI;X-ADDRESS=Tromsø Fiolveien 15 Tromsø Troms 9016 Norge;X-APPLE-RADIUS=500;X-TITLE=Fiolveien 15:geo:18.9930926,69.6857553
END:VEVENT
BEGIN:VEVENT
DTSTART;VALUE=DATE:20180130
DTEND;VALUE=DATE:20180201
DTSTAMP:20260426T005242
CREATED:20180124T111722Z
LAST-MODIFIED:20180124T112440Z
UID:3331-1517270400-1517443199@vivatselvmordsforebygging.net
SUMMARY:Bryne\, Førstehjelp ved selvmordsfare
DESCRIPTION:RVTS Vest arrangerer kurset Førstehjelp ved selvmordsfare som del av kompetansehevingsprogram på Jæren. Målgruppen er ansatte i barnevernet. \nKontaktperson er Linda Renate Kvalvik\, e-post: linda.renate.kvalvik@helse-bergen.no \n
URL:https://vivatselvmordsforebygging.net/event/jaeren-forstehjelp-ved-selvmordsfare/
LOCATION:Bryne\, Rogaland\, 4340\, Norge
CATEGORIES:Kurs,Førstehjelp ved selvmordsfare,Vest
GEO:58.7269137;5.6794774
END:VEVENT
BEGIN:VEVENT
DTSTART;VALUE=DATE:20180131
DTEND;VALUE=DATE:20180201
DTSTAMP:20260426T005242
CREATED:20180104T103408Z
LAST-MODIFIED:20180104T103446Z
UID:3263-1517356800-1517443199@vivatselvmordsforebygging.net
SUMMARY:Bergen\, safeTALK
DESCRIPTION:Forsvaret arrangerer to kurs på Sjøkrigsskolen 31. januar. Kursene er for 3. klasse ved Sjøkrigsskolen. Kursene er lukket \nKontaktperson er Hans Kenneth Sundsbø\, e-post: sundsbo.fpk@gmail.com \n
URL:https://vivatselvmordsforebygging.net/event/3263/
LOCATION:Bergen\, Hordaland\, 5000\, Norge
CATEGORIES:Kurs,Vest
GEO:59.4199474;5.2725679
END:VEVENT
BEGIN:VEVENT
DTSTART;VALUE=DATE:20180131
DTEND;VALUE=DATE:20180202
DTSTAMP:20260426T005242
CREATED:20180104T122336Z
LAST-MODIFIED:20180104T122336Z
UID:3268-1517356800-1517529599@vivatselvmordsforebygging.net
SUMMARY:Molde\, Førstehjelp ved selvmordsfare
DESCRIPTION:Kurset Førstehjelp ved selvmordsfare arrangeres for ansatte i Molde kommune 18.-19. januar og 31.januar – 1. februar. \nFor nærmere informasjon\, ta kontakt med Annett Eidem Røsok\, e-post: annett.eidem.rosok@molde.kommune.no \n
URL:https://vivatselvmordsforebygging.net/event/molde-forstehjelp-ved-selvmordsfare-4/
LOCATION:Molde\, Molde\, Molde\, 6400\, Norge
CATEGORIES:Kurs,Førstehjelp ved selvmordsfare,Midt
GEO:62.7484101;7.1268681
END:VEVENT
BEGIN:VEVENT
DTSTART;VALUE=DATE:20180131
DTEND;VALUE=DATE:20180201
DTSTAMP:20260426T005242
CREATED:20180129T144620Z
LAST-MODIFIED:20180129T144837Z
UID:3336-1517356800-1517443199@vivatselvmordsforebygging.net
SUMMARY:Oslo\, safeTALK
DESCRIPTION:Ung Arena arrangerer kurset safeTALK for frivillige og ansatte. \nkontaktperson er Astri Sand Holth\, e-post: astrisand.holth@bgo.oslo.kommune.no \n
URL:https://vivatselvmordsforebygging.net/event/oslo-safetalk-5/
LOCATION:Troms
CATEGORIES:Kurs,Oppmerksom på selvmordstanker,Øst
END:VEVENT
END:VCALENDAR