BEGIN:VCALENDAR
VERSION:2.0
PRODID:-//vivat - ECPv4.9.14//NONSGML v1.0//EN
CALSCALE:GREGORIAN
METHOD:PUBLISH
X-WR-CALNAME:vivat
X-ORIGINAL-URL:https://vivatselvmordsforebygging.net
X-WR-CALDESC:Events for vivat
BEGIN:VTIMEZONE
TZID:Europe/Oslo
BEGIN:DAYLIGHT
TZOFFSETFROM:+0100
TZOFFSETTO:+0200
TZNAME:CEST
DTSTART:20180325T010000
END:DAYLIGHT
BEGIN:STANDARD
TZOFFSETFROM:+0200
TZOFFSETTO:+0100
TZNAME:CET
DTSTART:20181028T010000
END:STANDARD
END:VTIMEZONE
BEGIN:VEVENT
DTSTART;VALUE=DATE:20180213
DTEND;VALUE=DATE:20180215
DTSTAMP:20260426T005456
CREATED:20171219T102249Z
LAST-MODIFIED:20171219T102744Z
UID:3254-1518480000-1518652799@vivatselvmordsforebygging.net
SUMMARY:Bergen\, Førstehjelp ved selvmordsfare
DESCRIPTION:Mennesket i fokus arrangerer kurset Førstehjelp ved selvmordsfare 13.-14. februar i Bergen . Kurset er åpent for alle å melde seg på. Se vedlagte invitasjon: Flyer 13 og 14 februar 2018 \nKontaktperson er Randi T. Nordvik\, e-post: post@mennesketifokus.no \n
URL:https://vivatselvmordsforebygging.net/event/3254/
LOCATION:Bergen\, Hordaland\, 5000\, Norge
CATEGORIES:Kurs,Førstehjelp ved selvmordsfare,Vest
GEO:59.4199474;5.2725679
END:VEVENT
BEGIN:VEVENT
DTSTART;VALUE=DATE:20180213
DTEND;VALUE=DATE:20180215
DTSTAMP:20260426T005456
CREATED:20180130T113308Z
LAST-MODIFIED:20180130T113308Z
UID:3341-1518480000-1518652799@vivatselvmordsforebygging.net
SUMMARY:Longyearbyen\, Førstehjelp ved selvmordsfare
DESCRIPTION:Longyearbyen psykososiale kriseteam arrangerer kurset Førstehjelp ved selvmordsfare i samarbeid med Vivat. Kurset er åpent for alle å melde seg på.  Kursinvitasjon med påmeldingsskjema \nKontaktperson er Sektorsjef for oppvekst og kultur\, Anne Søvold Vikanes\, e-post: anvik@lokalstyre.no \n
URL:https://vivatselvmordsforebygging.net/event/longyearbyen-forstehjelp-ved-selvmordsfare/
LOCATION:Longyearbyen\, Hordaland
CATEGORIES:Kurs,Førstehjelp ved selvmordsfare,Nord
END:VEVENT
BEGIN:VEVENT
DTSTART;VALUE=DATE:20180214
DTEND;VALUE=DATE:20180216
DTSTAMP:20260426T005456
CREATED:20171211T125803Z
LAST-MODIFIED:20180105T131244Z
UID:3210-1518566400-1518739199@vivatselvmordsforebygging.net
SUMMARY:Tana\, Førstehjelp ved selvmordsfare
DESCRIPTION:Tana kommune og DPS Øst-Finnmark inviterer til kurs 14.-15. februar 2018. Kurset er åpent for alle å melde seg på\, se Kursinvitasjon. Ny påmeldingsfrist: 12. januar! \nKontaktperson er Tone Nilsen\, e-post: tone.gunvor.nilsen@tana.kommune.no \n
URL:https://vivatselvmordsforebygging.net/event/tana-forstehjelp-ved-selvmordsfare-2/
LOCATION:Tana\, Finnmark\, 9845\, Norge
CATEGORIES:Kurs,Førstehjelp ved selvmordsfare,Nord
GEO:70.3104165;27.7386752
END:VEVENT
BEGIN:VEVENT
DTSTART;VALUE=DATE:20180214
DTEND;VALUE=DATE:20180216
DTSTAMP:20260426T005456
CREATED:20180123T194851Z
LAST-MODIFIED:20180123T194910Z
UID:3328-1518566400-1518739199@vivatselvmordsforebygging.net
SUMMARY:Tønsberg\, Førstehjelp ved selvmordsfare
DESCRIPTION:RVTS Sør arrangerer kurset Førstehjelp ved selvmordsfare for Incestsenteret i Vestfold. Kurset er lukket. \nKontaktperson er Mary-Ann Oshaug\, e-post: mary-ann@isiv.no \n
URL:https://vivatselvmordsforebygging.net/event/tonsberg-forstehjelp-ved-selvmordsfare-3/
LOCATION:Tønsberg\, Vestfold\, 3111\, Norge
CATEGORIES:Kurs,Førstehjelp ved selvmordsfare,Sør
GEO:59.2714895;10.4002167
END:VEVENT
END:VCALENDAR