BEGIN:VCALENDAR
VERSION:2.0
PRODID:-//vivat - ECPv4.9.14//NONSGML v1.0//EN
CALSCALE:GREGORIAN
METHOD:PUBLISH
X-WR-CALNAME:vivat
X-ORIGINAL-URL:https://vivatselvmordsforebygging.net
X-WR-CALDESC:Events for vivat
BEGIN:VTIMEZONE
TZID:Europe/Oslo
BEGIN:DAYLIGHT
TZOFFSETFROM:+0100
TZOFFSETTO:+0200
TZNAME:CEST
DTSTART:20180325T010000
END:DAYLIGHT
BEGIN:STANDARD
TZOFFSETFROM:+0200
TZOFFSETTO:+0100
TZNAME:CET
DTSTART:20181028T010000
END:STANDARD
END:VTIMEZONE
BEGIN:VEVENT
DTSTART;VALUE=DATE:20180321
DTEND;VALUE=DATE:20180323
DTSTAMP:20260425T232616
CREATED:20170925T115230Z
LAST-MODIFIED:20180105T130131Z
UID:3019-1521590400-1521763199@vivatselvmordsforebygging.net
SUMMARY:Asker\, Førstehjelp ved selvmordsfare
DESCRIPTION:Avdeling psykisk helse og rus i Asker kommune inviterer til kurset Førstehjelp ved selvmordsfare 21.-22 mars. Kurset er åpent for alle å søke på. \nFor nærmere informasjon\, ta kontakt med Vivi-Ann Rype\, e-post: vivi-ann.rype@asker.kommune.no \n
URL:https://vivatselvmordsforebygging.net/event/asker-forstehjelp-ved-selvmordsfare-5/
LOCATION:Asker\, Asker\, Akershus\, 1373\, Norge
CATEGORIES:Kurs,Førstehjelp ved selvmordsfare,Øst
ORGANIZER;CN="Asker%20kommune":MAILTO:vivi-ann.rype@asker.kommune.no
GEO:59.8316353;10.4297237
END:VEVENT
BEGIN:VEVENT
DTSTART;TZID=Europe/Oslo:20180322T120000
DTEND;TZID=Europe/Oslo:20180322T160000
DTSTAMP:20260425T232616
CREATED:20180209T082626Z
LAST-MODIFIED:20180209T082626Z
UID:3379-1521720000-1521734400@vivatselvmordsforebygging.net
SUMMARY:Melhus\, safeTALK
DESCRIPTION:SLT og Frivillighetssentralen arrangerer  safeTALK kurs i Melhus. Målgruppa er alle som er i direkte kontakt med ungdom\, som f.eks. lærere\, rektorer\, miljøarbeidere\, fritidsklubbansatte\, nattevandrere\, frivillige ved Frivilligsentralen. Kurset er gratis\, sponset av Gjensidigestiftelsen. \nKontaktperson er Kristin Johnsen\, SLT-koordinator\, e-post: kristin.johnsen@melhus.kommune.no \n
URL:https://vivatselvmordsforebygging.net/event/melhus-safetalk-7/
LOCATION:Melhus\, Akershus
CATEGORIES:Kurs,Oppmerksom på selvmordstanker,Midt
END:VEVENT
BEGIN:VEVENT
DTSTART;TZID=Europe/Oslo:20180322T150000
DTEND;TZID=Europe/Oslo:20180322T190000
DTSTAMP:20260425T232616
CREATED:20171016T115000Z
LAST-MODIFIED:20171016T115000Z
UID:3100-1521730800-1521745200@vivatselvmordsforebygging.net
SUMMARY:Trondheim\, safeTALK
DESCRIPTION:Trondheim kommune og RVTS Midt arrangerer kurs for lærere ved Skolen St. Olavs Hospital. Kurset er lukket for eksterne deltakere. \nKontaktperson er Rita Småvik i RVTS Midt\, e-post: rita.smavik@stolav.no \n
URL:https://vivatselvmordsforebygging.net/event/trondheim-safetalk-34/
LOCATION:Trondheim\, Trondheim\, Sør-Trøndelag\, 7000\, Norge
CATEGORIES:Kurs,Oppmerksom på selvmordstanker,Midt
GEO:63.427569;10.393207
END:VEVENT
END:VCALENDAR