BEGIN:VCALENDAR
VERSION:2.0
PRODID:-//vivat - ECPv4.9.14//NONSGML v1.0//EN
CALSCALE:GREGORIAN
METHOD:PUBLISH
X-WR-CALNAME:vivat
X-ORIGINAL-URL:https://vivatselvmordsforebygging.net
X-WR-CALDESC:Events for vivat
BEGIN:VTIMEZONE
TZID:Europe/Oslo
BEGIN:DAYLIGHT
TZOFFSETFROM:+0100
TZOFFSETTO:+0200
TZNAME:CEST
DTSTART:20180325T010000
END:DAYLIGHT
BEGIN:STANDARD
TZOFFSETFROM:+0200
TZOFFSETTO:+0100
TZNAME:CET
DTSTART:20181028T010000
END:STANDARD
END:VTIMEZONE
BEGIN:VEVENT
DTSTART;VALUE=DATE:20180410
DTEND;VALUE=DATE:20180412
DTSTAMP:20260425T215318
CREATED:20180228T133141Z
LAST-MODIFIED:20180228T133216Z
UID:3401-1523318400-1523491199@vivatselvmordsforebygging.net
SUMMARY:Tromsø\, Førstehjelp ved selvmordsfare
DESCRIPTION:Vivat selvmordsforebygging arrangerer kurs i Tromsø 10.-11. april. Kurset er åpent for alle å melde seg på. Invitasjon med påmeldingsinformasjon finner dere her: Kursinvitasjon \nKontaktperson er Sigrid Tonstad\, e-post: sigrid.tonstad@unn.no \n
URL:https://vivatselvmordsforebygging.net/event/tromso-forstehjelp-ved-selvmordsfare-28/
LOCATION:Tromsø\, Fiolveien 15\, Tromsø\, Troms\, 9016\, Norge
CATEGORIES:Kurs,Førstehjelp ved selvmordsfare,Nord
GEO:69.6857553;18.9930926
X-APPLE-STRUCTURED-LOCATION;VALUE=URI;X-ADDRESS=Tromsø Fiolveien 15 Tromsø Troms 9016 Norge;X-APPLE-RADIUS=500;X-TITLE=Fiolveien 15:geo:18.9930926,69.6857553
END:VEVENT
BEGIN:VEVENT
DTSTART;TZID=Europe/Oslo:20180410T160000
DTEND;TZID=Europe/Oslo:20180410T200000
DTSTAMP:20260425T215318
CREATED:20171016T115212Z
LAST-MODIFIED:20171016T115212Z
UID:3101-1523376000-1523390400@vivatselvmordsforebygging.net
SUMMARY:Trondheim\, safeTALK
DESCRIPTION:Trondheim kommune og RVTS Midt arrangerer tre eller fire kurs for lærere ved Ranheim barneskole. Kursene er lukket for eksterne deltakere. \nKontaktperson er Rita Småvik i RVTS Midt\, e-post: rita.smavik@stolav.no \n
URL:https://vivatselvmordsforebygging.net/event/trondheim-safetalk-35/
LOCATION:Trondheim\, Trondheim\, Sør-Trøndelag\, 7000\, Norge
CATEGORIES:Kurs,Oppmerksom på selvmordstanker,Midt
GEO:63.427569;10.393207
END:VEVENT
END:VCALENDAR