BEGIN:VCALENDAR
VERSION:2.0
PRODID:-//vivat - ECPv4.9.14//NONSGML v1.0//EN
CALSCALE:GREGORIAN
METHOD:PUBLISH
X-WR-CALNAME:vivat
X-ORIGINAL-URL:https://vivatselvmordsforebygging.net
X-WR-CALDESC:Events for vivat
BEGIN:VTIMEZONE
TZID:Europe/Oslo
BEGIN:DAYLIGHT
TZOFFSETFROM:+0100
TZOFFSETTO:+0200
TZNAME:CEST
DTSTART:20180325T010000
END:DAYLIGHT
BEGIN:STANDARD
TZOFFSETFROM:+0200
TZOFFSETTO:+0100
TZNAME:CET
DTSTART:20181028T010000
END:STANDARD
END:VTIMEZONE
BEGIN:VEVENT
DTSTART;VALUE=DATE:20180514
DTEND;VALUE=DATE:20180516
DTSTAMP:20260425T203002
CREATED:20180104T131349Z
LAST-MODIFIED:20180104T131349Z
UID:3277-1526256000-1526428799@vivatselvmordsforebygging.net
SUMMARY:Oslo\, Førstehjelp ved selvmordsfare
DESCRIPTION:Det arrangeres kurs for ansatte i Bydel Alna. Kurset er lukket. \nKontaktperson er Anette S. Skrindo\, e-post: anette@skrindo.no \n
URL:https://vivatselvmordsforebygging.net/event/oslo-forstehjelp-ved-selvmordsfare-32/
LOCATION:Oslo\, Norge
CATEGORIES:Kurs,Førstehjelp ved selvmordsfare,Øst
GEO:60.472024;8.468946
END:VEVENT
BEGIN:VEVENT
DTSTART;VALUE=DATE:20180514
DTEND;VALUE=DATE:20180516
DTSTAMP:20260425T203002
CREATED:20180223T101548Z
LAST-MODIFIED:20180223T101548Z
UID:3392-1526256000-1526428799@vivatselvmordsforebygging.net
SUMMARY:Tromsø\, Førstehjelp ved selvmordsfare
DESCRIPTION:Det arrangeres to kurs for 2. års medisinerstudenter ved Universitetet i Tromsø. Kursene er lukket. \nKontaktperson er studiekonsulent Anne Sofie S. Solbø\, e-post: anne.s.solbo@uit.no \n
URL:https://vivatselvmordsforebygging.net/event/tromso-forstehjelp-ved-selvmordsfare-27/
LOCATION:Tromsø\, Fiolveien 15\, Tromsø\, Troms\, 9016\, Norge
CATEGORIES:Kurs,Førstehjelp ved selvmordsfare,Nord
GEO:69.6857553;18.9930926
X-APPLE-STRUCTURED-LOCATION;VALUE=URI;X-ADDRESS=Tromsø Fiolveien 15 Tromsø Troms 9016 Norge;X-APPLE-RADIUS=500;X-TITLE=Fiolveien 15:geo:18.9930926,69.6857553
END:VEVENT
BEGIN:VEVENT
DTSTART;VALUE=DATE:20180514
DTEND;VALUE=DATE:20180516
DTSTAMP:20260425T203002
CREATED:20180412T113357Z
LAST-MODIFIED:20180412T113417Z
UID:3452-1526256000-1526428799@vivatselvmordsforebygging.net
SUMMARY:Ålesund\, Førstehjelp ved selvmordsfare
DESCRIPTION:Ålesund kommune arrangerer kurset Førstehjelp ved selvmordsfare i samarbeid med VIVAT selvmordsforebygging. Målgruppa for kurset er ansatte i Ålesund – og omkringliggende kommuner. Kurset er et av de subsidierte kursene fra Helsedirektoratet i 2018. \nKontaktperson er Lisbeth D. Slyngstad\, e-post: Lisbeth.Dor.Slyngstad@alesund.kommune.no \n
URL:https://vivatselvmordsforebygging.net/event/alesund-forstehjelp-ved-selvmordsfare-6/
LOCATION:Ålesund\, Møre og Romsdal\, 6000\, Norge
CATEGORIES:Kurs,Førstehjelp ved selvmordsfare,Midt
GEO:62.670816;8.5487784
END:VEVENT
BEGIN:VEVENT
DTSTART;VALUE=DATE:20180514
DTEND;VALUE=DATE:20180516
DTSTAMP:20260425T203002
CREATED:20180413T074104Z
LAST-MODIFIED:20180413T103511Z
UID:3458-1526256000-1526428799@vivatselvmordsforebygging.net
SUMMARY:Stord\, Førstehjelp ved selvmordsfare
DESCRIPTION:RVTS Vest arrangerer kurs på Stord 14.-15. mai. Kurset er lukket og del av kompetansehevingsprogram. Dersom ledige plasser\, kan eksterne delta. \nKontaktperson er Linda Renate Kvalvik\, e-post: linda.renate.kvalvik@helse-bergen.no \n
URL:https://vivatselvmordsforebygging.net/event/stord-forstehjelp-ved-selvmordsfare/
LOCATION:Stord
CATEGORIES:Kurs,Førstehjelp ved selvmordsfare,Vest
END:VEVENT
BEGIN:VEVENT
DTSTART;VALUE=DATE:20180514
DTEND;VALUE=DATE:20180516
DTSTAMP:20260425T203002
CREATED:20180506T170857Z
LAST-MODIFIED:20180506T170857Z
UID:3513-1526256000-1526428799@vivatselvmordsforebygging.net
SUMMARY:Kristiansand\, Førstehjelp ved selvmordsfare
DESCRIPTION:Studentsamskipnaden i Agder arrangerer kurset Førstehjelp ved selvmordsfare. Kurset er for studenter på Universitetet i Agder\, Campus Kristiansand. \nKontaktperson er Trine-Lise Buestad\, e-post: trine-lise.buestad@uia.no \n
URL:https://vivatselvmordsforebygging.net/event/kristiansand-forstehjelp-ved-selvmordsfare-14/
LOCATION:Kristiansand\, Kristiansand\, Vest-Agder\, 4600\, Norge
CATEGORIES:Kurs,Førstehjelp ved selvmordsfare,Sør
GEO:58.1611426;8.0307271
END:VEVENT
END:VCALENDAR