BEGIN:VCALENDAR
VERSION:2.0
PRODID:-//vivat - ECPv4.9.14//NONSGML v1.0//EN
CALSCALE:GREGORIAN
METHOD:PUBLISH
X-WR-CALNAME:vivat
X-ORIGINAL-URL:https://vivatselvmordsforebygging.net
X-WR-CALDESC:Events for vivat
BEGIN:VTIMEZONE
TZID:Europe/Oslo
BEGIN:DAYLIGHT
TZOFFSETFROM:+0100
TZOFFSETTO:+0200
TZNAME:CEST
DTSTART:20180325T010000
END:DAYLIGHT
BEGIN:STANDARD
TZOFFSETFROM:+0200
TZOFFSETTO:+0100
TZNAME:CET
DTSTART:20181028T010000
END:STANDARD
END:VTIMEZONE
BEGIN:VEVENT
DTSTART;VALUE=DATE:20180522
DTEND;VALUE=DATE:20180524
DTSTAMP:20260425T202737
CREATED:20180413T073703Z
LAST-MODIFIED:20180413T073703Z
UID:3457-1526947200-1527119999@vivatselvmordsforebygging.net
SUMMARY:Bergen\, Førstehjelp ved selvmordsfare
DESCRIPTION:RVTS Vest arrangerer kurset Førstehjelp ved selvmordsfare i Bergen 22.-23. mai 2018. kurset er åpent for alle å melde seg på. \nFor nærmere informasjon\, se: Invitasjon med påmeldingsinformasjon \nKontaktperson er Annie Norevik\, e-post: annie.norevik@helse-bergen.no \n  \n  \n
URL:https://vivatselvmordsforebygging.net/event/bergen-forstehjelp-ved-selvmordsfare-39/
LOCATION:Bergen\, Hordaland\, 5000\, Norge
CATEGORIES:Kurs,Førstehjelp ved selvmordsfare,Vest
GEO:59.4199474;5.2725679
END:VEVENT
BEGIN:VEVENT
DTSTART;VALUE=DATE:20180522
DTEND;VALUE=DATE:20180524
DTSTAMP:20260425T202737
CREATED:20180423T132807Z
LAST-MODIFIED:20180423T132843Z
UID:3490-1526947200-1527119999@vivatselvmordsforebygging.net
SUMMARY:Tønsberg\, Førstehjelp ved selvmordsfare
DESCRIPTION:Kurset Førstehjelp ved selvmordsfare arrangeres i Tønsberg 22.-23. mai. Kurset er for ansatte i Tønsberg kommune. \nKontaktperson er Elisabeth Kehlet\, e-post: elisabeth.kehlet@sandefjord.kommune.no \n
URL:https://vivatselvmordsforebygging.net/event/tonsberg-forstehjelp-ved-selvmordsfare-4/
LOCATION:Tønsberg\, Vestfold\, 3111\, Norge
CATEGORIES:Kurs,Førstehjelp ved selvmordsfare,Sør
GEO:59.2714895;10.4002167
END:VEVENT
END:VCALENDAR