BEGIN:VCALENDAR
VERSION:2.0
PRODID:-//vivat - ECPv4.9.14//NONSGML v1.0//EN
CALSCALE:GREGORIAN
METHOD:PUBLISH
X-WR-CALNAME:vivat
X-ORIGINAL-URL:https://vivatselvmordsforebygging.net
X-WR-CALDESC:Events for vivat
BEGIN:VTIMEZONE
TZID:Europe/Oslo
BEGIN:DAYLIGHT
TZOFFSETFROM:+0100
TZOFFSETTO:+0200
TZNAME:CEST
DTSTART:20180325T010000
END:DAYLIGHT
BEGIN:STANDARD
TZOFFSETFROM:+0200
TZOFFSETTO:+0100
TZNAME:CET
DTSTART:20181028T010000
END:STANDARD
END:VTIMEZONE
BEGIN:VEVENT
DTSTART;VALUE=DATE:20180530
DTEND;VALUE=DATE:20180601
DTSTAMP:20260425T190922
CREATED:20180301T132028Z
LAST-MODIFIED:20180301T132028Z
UID:3407-1527638400-1527811199@vivatselvmordsforebygging.net
SUMMARY:Oslo\, Førstehjelp ved selvmordsfare
DESCRIPTION:Helseetaten i Oslo kommune arrangerer kurs for ansatte. Kurset er lukket. \nKontaktperson er Anette S. Skrindo\, e-post: anette@skrindo.no \n
URL:https://vivatselvmordsforebygging.net/event/oslo-forstehjelp-ved-selvmordsfare-34/
LOCATION:Oslo\, Norge
CATEGORIES:Kurs,Førstehjelp ved selvmordsfare,Øst
GEO:60.472024;8.468946
END:VEVENT
BEGIN:VEVENT
DTSTART;VALUE=DATE:20180530
DTEND;VALUE=DATE:20180531
DTSTAMP:20260425T190922
CREATED:20180412T104435Z
LAST-MODIFIED:20180412T104435Z
UID:3451-1527638400-1527724799@vivatselvmordsforebygging.net
SUMMARY:Larvik\, safeTALK
DESCRIPTION:Det arrangeres safeTALK for alle helsesøstre i Larvik kommune 30. mai. \nKontaktperson er Herdis Irene Tobiassen\, e-post: herdis.irene.tobiassen@larvik.kommune.no \n
URL:https://vivatselvmordsforebygging.net/event/larvik-safetalk-3/
LOCATION:Larvik
CATEGORIES:Kurs,Oppmerksom på selvmordstanker,Sør
END:VEVENT
END:VCALENDAR