BEGIN:VCALENDAR
VERSION:2.0
PRODID:-//vivat - ECPv4.9.14//NONSGML v1.0//EN
CALSCALE:GREGORIAN
METHOD:PUBLISH
X-WR-CALNAME:vivat
X-ORIGINAL-URL:https://vivatselvmordsforebygging.net
X-WR-CALDESC:Events for vivat
BEGIN:VTIMEZONE
TZID:Europe/Oslo
BEGIN:DAYLIGHT
TZOFFSETFROM:+0100
TZOFFSETTO:+0200
TZNAME:CEST
DTSTART:20180325T010000
END:DAYLIGHT
BEGIN:STANDARD
TZOFFSETFROM:+0200
TZOFFSETTO:+0100
TZNAME:CET
DTSTART:20181028T010000
END:STANDARD
END:VTIMEZONE
BEGIN:VEVENT
DTSTART;TZID=Europe/Oslo:20180606T090000
DTEND;TZID=Europe/Oslo:20180628T153000
DTSTAMP:20260425T190847
CREATED:20180628T163022Z
LAST-MODIFIED:20180628T163022Z
UID:3598-1528275600-1530199800@vivatselvmordsforebygging.net
SUMMARY:Silsand\, FriskOpp
DESCRIPTION:Senter for psykisk helse og rus\, Midt-Troms arrangerer FriskOpp på Silsand. Kurset er for tidligere deltakere på Førstehjelp ved selvmordsfare. \nKontaktperson er Liv Ester Renland\, e-post: liv.ester.renland@unn.no \n
URL:https://vivatselvmordsforebygging.net/event/silsand-friskopp/
LOCATION:Silsand\, Troms\, 9303\, Norge
CATEGORIES:Kurs,FriskOpp,Nord
GEO:69.2683077;17.6787919
END:VEVENT
BEGIN:VEVENT
DTSTART;VALUE=DATE:20180620
DTEND;VALUE=DATE:20180622
DTSTAMP:20260425T190847
CREATED:20180525T071910Z
LAST-MODIFIED:20180618T104525Z
UID:3521-1529452800-1529625599@vivatselvmordsforebygging.net
SUMMARY:Trondheim\, Førstehjelp ved selvmordsfare
DESCRIPTION:Dette kurset er utsatt \nRVTS-Midt arrangerer kurset Førstehjelp ved selvmordsfare 20.-21. juni. Kurset er åpent for alle å melde seg på. Se Invitasjon med påmeldingsinformasjon \nKontaktperson er Rune Nilsen\, e-post: runeonilsen@gmail.com \n
URL:https://vivatselvmordsforebygging.net/event/trondheim-forstehjelp-ved-selvmordsfare-33/
LOCATION:Trondheim\, Trondheim\, Sør-Trøndelag\, 7000\, Norge
CATEGORIES:Kurs,Førstehjelp ved selvmordsfare,Midt
GEO:63.427569;10.393207
END:VEVENT
END:VCALENDAR