BEGIN:VCALENDAR
VERSION:2.0
PRODID:-//vivat - ECPv4.9.14//NONSGML v1.0//EN
CALSCALE:GREGORIAN
METHOD:PUBLISH
X-WR-CALNAME:vivat
X-ORIGINAL-URL:https://vivatselvmordsforebygging.net
X-WR-CALDESC:Events for vivat
BEGIN:VTIMEZONE
TZID:Europe/Oslo
BEGIN:DAYLIGHT
TZOFFSETFROM:+0100
TZOFFSETTO:+0200
TZNAME:CEST
DTSTART:20180325T010000
END:DAYLIGHT
BEGIN:STANDARD
TZOFFSETFROM:+0200
TZOFFSETTO:+0100
TZNAME:CET
DTSTART:20181028T010000
END:STANDARD
END:VTIMEZONE
BEGIN:VEVENT
DTSTART;VALUE=DATE:20180905
DTEND;VALUE=DATE:20180907
DTSTAMP:20260425T153348
CREATED:20180628T143131Z
LAST-MODIFIED:20180628T143131Z
UID:3593-1536105600-1536278399@vivatselvmordsforebygging.net
SUMMARY:Vadsø\, Førstehjelp ved selvmordsfare
DESCRIPTION:Vivat arrangerer kurset Førstehjelp ved selvmordsfare i samarbeid med Vadsø kommune. Kurset er for ansatte i Vadsø kommune. Dette er et av Helsedirektoratets sponsede kurs for kommuner i 2018. \nKontaktperson er Arne Leikvoll\, e-post: arne.leikvoll@vadso.kommune.no \n
URL:https://vivatselvmordsforebygging.net/event/vadso-forstehjelp-ved-selvmordsfare/
LOCATION:Vadsø\, Vadsø\, Finnmark\, Norge
CATEGORIES:Kurs,Førstehjelp ved selvmordsfare,Nord
GEO:70.0745056;29.7481181
END:VEVENT
BEGIN:VEVENT
DTSTART;VALUE=DATE:20180905
DTEND;VALUE=DATE:20180907
DTSTAMP:20260425T153348
CREATED:20180808T130452Z
LAST-MODIFIED:20180808T130452Z
UID:3635-1536105600-1536278399@vivatselvmordsforebygging.net
SUMMARY:Tromsø\, Førstehjelp ved selvmordsfare
DESCRIPTION:Institutt for psykologi ved UIT arrangerer kurs for studenter på psykologi profesjon. Kurset er lukket. \nKontaktperson er Ingvild N. Myrbakk\, e-post: ingvild.n.myrbakk@uit.no \n
URL:https://vivatselvmordsforebygging.net/event/tromso-forstehjelp-ved-selvmordsfare-32/
LOCATION:Tromsø\, Fiolveien 15\, Tromsø\, Troms\, 9016\, Norge
CATEGORIES:Kurs,Førstehjelp ved selvmordsfare,Nord
GEO:69.6857553;18.9930926
X-APPLE-STRUCTURED-LOCATION;VALUE=URI;X-ADDRESS=Tromsø Fiolveien 15 Tromsø Troms 9016 Norge;X-APPLE-RADIUS=500;X-TITLE=Fiolveien 15:geo:18.9930926,69.6857553
END:VEVENT
BEGIN:VEVENT
DTSTART;VALUE=DATE:20180905
DTEND;VALUE=DATE:20180906
DTSTAMP:20260425T153348
CREATED:20180820T142055Z
LAST-MODIFIED:20180821T084155Z
UID:3660-1536105600-1536191999@vivatselvmordsforebygging.net
SUMMARY:Mo i Rana\, safeTALK
DESCRIPTION:Det skal arrangeres kurs på Røde Kors-huset i Mo i Rana 5. september. Kurset er for frivillige i Røde Kors og er sponset med midler fra Helsedirektoratet. \nKontaktperson er Lill-Esther Nilsen\, e-post: lill.esther.nilsen@rana.kommune.no \n
URL:https://vivatselvmordsforebygging.net/event/mo-i-rana-safetalk-2/
LOCATION:Mo i Rana\, Mo i Rana\, Nordland\, 8600\, Norge
CATEGORIES:Kurs,Oppmerksom på selvmordstanker,Nord
GEO:66.3138689;14.1326192
END:VEVENT
END:VCALENDAR