BEGIN:VCALENDAR
VERSION:2.0
PRODID:-//vivat - ECPv4.9.14//NONSGML v1.0//EN
CALSCALE:GREGORIAN
METHOD:PUBLISH
X-WR-CALNAME:vivat
X-ORIGINAL-URL:https://vivatselvmordsforebygging.net
X-WR-CALDESC:Events for vivat
BEGIN:VTIMEZONE
TZID:Europe/Oslo
BEGIN:DAYLIGHT
TZOFFSETFROM:+0100
TZOFFSETTO:+0200
TZNAME:CEST
DTSTART:20180325T010000
END:DAYLIGHT
BEGIN:STANDARD
TZOFFSETFROM:+0200
TZOFFSETTO:+0100
TZNAME:CET
DTSTART:20181028T010000
END:STANDARD
END:VTIMEZONE
BEGIN:VEVENT
DTSTART;VALUE=DATE:20180918
DTEND;VALUE=DATE:20180920
DTSTAMP:20260425T153212
CREATED:20180618T121228Z
LAST-MODIFIED:20180618T121228Z
UID:3567-1537228800-1537401599@vivatselvmordsforebygging.net
SUMMARY:Hønefoss\, Førstehjelp ved selvmordsfare
DESCRIPTION:Ringerike fengsel arrangerer kurset Førstehjelp ved selvmordsfare i samarbeid med Vivat. Kurset er for fengselsbetjenter i Ringerike fengsel på Tyristrand.  Dette er et av kursene Helsedirektoratet har bevilget ekstra midler til. \nKontaktperson er Siw-Anita K. Tragethon\, e-post: siw-anita@tragethon.no \n
URL:https://vivatselvmordsforebygging.net/event/honefoss-forstehjelp-ved-selvmordsfare-4/
LOCATION:Hønefoss\, Soknedalsveien 25\, Buskerud\, 3517\, Norge
CATEGORIES:Kurs,Førstehjelp ved selvmordsfare,Sør
GEO:60.1712621;10.2403012
X-APPLE-STRUCTURED-LOCATION;VALUE=URI;X-ADDRESS=Hønefoss Soknedalsveien 25 Buskerud 3517 Norge;X-APPLE-RADIUS=500;X-TITLE=Soknedalsveien 25:geo:10.2403012,60.1712621
END:VEVENT
BEGIN:VEVENT
DTSTART;VALUE=DATE:20180918
DTEND;VALUE=DATE:20180920
DTSTAMP:20260425T153212
CREATED:20180829T164420Z
LAST-MODIFIED:20180904T132611Z
UID:3702-1537228800-1537401599@vivatselvmordsforebygging.net
SUMMARY:Sessvollmoen\, Førstehjelp ved selvmordsfare
DESCRIPTION:Forsvaret arrangerer kurset Førstehjelp ved selvmordsfare for militært personell 18.-19. september. Kurset er lukket. \nKontaktperson er Adelheid Skredlund\, e-post: askredlund@mil.no \n
URL:https://vivatselvmordsforebygging.net/event/sessvollmoen-forstehjelp-ved-selvmordsfare/
LOCATION:Sessvollmoen\, Buskerud\, 2058\, Norge
CATEGORIES:Kurs,Førstehjelp ved selvmordsfare,Øst
GEO:35.0204237;-97.9727427
END:VEVENT
BEGIN:VEVENT
DTSTART;VALUE=DATE:20180919
DTEND;VALUE=DATE:20180921
DTSTAMP:20260425T153212
CREATED:20180525T075029Z
LAST-MODIFIED:20180525T075045Z
UID:3534-1537315200-1537487999@vivatselvmordsforebygging.net
SUMMARY:Kristiansand\, Førstehjelp ved selvmordsfare
DESCRIPTION:RVTS-Sør arrangerer kurset Førstehjelp ved selvmordsfare for boligtjenesten i Kristiansand kommune. Kurset er del av et kompetansebyggende program\, og er derfor lukket for andre. \nKontaktperson er Øyvind Dåsvatn\, e-post: oyvind.dasvatn@rvtssor.no \n
URL:https://vivatselvmordsforebygging.net/event/kristiansand-forstehjelp-ved-selvmordsfare-18/
LOCATION:Kristiansand\, Kristiansand\, Vest-Agder\, 4600\, Norge
CATEGORIES:Kurs,Førstehjelp ved selvmordsfare,Sør
GEO:58.1611426;8.0307271
END:VEVENT
BEGIN:VEVENT
DTSTART;VALUE=DATE:20180919
DTEND;VALUE=DATE:20180921
DTSTAMP:20260425T153212
CREATED:20180820T135103Z
LAST-MODIFIED:20180820T135103Z
UID:3656-1537315200-1537487999@vivatselvmordsforebygging.net
SUMMARY:Oslo\, Førstehjelp ved selvmordsfare
DESCRIPTION:VID vitenskapelige høgskole arrangerer kurs 19.-20. september. \nKontaktperson er Elisabeth Nilsen Aas\, e-post: elisabeth.nilsen.aas@vid.no \n
URL:https://vivatselvmordsforebygging.net/event/oslo-forstehjelp-ved-selvmordsfare-37/
LOCATION:Oslo\, Buskerud\, Norge
CATEGORIES:Kurs,Førstehjelp ved selvmordsfare,Øst
GEO:60.472024;8.468946
END:VEVENT
BEGIN:VEVENT
DTSTART;VALUE=DATE:20180919
DTEND;VALUE=DATE:20180921
DTSTAMP:20260425T153212
CREATED:20180820T141356Z
LAST-MODIFIED:20180820T141356Z
UID:3659-1537315200-1537487999@vivatselvmordsforebygging.net
SUMMARY:Harstad\, Førstehjelp ved selvmordsfare
DESCRIPTION:Kystjegerkommandoen i Forsvaret arrangerer kurs i Trondenes Leir 19.-20. september. Kurset er for militært personell og sivile samarbeidspartnere. \nKontaktperson er Knut Helge Kråkenes Moe\, e-post: kmoe@mil.no \n
URL:https://vivatselvmordsforebygging.net/event/harstad-forstehjelp-ved-selvmordsfare-8/
LOCATION:Harstad\, Troms\, 9407\, Norge
CATEGORIES:Kurs,Førstehjelp ved selvmordsfare,Nord
GEO:68.7808047;16.5163207
END:VEVENT
BEGIN:VEVENT
DTSTART;TZID=Europe/Oslo:20180919T120500
DTEND;TZID=Europe/Oslo:20180919T160500
DTSTAMP:20260425T153212
CREATED:20180829T172932Z
LAST-MODIFIED:20180918T134328Z
UID:3707-1537358700-1537373100@vivatselvmordsforebygging.net
SUMMARY:Andenes\, safeTALK
DESCRIPTION:133 luftving arrangeer kurs på Andøya Flystasjon 19. september. Kurset er for ansatte på 133 luftving som skal gå vakter som inspiserende befal på luftvingen. Kurset er i utgangspunktet lukket\, men eksterne har mulighet til å melde seg på ved ledig kapasitet. \nKontaktperson er Hanna Mikalsen\, e-post: hanna.mikalsen@hotmail.com \n
URL:https://vivatselvmordsforebygging.net/event/andoy-safetalk/
LOCATION:Andøy\, Buskerud
CATEGORIES:Kurs,Oppmerksom på selvmordstanker,Nord
END:VEVENT
END:VCALENDAR