BEGIN:VCALENDAR
VERSION:2.0
PRODID:-//vivat - ECPv4.9.14//NONSGML v1.0//EN
CALSCALE:GREGORIAN
METHOD:PUBLISH
X-WR-CALNAME:vivat
X-ORIGINAL-URL:https://vivatselvmordsforebygging.net
X-WR-CALDESC:Events for vivat
BEGIN:VTIMEZONE
TZID:Europe/Oslo
BEGIN:DAYLIGHT
TZOFFSETFROM:+0100
TZOFFSETTO:+0200
TZNAME:CEST
DTSTART:20180325T010000
END:DAYLIGHT
BEGIN:STANDARD
TZOFFSETFROM:+0200
TZOFFSETTO:+0100
TZNAME:CET
DTSTART:20181028T010000
END:STANDARD
END:VTIMEZONE
BEGIN:VEVENT
DTSTART;VALUE=DATE:20180924
DTEND;VALUE=DATE:20180926
DTSTAMP:20260425T153144
CREATED:20180909T174758Z
LAST-MODIFIED:20180909T175017Z
UID:3748-1537747200-1537919999@vivatselvmordsforebygging.net
SUMMARY:Bergen\, Førstehjelp ved selvmordsfare
DESCRIPTION:Vivat inviterer til Førstehjelp ved selvmordsfare i forbindelse med verdensdagen for forebygging av selvmord. Kurset er åpent for alle å melde seg på og er gratis. \nKontaktperson er Randi T. Nordvik\, e-post: post@mennesketifokus.no \n
URL:https://vivatselvmordsforebygging.net/event/bergen-forstehjelp-ved-selvmordsfare-45/
LOCATION:Bergen\, Hordaland\, 5000\, Norge
CATEGORIES:Kurs,Førstehjelp ved selvmordsfare,Vest
GEO:59.4199474;5.2725679
END:VEVENT
BEGIN:VEVENT
DTSTART;VALUE=DATE:20180925
DTEND;VALUE=DATE:20180927
DTSTAMP:20260425T153144
CREATED:20180618T134652Z
LAST-MODIFIED:20180618T134714Z
UID:3571-1537833600-1538006399@vivatselvmordsforebygging.net
SUMMARY:Sandefjord\, Førstehjelp ved selvmordsfare
DESCRIPTION:Sandefjord kommune arrangerer kurset Førstehjelp ved selvmordsfare 25.-26. september. Kurset er for kommunens ansatte og ansatte hos noen av kommunens samarbeidspartnere. \nKontaktperson er Harald Heggernes\, e-post: harald.heggernes@sandefjord.kommune.no \n
URL:https://vivatselvmordsforebygging.net/event/sandefjord-forstehjelp-ved-selvmordsfare-8/
LOCATION:Sandefjord\, Storgata 20\, Sandefjord\, Vestfold\, 3210\, Norge
CATEGORIES:Kurs,Førstehjelp ved selvmordsfare,Sør
GEO:59.1260689;10.221326
X-APPLE-STRUCTURED-LOCATION;VALUE=URI;X-ADDRESS=Sandefjord Storgata 20 Sandefjord Vestfold 3210 Norge;X-APPLE-RADIUS=500;X-TITLE=Storgata 20:geo:10.221326,59.1260689
END:VEVENT
BEGIN:VEVENT
DTSTART;VALUE=DATE:20180925
DTEND;VALUE=DATE:20180927
DTSTAMP:20260425T153144
CREATED:20180628T093843Z
LAST-MODIFIED:20180628T093905Z
UID:3590-1537833600-1538006399@vivatselvmordsforebygging.net
SUMMARY:Tromsø\, Førstehjelp ved selvmordsfare
DESCRIPTION:Vivat arrangerer kurset Førstehjelp ved selvmordsfare i Tromsø 25.-26. september. Kurset er åpent for alle å melde seg på. \nInvitasjon til kurset med link til påmelding finner du her \nFor nærmere informasjon\, ta kontakt med Vivat\, e-post: vivat@unn.no \n
URL:https://vivatselvmordsforebygging.net/event/tromso-forstehjelp-ved-selvmordsfare-31/
LOCATION:Tromsø\, Tromsø\, Troms\, 9010\, Norge
CATEGORIES:Kurs,Førstehjelp ved selvmordsfare,Nord
GEO:69.6690983;18.975498
END:VEVENT
BEGIN:VEVENT
DTSTART;VALUE=DATE:20180925
DTEND;VALUE=DATE:20180926
DTSTAMP:20260425T153144
CREATED:20180821T083941Z
LAST-MODIFIED:20180821T083941Z
UID:3668-1537833600-1537919999@vivatselvmordsforebygging.net
SUMMARY:Bergen\, safeTALK
DESCRIPTION:Bergen kompetansesenter for læringsmiljø arrangerer kurs på Åstveit skole 25. september. \nKontaktperson er Tine Hammerich\, e-post: tine.hammerich@bergen.kommune.no \n
URL:https://vivatselvmordsforebygging.net/event/bergen-safetalk-5/
LOCATION:Bergen\, Hordaland\, 5000\, Norge
CATEGORIES:Kurs,Oppmerksom på selvmordstanker,Vest
GEO:59.4199474;5.2725679
END:VEVENT
BEGIN:VEVENT
DTSTART;VALUE=DATE:20180925
DTEND;VALUE=DATE:20180926
DTSTAMP:20260425T153144
CREATED:20180830T084346Z
LAST-MODIFIED:20180830T084427Z
UID:3727-1537833600-1537919999@vivatselvmordsforebygging.net
SUMMARY:Oslo\, SafeTALK
DESCRIPTION:VID arrangerer kurs for sosionomstudenter i deltidsstudie. Kurset er lukket. \nKontaktperson er Anette S. Skrindo\, e-post: anette.seierstad.skrindo@unn.no \n
URL:https://vivatselvmordsforebygging.net/event/oslo-safetalk-6/
LOCATION:Oslo\, Hordaland\, Norge
CATEGORIES:Kurs,Oppmerksom på selvmordstanker,Øst
GEO:60.472024;8.468946
END:VEVENT
END:VCALENDAR