BEGIN:VCALENDAR
VERSION:2.0
PRODID:-//vivat - ECPv4.9.14//NONSGML v1.0//EN
CALSCALE:GREGORIAN
METHOD:PUBLISH
X-WR-CALNAME:vivat
X-ORIGINAL-URL:https://vivatselvmordsforebygging.net
X-WR-CALDESC:Events for vivat
BEGIN:VTIMEZONE
TZID:Europe/Oslo
BEGIN:DAYLIGHT
TZOFFSETFROM:+0100
TZOFFSETTO:+0200
TZNAME:CEST
DTSTART:20180325T010000
END:DAYLIGHT
BEGIN:STANDARD
TZOFFSETFROM:+0200
TZOFFSETTO:+0100
TZNAME:CET
DTSTART:20181028T010000
END:STANDARD
END:VTIMEZONE
BEGIN:VEVENT
DTSTART;VALUE=DATE:20181003
DTEND;VALUE=DATE:20181005
DTSTAMP:20260425T135314
CREATED:20180809T120332Z
LAST-MODIFIED:20180809T120332Z
UID:3637-1538524800-1538697599@vivatselvmordsforebygging.net
SUMMARY:Loppa\, Førstehjelp ved selvmordsfare
DESCRIPTION:Loppa kommune arrangerer kurs for ansatte i Loppa og nærliggende kommuner 3.-4. oktober. \nKontaktperson er Christine Trondal\, e-post: christine.trondal@loppa.kommune.no \n
URL:https://vivatselvmordsforebygging.net/event/loppa-forstehjelp-ved-selvmordsfare/
LOCATION:Loppa
CATEGORIES:Kurs,Førstehjelp ved selvmordsfare,Nord
END:VEVENT
BEGIN:VEVENT
DTSTART;VALUE=DATE:20181003
DTEND;VALUE=DATE:20181005
DTSTAMP:20260425T135314
CREATED:20180905T091614Z
LAST-MODIFIED:20180905T091614Z
UID:3739-1538524800-1538697599@vivatselvmordsforebygging.net
SUMMARY:Molde\, Førstehjelp ved selvmordsfare
DESCRIPTION:Vivat og Kirkens SOS inviterer til kurset Førstehjelp ved selvmordsfare. Kurset er  for frivillige i Molde. Dette kurset er et av Helsedirektoratets sponsa kurs til frivillige organisasjoner i 2018. \nKontaktperson er Annett Eidem Røsok\, e-post: annett.eidem.rosok@molde.kommune.no \n
URL:https://vivatselvmordsforebygging.net/event/molde-forstehjelp-ved-selvmordsfare-6/
LOCATION:Molde\, Molde\, Molde\, 6400\, Norge
CATEGORIES:Kurs,Førstehjelp ved selvmordsfare,Midt
GEO:62.7484101;7.1268681
END:VEVENT
BEGIN:VEVENT
DTSTART;VALUE=DATE:20181004
DTEND;VALUE=DATE:20181006
DTSTAMP:20260425T135314
CREATED:20180921T101505Z
LAST-MODIFIED:20180921T101505Z
UID:3778-1538611200-1538783999@vivatselvmordsforebygging.net
SUMMARY:Namsos\, Førstehjelp ved selvmordsfare
DESCRIPTION:Ambulansetjenesten\, prehospital klinikk\, Helse Nord-Trøndelag HF arrangerer kurs for ambulansepersonell. Kurset er lukket. \nKontaktperson er Wenche Burheim\, e-post: wenche.burheim@helse-nordtrondelag.no \n
URL:https://vivatselvmordsforebygging.net/event/namsos-forstehjelp-ved-selvmordsfare/
LOCATION:Namsos
CATEGORIES:Kurs,Førstehjelp ved selvmordsfare,Midt
END:VEVENT
END:VCALENDAR