BEGIN:VCALENDAR
VERSION:2.0
PRODID:-//vivat - ECPv4.9.14//NONSGML v1.0//EN
CALSCALE:GREGORIAN
METHOD:PUBLISH
X-WR-CALNAME:vivat
X-ORIGINAL-URL:https://vivatselvmordsforebygging.net
X-WR-CALDESC:Events for vivat
BEGIN:VTIMEZONE
TZID:Europe/Oslo
BEGIN:DAYLIGHT
TZOFFSETFROM:+0100
TZOFFSETTO:+0200
TZNAME:CEST
DTSTART:20180325T010000
END:DAYLIGHT
BEGIN:STANDARD
TZOFFSETFROM:+0200
TZOFFSETTO:+0100
TZNAME:CET
DTSTART:20181028T010000
END:STANDARD
END:VTIMEZONE
BEGIN:VEVENT
DTSTART;VALUE=DATE:20181008
DTEND;VALUE=DATE:20181010
DTSTAMP:20260425T134943
CREATED:20180525T073535Z
LAST-MODIFIED:20180525T073535Z
UID:3528-1538956800-1539129599@vivatselvmordsforebygging.net
SUMMARY:Oppegård\, Førstehjelp ved selvmordsfare
DESCRIPTION:Oppegård kommune arrangerer kurset Førstehjelp ved selvmordsfare 8.-9. oktober. Kurset er for ulike arbeidsplasser i kommunen og for andre interesserte. \nKontaktperson er René Gjøg\, e-post: rene.gjog@oppegard.kommune.no \n
URL:https://vivatselvmordsforebygging.net/event/oppegard-forstehjelp-ved-selvmordsfare/
LOCATION:Oppegård
CATEGORIES:Kurs,Førstehjelp ved selvmordsfare,Øst
END:VEVENT
BEGIN:VEVENT
DTSTART;VALUE=DATE:20181009
DTEND;VALUE=DATE:20181011
DTSTAMP:20260425T134943
CREATED:20180820T145624Z
LAST-MODIFIED:20180907T080634Z
UID:3666-1539043200-1539215999@vivatselvmordsforebygging.net
SUMMARY:Oslo\, Førstehjelp ved selvmordsfare
DESCRIPTION:KURSET ER FULLTEGNET \nVivat arrangerer  kurs i forbindelse med verdensdagen for selvmordsforebygging. Kurset er åpent for alle å melde seg på. \nKontaktperson er Camilla Helene Weedon\, e-post: camilla.weedon@baerum.kommune.no \n
URL:https://vivatselvmordsforebygging.net/event/oslo-forstehjelp-ved-selvmordsfare-38/
LOCATION:Oslo\, Norge
CATEGORIES:Kurs,Førstehjelp ved selvmordsfare,Øst
GEO:60.472024;8.468946
END:VEVENT
BEGIN:VEVENT
DTSTART;VALUE=DATE:20181009
DTEND;VALUE=DATE:20181011
DTSTAMP:20260425T134943
CREATED:20180829T170523Z
LAST-MODIFIED:20180829T170523Z
UID:3704-1539043200-1539215999@vivatselvmordsforebygging.net
SUMMARY:Storsteinnes\, Førstehjelp ved selvmordsfare
DESCRIPTION:UNN HF\, Senter for psykisk helse og rusbehandling\, Døgn Storsteinnes arrangerer kurset Førstehjelp ved selvmordsfare 9.-10. oktober. Kurset er for egne ansatte og Balsfjord kommune inviteres med. \nKontaktpersoner:  Vibeke Lisa Malmo\, e-post: vibeke.malmo@unn.no og Birgit Gadke\, e-post: birgit.gadke@unn.no \n  \n
URL:https://vivatselvmordsforebygging.net/event/storsteinnes-forstehjelp-ved-selvmordsfare/
LOCATION:Storsteinnes
CATEGORIES:Kurs,Førstehjelp ved selvmordsfare,Nord
END:VEVENT
BEGIN:VEVENT
DTSTART;VALUE=DATE:20181009
DTEND;VALUE=DATE:20181011
DTSTAMP:20260425T134943
CREATED:20180907T115859Z
LAST-MODIFIED:20180907T115859Z
UID:3742-1539043200-1539215999@vivatselvmordsforebygging.net
SUMMARY:Mo i Rana\, Førstehjelp ved selvmordsfare
DESCRIPTION:Kurset Førstehjelp ved selvmordsfare skal arrangeres i Mo i Rana 9.-10. oktober. Kurset er åpent. Se vedlagte invitasjon \nKontaktperson er Lill-Esther Nilsen\, e-post: lill.esther.nilsen@rana.kommune.no \n
URL:https://vivatselvmordsforebygging.net/event/mo-i-rana-forstehjelp-ved-selvmordsfare-4/
LOCATION:Mo i Rana\, Mo i Rana\, Nordland\, 8600\, Norge
CATEGORIES:Kurs,Førstehjelp ved selvmordsfare,Nord
GEO:66.3138689;14.1326192
END:VEVENT
END:VCALENDAR