BEGIN:VCALENDAR
VERSION:2.0
PRODID:-//vivat - ECPv4.9.14//NONSGML v1.0//EN
CALSCALE:GREGORIAN
METHOD:PUBLISH
X-WR-CALNAME:vivat
X-ORIGINAL-URL:https://vivatselvmordsforebygging.net
X-WR-CALDESC:Events for vivat
BEGIN:VTIMEZONE
TZID:Europe/Oslo
BEGIN:DAYLIGHT
TZOFFSETFROM:+0100
TZOFFSETTO:+0200
TZNAME:CEST
DTSTART:20180325T010000
END:DAYLIGHT
BEGIN:STANDARD
TZOFFSETFROM:+0200
TZOFFSETTO:+0100
TZNAME:CET
DTSTART:20181028T010000
END:STANDARD
END:VTIMEZONE
BEGIN:VEVENT
DTSTART;VALUE=DATE:20181016
DTEND;VALUE=DATE:20181018
DTSTAMP:20260425T134811
CREATED:20180813T134326Z
LAST-MODIFIED:20180813T134326Z
UID:3652-1539648000-1539820799@vivatselvmordsforebygging.net
SUMMARY:Bryne\, Førstehjelp ved selvmordsfare
DESCRIPTION:RVTS Vest arrangerer kurs på Bryne 16.-17. oktober. Kurset er lukket og del av kompetansehevingsprogram. Dersom ledige plasser\, kan eksterne delta. \nKontaktperson er Linda Renate Kvalvik\, e-post: linda.renate.kvalvik@helse-bergen.no \n
URL:https://vivatselvmordsforebygging.net/event/bryne-forstehjelp-ved-selvmordsfare-8/
LOCATION:Bryne\, Rogaland\, 4340\, Norge
CATEGORIES:Kurs,Førstehjelp ved selvmordsfare,Vest
GEO:58.7269137;5.6794774
END:VEVENT
BEGIN:VEVENT
DTSTART;VALUE=DATE:20181016
DTEND;VALUE=DATE:20181017
DTSTAMP:20260425T134811
CREATED:20181003T091139Z
LAST-MODIFIED:20181003T091245Z
UID:3815-1539648000-1539734399@vivatselvmordsforebygging.net
SUMMARY:Eiken\, Oppmerksom på selvmordstanker
DESCRIPTION:Sørlandets Rehabiliteringssenter i Hægebostad kommune arrangerer kurset Oppmerksom på selvmordstanker for sine ansatte 16. oktober. \nKontaktperson er Reidun Meberg\, e-post: reidun.meberg@sorrehab.no \n
URL:https://vivatselvmordsforebygging.net/event/eiken-oppmerksom-pa-selvmordstanker/
LOCATION:Eiken\, Rogaland
CATEGORIES:Kurs,Oppmerksom på selvmordstanker,Sør
END:VEVENT
END:VCALENDAR