BEGIN:VCALENDAR
VERSION:2.0
PRODID:-//vivat - ECPv4.9.14//NONSGML v1.0//EN
CALSCALE:GREGORIAN
METHOD:PUBLISH
X-WR-CALNAME:vivat
X-ORIGINAL-URL:https://vivatselvmordsforebygging.net
X-WR-CALDESC:Events for vivat
BEGIN:VTIMEZONE
TZID:Europe/Oslo
BEGIN:DAYLIGHT
TZOFFSETFROM:+0100
TZOFFSETTO:+0200
TZNAME:CEST
DTSTART:20180325T010000
END:DAYLIGHT
BEGIN:STANDARD
TZOFFSETFROM:+0200
TZOFFSETTO:+0100
TZNAME:CET
DTSTART:20181028T010000
END:STANDARD
END:VTIMEZONE
BEGIN:VEVENT
DTSTART;VALUE=DATE:20181027
DTEND;VALUE=DATE:20181029
DTSTAMP:20260425T133732
CREATED:20180821T084826Z
LAST-MODIFIED:20180821T084826Z
UID:3670-1540598400-1540771199@vivatselvmordsforebygging.net
SUMMARY:Sandnes\, Førstehjelp ved selvmordsfare
DESCRIPTION:Vivat inviterer ansatte og medlemmer i frivillige organisasjoner i Stavanger/Sandnes/Jæren til kurs 27.-28. oktober. Kurset er gratis og sponset av midler fra Helsedirektoratet. Se vedlagte invitasjon \nKontaktperson er Anne Håkonsholm\, e-post:vivatah@gmail.com \n
URL:https://vivatselvmordsforebygging.net/event/sandnes-forstehjelp-ved-selvmordsfare/
LOCATION:Sandnes
CATEGORIES:Kurs,Førstehjelp ved selvmordsfare,Vest
END:VEVENT
BEGIN:VEVENT
DTSTART;VALUE=DATE:20181027
DTEND;VALUE=DATE:20181029
DTSTAMP:20260425T133732
CREATED:20180829T175640Z
LAST-MODIFIED:20180830T090148Z
UID:3717-1540598400-1540771199@vivatselvmordsforebygging.net
SUMMARY:Bergen\, Førstehjelp ved selvmordsfare
DESCRIPTION:Norsk Folkehjelp og medisinerstudentene arrangerer to parallelle kurs på Haukeland universitetessykehus. \nKontaktperson er Tine Hammerich\, e-post: tine.hammerich@bergen.kommune.no \n
URL:https://vivatselvmordsforebygging.net/event/bergen-forstehjelp-ved-selvmordsfare-44/
LOCATION:Bergen\, Hordaland\, 5000\, Norge
CATEGORIES:Kurs,Førstehjelp ved selvmordsfare,Vest
GEO:59.4199474;5.2725679
END:VEVENT
BEGIN:VEVENT
DTSTART;VALUE=DATE:20181027
DTEND;VALUE=DATE:20181029
DTSTAMP:20260425T133732
CREATED:20180924T095900Z
LAST-MODIFIED:20180924T095900Z
UID:3799-1540598400-1540771199@vivatselvmordsforebygging.net
SUMMARY:Bodø\, Førstehjelp ved selvmordsfare
DESCRIPTION:Vivat inviterer til kurset Førstehjelp ved selvmordsfare. Kurset er for frivillige tilknyttet FORF. Dette er et av Helsedirektoratets sponsede kurs til frivillige organisasjoner i 2018. \nKontaktperson er Svein inge Sjøbu\, e-post: svein.sjobu@redcross.no \n
URL:https://vivatselvmordsforebygging.net/event/bodo-forstehjelp-ved-selvmordsfare-7/
LOCATION:Bodø\, Nordland\, 8000\, Norge
CATEGORIES:Kurs,Førstehjelp ved selvmordsfare,Nord
GEO:59.9768021;10.3213481
END:VEVENT
END:VCALENDAR