BEGIN:VCALENDAR
VERSION:2.0
PRODID:-//vivat - ECPv4.9.14//NONSGML v1.0//EN
CALSCALE:GREGORIAN
METHOD:PUBLISH
X-WR-CALNAME:vivat
X-ORIGINAL-URL:https://vivatselvmordsforebygging.net
X-WR-CALDESC:Events for vivat
BEGIN:VTIMEZONE
TZID:Europe/Oslo
BEGIN:DAYLIGHT
TZOFFSETFROM:+0100
TZOFFSETTO:+0200
TZNAME:CEST
DTSTART:20180325T010000
END:DAYLIGHT
BEGIN:STANDARD
TZOFFSETFROM:+0200
TZOFFSETTO:+0100
TZNAME:CET
DTSTART:20181028T010000
END:STANDARD
END:VTIMEZONE
BEGIN:VEVENT
DTSTART;VALUE=DATE:20181103
DTEND;VALUE=DATE:20181105
DTSTAMP:20260425T122633
CREATED:20180829T151547Z
LAST-MODIFIED:20180829T151547Z
UID:3696-1541203200-1541375999@vivatselvmordsforebygging.net
SUMMARY:Trondheim\, Førstehjelp ved selvmordsfare
DESCRIPTION:Vivat inviterer frivillige til gratiskurs 3.-4. november\, “i forbindelse med” Verdensdagen for selvmordsforebygging. Kurset er et av Helsedirektoratets sponsa kurs til Frivillige organisasjoner i 2018. \nKontaktperson er Rune Nilsen\, e-post: runeonilsen@gmail.com \n  \n
URL:https://vivatselvmordsforebygging.net/event/trondheim-forstehjelp-ved-selvmordsfare-34/
LOCATION:Trondheim\, Trondheim\, Sør-Trøndelag\, 7000\, Norge
CATEGORIES:Kurs,Førstehjelp ved selvmordsfare,Midt
GEO:63.427569;10.393207
END:VEVENT
BEGIN:VEVENT
DTSTART;VALUE=DATE:20181103
DTEND;VALUE=DATE:20181105
DTSTAMP:20260425T122633
CREATED:20180924T091727Z
LAST-MODIFIED:20180924T091727Z
UID:3797-1541203200-1541375999@vivatselvmordsforebygging.net
SUMMARY:Bergen\, Førstehjelp ved selvmordsfare
DESCRIPTION:Vivat inviterer til kurset Førstehjelp ved selvmordsfare. Kurset er for frivillige tilknyttet FORF. Dette er et av Helsedirektoratets sponsede kurs til frivillige organisasjoner i 2018. \nKontaktperson er Thorbjørn Fosse\, e-post: thorbjorn.fosse@redcross.no \n
URL:https://vivatselvmordsforebygging.net/event/bergen-forstehjelp-ved-selvmordsfare-40/
LOCATION:Bergen\, Hordaland\, 5000\, Norge
CATEGORIES:Kurs,Førstehjelp ved selvmordsfare,Vest
GEO:59.4199474;5.2725679
END:VEVENT
BEGIN:VEVENT
DTSTART;VALUE=DATE:20181103
DTEND;VALUE=DATE:20181105
DTSTAMP:20260425T122633
CREATED:20181005T093524Z
LAST-MODIFIED:20181005T093524Z
UID:3823-1541203200-1541375999@vivatselvmordsforebygging.net
SUMMARY:Kongsberg\, Førstehjelp ved selvmordsfare
DESCRIPTION:Vivat inviterer til kurs i Kongsberg. Dette kurset er for frivillige i Røde Kors i Vestfold og Buskerud. Ved ledig kapasitet kan andre delta. Dette er et av Helsedirektoratets  sponsede kurs til frivillige organisasjoner. \nKontaktperson er Sidsel S. Mohn\, tlf 90 36 93 62/91 73 37 71 \n
URL:https://vivatselvmordsforebygging.net/event/kongsberg-forstehjelp-ved-selvmordsfare-2/
LOCATION:Kongsberg\, Sør-Trøndelag\, Norge
CATEGORIES:Kurs,Førstehjelp ved selvmordsfare,Sør
GEO:60.472024;8.468946
END:VEVENT
BEGIN:VEVENT
DTSTART;VALUE=DATE:20181103
DTEND;VALUE=DATE:20181104
DTSTAMP:20260425T122633
CREATED:20181016T073104Z
LAST-MODIFIED:20181016T073104Z
UID:3893-1541203200-1541289599@vivatselvmordsforebygging.net
SUMMARY:Morgedal\, Oppmerksom på selvmordstanker
DESCRIPTION:Vivat inviterer til kurs for frivillige i Røde Kors  3. november. Dette er et av Helsedirektoratets sponsa kurs til frivillige organisasjoner i 2018. \nKontaktperson er Anja Kristiansen\, tlf. 90 98 86 19 \n
URL:https://vivatselvmordsforebygging.net/event/morgedal-oppmerksom-pa-selvmordstanker/
LOCATION:Morgedal\, Sør-Trøndelag
CATEGORIES:Kurs,Oppmerksom på selvmordstanker,Sør
END:VEVENT
END:VCALENDAR