BEGIN:VCALENDAR
VERSION:2.0
PRODID:-//vivat - ECPv4.9.14//NONSGML v1.0//EN
CALSCALE:GREGORIAN
METHOD:PUBLISH
X-WR-CALNAME:vivat
X-ORIGINAL-URL:https://vivatselvmordsforebygging.net
X-WR-CALDESC:Events for vivat
BEGIN:VTIMEZONE
TZID:Europe/Oslo
BEGIN:DAYLIGHT
TZOFFSETFROM:+0100
TZOFFSETTO:+0200
TZNAME:CEST
DTSTART:20180325T010000
END:DAYLIGHT
BEGIN:STANDARD
TZOFFSETFROM:+0200
TZOFFSETTO:+0100
TZNAME:CET
DTSTART:20181028T010000
END:STANDARD
END:VTIMEZONE
BEGIN:VEVENT
DTSTART;VALUE=DATE:20181107
DTEND;VALUE=DATE:20181109
DTSTAMP:20260425T122446
CREATED:20180620T131353Z
LAST-MODIFIED:20180620T131353Z
UID:3579-1541548800-1541721599@vivatselvmordsforebygging.net
SUMMARY:Tromsø\, Førstehjelp ved selvmordsfare
DESCRIPTION:UNN arrangerer kurs for ansatte i Døgnseksjonen på Åsgård. Kurset er lukket. \nKontaktperson er Birgit Gadke\, e-post: birgit.gadke@unn.no \n
URL:https://vivatselvmordsforebygging.net/event/tromso-forstehjelp-ved-selvmordsfare-29/
LOCATION:Tromsø\, Fiolveien 15\, Tromsø\, Troms\, 9016\, Norge
CATEGORIES:Kurs,Førstehjelp ved selvmordsfare,Nord
GEO:69.6857553;18.9930926
X-APPLE-STRUCTURED-LOCATION;VALUE=URI;X-ADDRESS=Tromsø Fiolveien 15 Tromsø Troms 9016 Norge;X-APPLE-RADIUS=500;X-TITLE=Fiolveien 15:geo:18.9930926,69.6857553
END:VEVENT
BEGIN:VEVENT
DTSTART;VALUE=DATE:20181108
DTEND;VALUE=DATE:20181110
DTSTAMP:20260425T122446
CREATED:20180829T183208Z
LAST-MODIFIED:20180905T091047Z
UID:3722-1541635200-1541807999@vivatselvmordsforebygging.net
SUMMARY:Drammen\, Førstehjelp ved selvmordsfare
DESCRIPTION:Drammen kommune arrangerer kurs for ansatte i kommunen. Dersom kurset ikke blir fulltegnet\, vil frivillige i området få tilbud om å delta. Kursinvitasjon  \nKontakperson er Linda Jakobsen\, e-post: LKJConsulting@outlook.com \n
URL:https://vivatselvmordsforebygging.net/event/drammen-forstehjelp-ved-selvmordsfare-5/
LOCATION:Drammen\, Drammen\, Buskerud\, 3040\, Norge
CATEGORIES:Kurs,Førstehjelp ved selvmordsfare,Øst
GEO:59.7277268;10.2463455
END:VEVENT
BEGIN:VEVENT
DTSTART;VALUE=DATE:20181108
DTEND;VALUE=DATE:20181109
DTSTAMP:20260425T122446
CREATED:20181005T105202Z
LAST-MODIFIED:20181005T105202Z
UID:3824-1541635200-1541721599@vivatselvmordsforebygging.net
SUMMARY:Mandal\, Oppmerksom på selvmordstanker
DESCRIPTION:Vivat inviterer til kurset Oppmerksom på selvmordstanker\, (safeTALK). Kurset er åpent for alle over 18.år. \nKontaktperson er Annie Tønnesen\, e-post: annie@reduserstress.no \n
URL:https://vivatselvmordsforebygging.net/event/mandal-oppmerksom-pa-selvmordstanker-3/
LOCATION:Mandal\, Troms
CATEGORIES:Kurs,Oppmerksom på selvmordstanker,Sør
END:VEVENT
BEGIN:VEVENT
DTSTART;VALUE=DATE:20181108
DTEND;VALUE=DATE:20181109
DTSTAMP:20260425T122446
CREATED:20181015T170433Z
LAST-MODIFIED:20181015T170433Z
UID:3888-1541635200-1541721599@vivatselvmordsforebygging.net
SUMMARY:Karmøy\, Oppmerksom på selvmordstanker
DESCRIPTION:Karmøy kommune arrangerer kurset Oppmerksom på selvmordstanker 8. og 9. november. \nKontaktperson er Siri Merete Alfheim\, e-post: siri.merete.alfheim@karmoy.kommune.no \n
URL:https://vivatselvmordsforebygging.net/event/karmoy-oppmerksom-pa-selvmordstanker/
LOCATION:Karmøy\, Rogaland\, 4265\, Norge
CATEGORIES:Kurs,Oppmerksom på selvmordstanker,Vest
GEO:59.312995;5.2917524
END:VEVENT
BEGIN:VEVENT
DTSTART;VALUE=DATE:20181108
DTEND;VALUE=DATE:20181109
DTSTAMP:20260425T122446
CREATED:20181031T112425Z
LAST-MODIFIED:20181031T112425Z
UID:3954-1541635200-1541721599@vivatselvmordsforebygging.net
SUMMARY:Bergen\, Oppmerksom på selvmordsfare
DESCRIPTION:Sjøforsvaret arrangerer kurs for personell i Sjøforsvaret ved Haakonsvern. Kurset er lukket. \nKontaktperson er Theodor Svane\, e-post: t.svane@icloud.com \n
URL:https://vivatselvmordsforebygging.net/event/bergen-oppmerksom-pa-selvmordsfare/
LOCATION:Bergen\, Hordaland\, 5000\, Norge
CATEGORIES:Kurs,Oppmerksom på selvmordstanker,Vest
GEO:59.4199474;5.2725679
END:VEVENT
END:VCALENDAR