BEGIN:VCALENDAR
VERSION:2.0
PRODID:-//vivat - ECPv4.9.14//NONSGML v1.0//EN
CALSCALE:GREGORIAN
METHOD:PUBLISH
X-WR-CALNAME:vivat
X-ORIGINAL-URL:https://vivatselvmordsforebygging.net
X-WR-CALDESC:Events for vivat
BEGIN:VTIMEZONE
TZID:Europe/Oslo
BEGIN:DAYLIGHT
TZOFFSETFROM:+0100
TZOFFSETTO:+0200
TZNAME:CEST
DTSTART:20180325T010000
END:DAYLIGHT
BEGIN:STANDARD
TZOFFSETFROM:+0200
TZOFFSETTO:+0100
TZNAME:CET
DTSTART:20181028T010000
END:STANDARD
END:VTIMEZONE
BEGIN:VEVENT
DTSTART;VALUE=DATE:20181112
DTEND;VALUE=DATE:20181114
DTSTAMP:20260425T122720
CREATED:20181107T085630Z
LAST-MODIFIED:20181107T085630Z
UID:3970-1541980800-1542153599@vivatselvmordsforebygging.net
SUMMARY:Harstad\, Førstehjelp ved selvmordsfare
DESCRIPTION:Psykisk Helse og Rus klinikken i Harstad arrangerer kurs 12.-13. november. Kurset er for egne ansatte og samarbeidsparter. \nKontaktperson er Unn Karin Mathisen\, e-post: unn.karin.mathisen@unn.no \n
URL:https://vivatselvmordsforebygging.net/event/harstad-forstehjelp-ved-selvmordsfare-9/
LOCATION:Harstad\, Troms\, 9407\, Norge
CATEGORIES:Kurs,Førstehjelp ved selvmordsfare,Nord
GEO:68.7808047;16.5163207
END:VEVENT
BEGIN:VEVENT
DTSTART;TZID=Europe/Oslo:20181112T121500
DTEND;TZID=Europe/Oslo:20181112T161500
DTSTAMP:20260425T122720
CREATED:20181015T111150Z
LAST-MODIFIED:20181015T111150Z
UID:3875-1542024900-1542039300@vivatselvmordsforebygging.net
SUMMARY:Andenes\, Oppmerksom på selvmordstanker
DESCRIPTION:Luftforsvaret arrangerer kurs på Andøya Flystasjon. Kurset er for ansatte på 133 luftving som skal gå vakter som inspiserende befal på luftvingen. Det kan være aktuelt for eksterne å melde seg på. \nKontaktperson er Hanna Mikalsen\, e-post: hanna.mikalsen@hotmail.com \n
URL:https://vivatselvmordsforebygging.net/event/andenes-oppmerksom-pa-selvmordstanker/
LOCATION:Andenes\, Troms
CATEGORIES:Kurs,Oppmerksom på selvmordstanker,Nord
END:VEVENT
END:VCALENDAR