BEGIN:VCALENDAR
VERSION:2.0
PRODID:-//vivat - ECPv4.9.14//NONSGML v1.0//EN
CALSCALE:GREGORIAN
METHOD:PUBLISH
X-WR-CALNAME:vivat
X-ORIGINAL-URL:https://vivatselvmordsforebygging.net
X-WR-CALDESC:Events for vivat
BEGIN:VTIMEZONE
TZID:Europe/Oslo
BEGIN:DAYLIGHT
TZOFFSETFROM:+0100
TZOFFSETTO:+0200
TZNAME:CEST
DTSTART:20180325T010000
END:DAYLIGHT
BEGIN:STANDARD
TZOFFSETFROM:+0200
TZOFFSETTO:+0100
TZNAME:CET
DTSTART:20181028T010000
END:STANDARD
END:VTIMEZONE
BEGIN:VEVENT
DTSTART;VALUE=DATE:20181113
DTEND;VALUE=DATE:20181115
DTSTAMP:20260425T122802
CREATED:20180525T075338Z
LAST-MODIFIED:20181003T090211Z
UID:3535-1542067200-1542239999@vivatselvmordsforebygging.net
SUMMARY:Tønsberg\, Førstehjelp ved selvmordsfare
DESCRIPTION:RVTS-Sør arrangerer kurset Førstehjelp ved selvmordsfare for Barnevernstjenesten i Tønsberg kommune. Kurset er del av et kompetansebyggende program\, og er derfor lukket for andre. \nKontaktperson er Øyvind Dåsvatn\, e-post: oyvind.dasvatn@rvtssor.no \n
URL:https://vivatselvmordsforebygging.net/event/tonsberg-forstehjelp-ved-selvmordsfare-5/
LOCATION:Tønsberg\, Vestfold\, 3111\, Norge
CATEGORIES:Kurs,Førstehjelp ved selvmordsfare,Sør
GEO:59.2714895;10.4002167
END:VEVENT
BEGIN:VEVENT
DTSTART;VALUE=DATE:20181114
DTEND;VALUE=DATE:20181116
DTSTAMP:20260425T122802
CREATED:20180620T131454Z
LAST-MODIFIED:20180620T131454Z
UID:3580-1542153600-1542326399@vivatselvmordsforebygging.net
SUMMARY:Tromsø\, Førstehjelp ved selvmordsfare
DESCRIPTION:UNN arrangerer kurs for ansatte i Døgnseksjonen på Åsgård. Kurset er lukket. \nKontaktperson er Birgit Gadke\, e-post: birgit.gadke@unn.no \n
URL:https://vivatselvmordsforebygging.net/event/tromso-forstehjelp-ved-selvmordsfare-30/
LOCATION:Tromsø\, Fiolveien 15\, Tromsø\, Troms\, 9016\, Norge
CATEGORIES:Kurs,Førstehjelp ved selvmordsfare,Nord
GEO:69.6857553;18.9930926
X-APPLE-STRUCTURED-LOCATION;VALUE=URI;X-ADDRESS=Tromsø Fiolveien 15 Tromsø Troms 9016 Norge;X-APPLE-RADIUS=500;X-TITLE=Fiolveien 15:geo:18.9930926,69.6857553
END:VEVENT
BEGIN:VEVENT
DTSTART;VALUE=DATE:20181114
DTEND;VALUE=DATE:20181116
DTSTAMP:20260425T122802
CREATED:20181105T113222Z
LAST-MODIFIED:20181105T113222Z
UID:3965-1542153600-1542326399@vivatselvmordsforebygging.net
SUMMARY:Oslo\, Førstehjelp ved selvmordsfare
DESCRIPTION:Rask psykisk helsehjelp arrangerer kurset Førstehjelp ved selvmordsfare på Nesodden 14.-15. november. Kurset er lukket for ansatte i Nesodden kommune. \nKontaktperson er Heidi Maria Pãivãrinne\, e-post: heidi.maria.paivarinne@nesodden.kommune.no \n
URL:https://vivatselvmordsforebygging.net/event/oslo-forstehjelp-ved-selvmordsfare-41/
LOCATION:Oslo\, Vestfold\, Norge
CATEGORIES:Kurs,Førstehjelp ved selvmordsfare,Øst
GEO:60.472024;8.468946
END:VEVENT
BEGIN:VEVENT
DTSTART;TZID=Europe/Oslo:20181114T170000
DTEND;TZID=Europe/Oslo:20181114T210000
DTSTAMP:20260425T122802
CREATED:20180924T084724Z
LAST-MODIFIED:20181001T075121Z
UID:3793-1542214800-1542229200@vivatselvmordsforebygging.net
SUMMARY:Trondheim\, Oppmerksom på selvmordstanker
DESCRIPTION:LEVE Sør-Trøndelag arrangerer kurs 14. november kl. 17:00-21:00. Kurset er åpent for alle. \nFor nærmere informasjon og påmelding\, kontakt Eva Steinkjer\, e-post: eva_steinkjer@hotmail.com\, tlf. 48 02 96 12 \n
URL:https://vivatselvmordsforebygging.net/event/trondheim-safetalk-47/
LOCATION:Trondheim\, Trondheim\, Sør-Trøndelag\, 7000\, Norge
CATEGORIES:Kurs,Oppmerksom på selvmordstanker,Midt
GEO:63.427569;10.393207
END:VEVENT
END:VCALENDAR