BEGIN:VCALENDAR
VERSION:2.0
PRODID:-//vivat - ECPv4.9.14//NONSGML v1.0//EN
CALSCALE:GREGORIAN
METHOD:PUBLISH
X-WR-CALNAME:vivat
X-ORIGINAL-URL:https://vivatselvmordsforebygging.net
X-WR-CALDESC:Events for vivat
BEGIN:VTIMEZONE
TZID:Europe/Oslo
BEGIN:DAYLIGHT
TZOFFSETFROM:+0100
TZOFFSETTO:+0200
TZNAME:CEST
DTSTART:20180325T010000
END:DAYLIGHT
BEGIN:STANDARD
TZOFFSETFROM:+0200
TZOFFSETTO:+0100
TZNAME:CET
DTSTART:20181028T010000
END:STANDARD
END:VTIMEZONE
BEGIN:VEVENT
DTSTART;VALUE=DATE:20181120
DTEND;VALUE=DATE:20181122
DTSTAMP:20260425T122808
CREATED:20181015T081017Z
LAST-MODIFIED:20181015T082226Z
UID:3869-1542672000-1542844799@vivatselvmordsforebygging.net
SUMMARY:Bergen\, Førstehjelp ved selvmordsfare
DESCRIPTION:RVTS Vest arrangerer kurset Førstehjelp ved selvmordsfare 20.-21. november. Kurset er åpent for alle å melde seg på.  Invitasjon med påmeldingsinformasjon \nKontaktperson er Annie Norevik\, e-post: annie.norevik@helse-bergen.no \n  \n
URL:https://vivatselvmordsforebygging.net/event/bergen-forstehjelp-ved-selvmordsfare-46/
LOCATION:Bergen\, Hordaland\, 5000\, Norge
CATEGORIES:Kurs,Førstehjelp ved selvmordsfare,Vest
GEO:59.4199474;5.2725679
END:VEVENT
BEGIN:VEVENT
DTSTART;VALUE=DATE:20181120
DTEND;VALUE=DATE:20181122
DTSTAMP:20260425T122808
CREATED:20181031T141201Z
LAST-MODIFIED:20181031T141234Z
UID:3957-1542672000-1542844799@vivatselvmordsforebygging.net
SUMMARY:Oslo\, Førstehjelp ved selvmordsfare
DESCRIPTION:Fagakademiet arrangerer kurset Førstehjelp ved selvmordsfare 20.-21 november. Kurset er åpent. \nFor nærmere informasjon og påmelding\, ta kontakt med Ottar Høier\, e-post: ottar.hoier@fagakademiet.no \n
URL:https://vivatselvmordsforebygging.net/event/oslo-forstehjelp-ved-selvmordsfare-40/
LOCATION:Oslo\, Hordaland\, Norge
CATEGORIES:Kurs,Førstehjelp ved selvmordsfare,Øst
GEO:60.472024;8.468946
END:VEVENT
BEGIN:VEVENT
DTSTART;VALUE=DATE:20181120
DTEND;VALUE=DATE:20181122
DTSTAMP:20260425T122808
CREATED:20181107T123930Z
LAST-MODIFIED:20181107T123930Z
UID:3971-1542672000-1542844799@vivatselvmordsforebygging.net
SUMMARY:Bodø\, Førstehjelp ved selvmordsfare
DESCRIPTION:Vivat inviterer til kurs i Bodø. Kurset arrangeres i samarbeid med Frelsesarméen. Hvis ledige plasser kan andre melde seg på. Kurset er sponset av Helsedirektoratet. \nKontaktperson er Torunn Blokhus\, e-post: torunn.blokhus@sbnett.no \n
URL:https://vivatselvmordsforebygging.net/event/bodo-forstehjelp-ved-selvmordsfare-10/
LOCATION:Bodø\, Nordland\, 8000\, Norge
CATEGORIES:Kurs,Førstehjelp ved selvmordsfare,Nord
GEO:59.9768021;10.3213481
END:VEVENT
BEGIN:VEVENT
DTSTART;VALUE=DATE:20181121
DTEND;VALUE=DATE:20181122
DTSTAMP:20260425T122808
CREATED:20181114T140222Z
LAST-MODIFIED:20181114T140222Z
UID:4022-1542758400-1542844799@vivatselvmordsforebygging.net
SUMMARY:Bodø\, Oppmerksom på selvmordstanker
DESCRIPTION:Vivat inviterer til kurset Oppmerksom på selvmordstanker i Bodø 21. november. Kurset er for kirkelig ansatte. Dette er et av Helsedirektoratets sponsede kurs i 2018. \nKontaktperson er Elin Vangen\, domprost i Bodø. \n
URL:https://vivatselvmordsforebygging.net/event/bodo-oppmerksom-pa-selvmordstanker-2/
LOCATION:Bodø\, Nordland\, 8000\, Norge
CATEGORIES:Kurs,Oppmerksom på selvmordstanker,Nord
GEO:59.9768021;10.3213481
END:VEVENT
END:VCALENDAR