BEGIN:VCALENDAR
VERSION:2.0
PRODID:-//vivat - ECPv4.9.14//NONSGML v1.0//EN
CALSCALE:GREGORIAN
METHOD:PUBLISH
X-WR-CALNAME:vivat
X-ORIGINAL-URL:https://vivatselvmordsforebygging.net
X-WR-CALDESC:Events for vivat
BEGIN:VTIMEZONE
TZID:Europe/Oslo
BEGIN:DAYLIGHT
TZOFFSETFROM:+0100
TZOFFSETTO:+0200
TZNAME:CEST
DTSTART:20180325T010000
END:DAYLIGHT
BEGIN:STANDARD
TZOFFSETFROM:+0200
TZOFFSETTO:+0100
TZNAME:CET
DTSTART:20181028T010000
END:STANDARD
END:VTIMEZONE
BEGIN:VEVENT
DTSTART;VALUE=DATE:20181127
DTEND;VALUE=DATE:20181129
DTSTAMP:20260425T110638
CREATED:20180829T150302Z
LAST-MODIFIED:20180918T120150Z
UID:3695-1543276800-1543449599@vivatselvmordsforebygging.net
SUMMARY:Skien\, Førstehjelp ved selvmordsfare
DESCRIPTION:Hjelpetelefonen i Mental Helse arrangerer kurs for ansatte ved Hjelpetelefonen 27.-28. november. Det er også åpent for andre å delta. \nTa evt. kontakt med Aslaug Timland Dale\, e-post: aslaug.timland.dale@mentalhelse.no \n
URL:https://vivatselvmordsforebygging.net/event/skien-forstehjelp-ved-selvmordsfare-4/
LOCATION:Skien\, Skien\, Telemark\, 3700\, Norge
CATEGORIES:Kurs,Førstehjelp ved selvmordsfare,Sør
GEO:59.205357;9.606522
END:VEVENT
BEGIN:VEVENT
DTSTART;VALUE=DATE:20181127
DTEND;VALUE=DATE:20181129
DTSTAMP:20260425T110638
CREATED:20180921T113145Z
LAST-MODIFIED:20180921T113326Z
UID:3785-1543276800-1543449599@vivatselvmordsforebygging.net
SUMMARY:Sandnes\, Førstehjelp ved selvmordsfare
DESCRIPTION:VID vitenskapelige høgskole arrangerer kurs 27.-28. november. Kurset er lukket for studenter ved bachelor i vernepleie og ergoterapi. \nKontaktperson er Elisabeth Nilsen Aas\, e-post: elisabeth.nilsen.aas@vid.no \n
URL:https://vivatselvmordsforebygging.net/event/sandnes-forstehjelp-ved-selvmordsfare-2/
LOCATION:Sandnes\, Telemark
CATEGORIES:Kurs,Førstehjelp ved selvmordsfare,Vest
END:VEVENT
BEGIN:VEVENT
DTSTART;VALUE=DATE:20181127
DTEND;VALUE=DATE:20181128
DTSTAMP:20260425T110638
CREATED:20181016T073551Z
LAST-MODIFIED:20181016T073551Z
UID:3898-1543276800-1543363199@vivatselvmordsforebygging.net
SUMMARY:Larvik\, Oppmerksom på selvmordstanker
DESCRIPTION:Larvik kommune arrangerer  kurs for NAV-ansatte. Kurset er lukket. \nKontaktperson er Vibecke Matre Illmann\, tlf. 45 29 62 59 \n
URL:https://vivatselvmordsforebygging.net/event/larvik-oppmerksom-pa-selvmordstanker-3/
LOCATION:Larvik\, Telemark
CATEGORIES:Kurs,Oppmerksom på selvmordstanker,Sør
END:VEVENT
END:VCALENDAR