BEGIN:VCALENDAR
VERSION:2.0
PRODID:-//vivat - ECPv4.9.14//NONSGML v1.0//EN
CALSCALE:GREGORIAN
METHOD:PUBLISH
X-WR-CALNAME:vivat
X-ORIGINAL-URL:https://vivatselvmordsforebygging.net
X-WR-CALDESC:Events for vivat
BEGIN:VTIMEZONE
TZID:Europe/Oslo
BEGIN:DAYLIGHT
TZOFFSETFROM:+0100
TZOFFSETTO:+0200
TZNAME:CEST
DTSTART:20180325T010000
END:DAYLIGHT
BEGIN:STANDARD
TZOFFSETFROM:+0200
TZOFFSETTO:+0100
TZNAME:CET
DTSTART:20181028T010000
END:STANDARD
END:VTIMEZONE
BEGIN:VEVENT
DTSTART;VALUE=DATE:20181210
DTEND;VALUE=DATE:20181212
DTSTAMP:20260425T110654
CREATED:20181112T113641Z
LAST-MODIFIED:20181112T113754Z
UID:3994-1544400000-1544572799@vivatselvmordsforebygging.net
SUMMARY:Bergen\, Førstehjelp ved selvmordsfare
DESCRIPTION:Mennesket I Fokus arrangerer kurset Førstehjlp ved selvmordsfare i Bergen 10.-11. desember. Kurset er åpent for alle å melde seg på. Invitasjon med påmeldingsinformasjon \nKontaktperson er Randi T. Nordvik\, e-post: post@mennesket ifokus.no \n
URL:https://vivatselvmordsforebygging.net/event/bergen-forstehjelp-ved-selvmordsfare-48/
LOCATION:Bergen\, Hordaland\, 5000\, Norge
CATEGORIES:Kurs,Førstehjelp ved selvmordsfare,Vest
GEO:59.4199474;5.2725679
END:VEVENT
BEGIN:VEVENT
DTSTART;VALUE=DATE:20181210
DTEND;VALUE=DATE:20181212
DTSTAMP:20260425T110654
CREATED:20181112T150317Z
LAST-MODIFIED:20181112T150317Z
UID:4002-1544400000-1544572799@vivatselvmordsforebygging.net
SUMMARY:Brønnøysund\, Førstehjelp ved selvmordsfare
DESCRIPTION:Vivat inviterer til kurs i samarbeid med Brønnøy kommune. Kurset er åpent for alle å melde seg på. Dette er et av Helsediektoratets sponsa kurs i 2018. \nKontaktperson er Sturla Ditlefsen\, Brønnøy kommune\, tlf. 75 01 20 00 og kursleder Elin Pettersen\, tlf. 41 44 38 39. \n
URL:https://vivatselvmordsforebygging.net/event/bronnoysund-forstehjelp-ved-selvmordsfare-4/
LOCATION:Brønnøysund\, Nordland\, 8900\, Norge
CATEGORIES:Kurs,Førstehjelp ved selvmordsfare,Nord
GEO:65.4560656;11.6498246
END:VEVENT
BEGIN:VEVENT
DTSTART;VALUE=DATE:20181210
DTEND;VALUE=DATE:20181212
DTSTAMP:20260425T110654
CREATED:20181121T103652Z
LAST-MODIFIED:20181121T103652Z
UID:4040-1544400000-1544572799@vivatselvmordsforebygging.net
SUMMARY:Trondheim\, Førstehjelp ved selvmordsfare
DESCRIPTION:Vivat inviterer til kurset Førstehjelp ved selvmordsfare 10.-11. desember. Kurset er for jobbveiledere hos Fretex arbeid og inkludering. Dette er et av Helsedirektoratets sponsede kurs i 2018. \nKontaktperson er Hanna Dyrendahl\, e-post: hanna.dyrendahl@gmail.com \n  \n
URL:https://vivatselvmordsforebygging.net/event/trondheim-forstehjelp-ved-selvmordsfare-37/
LOCATION:Trondheim\, Trondheim\, Sør-Trøndelag\, 7000\, Norge
CATEGORIES:Kurs,Førstehjelp ved selvmordsfare,Midt
GEO:63.427569;10.393207
END:VEVENT
BEGIN:VEVENT
DTSTART;VALUE=DATE:20181211
DTEND;VALUE=DATE:20181213
DTSTAMP:20260425T110654
CREATED:20181003T090711Z
LAST-MODIFIED:20181003T090711Z
UID:3812-1544486400-1544659199@vivatselvmordsforebygging.net
SUMMARY:Mysen\, Førstehjelp ved selvmordsfare
DESCRIPTION:RVTS Sør arrangerer kurs for ansatte i Mysebu Transittmottak. Kurset er en del av RVTS Sør sitt nasjonale kurstilbud til mottak. Kurset er lukket. \nKontaktperson er Øyvind Dåsvatn\, e-post: oyvind.dasvatn@rvtssor.no \n
URL:https://vivatselvmordsforebygging.net/event/mysen-forstehjelp-ved-selvmordsfare/
LOCATION:Mysen\, Hordaland
CATEGORIES:Kurs,Førstehjelp ved selvmordsfare,Øst
END:VEVENT
BEGIN:VEVENT
DTSTART;VALUE=DATE:20181211
DTEND;VALUE=DATE:20181212
DTSTAMP:20260425T110654
CREATED:20181114T120518Z
LAST-MODIFIED:20181114T120518Z
UID:4015-1544486400-1544572799@vivatselvmordsforebygging.net
SUMMARY:Madla\, Oppmerksom på selvmordstanker
DESCRIPTION:Sjøforsvaret arrangerer kurset Oppmerksom på selvmordstanker ved KNM Harald Hårfagre\, Madla. Kurset er lukket. \nKontaktperson er Eilen Blix\, e-post: ednamargare@hotmail.com \n
URL:https://vivatselvmordsforebygging.net/event/madla-oppmerksom-pa-selvmordstanker/
LOCATION:Madla\, Hordaland
CATEGORIES:Kurs,Oppmerksom på selvmordstanker,Vest
END:VEVENT
END:VCALENDAR