BEGIN:VCALENDAR
VERSION:2.0
PRODID:-//vivat - ECPv4.9.14//NONSGML v1.0//EN
CALSCALE:GREGORIAN
METHOD:PUBLISH
X-WR-CALNAME:vivat
X-ORIGINAL-URL:https://vivatselvmordsforebygging.net
X-WR-CALDESC:Events for vivat
BEGIN:VTIMEZONE
TZID:Europe/Oslo
BEGIN:DAYLIGHT
TZOFFSETFROM:+0100
TZOFFSETTO:+0200
TZNAME:CEST
DTSTART:20180325T010000
END:DAYLIGHT
BEGIN:STANDARD
TZOFFSETFROM:+0200
TZOFFSETTO:+0100
TZNAME:CET
DTSTART:20181028T010000
END:STANDARD
END:VTIMEZONE
BEGIN:VEVENT
DTSTART;VALUE=DATE:20181213
DTEND;VALUE=DATE:20181215
DTSTAMP:20260425T110714
CREATED:20181005T091707Z
LAST-MODIFIED:20181015T090306Z
UID:3819-1544659200-1544831999@vivatselvmordsforebygging.net
SUMMARY:Skien\, Førstehjelp ved selvmordsfare
DESCRIPTION:Vivat inviterer til kurs  i Skien. Kurset er for ansatte i kommunen. Kriseteam fra omkringliggende kommuner er også invitert. Dette er et av Helsedirektoratets sponsede kurs til kommuner i 2018. \nKontaktperson er Inger Susanne Gisholt\, e-post: inger.susanne.gisholt@skien.kommune.no \n
URL:https://vivatselvmordsforebygging.net/event/skien-forstehjelp-ved-selvmordsfare-5/
LOCATION:Skien\, Skien\, Telemark\, 3700\, Norge
CATEGORIES:Kurs,Førstehjelp ved selvmordsfare,Sør
GEO:59.205357;9.606522
END:VEVENT
BEGIN:VEVENT
DTSTART;VALUE=DATE:20181213
DTEND;VALUE=DATE:20181215
DTSTAMP:20260425T110714
CREATED:20181031T110853Z
LAST-MODIFIED:20181031T110853Z
UID:3951-1544659200-1544831999@vivatselvmordsforebygging.net
SUMMARY:Bodø\, Førstehjelp ved selvmordsfare
DESCRIPTION:Nordlandssykehuset arrangerer kurs i Bodø 13.-14. desember. Invitasjon med påmeldingsinformasjon \nKontaktperson er Lillian haukland\, e-post: lillian.haukland@nlsh.no \n
URL:https://vivatselvmordsforebygging.net/event/bodo-forstehjelp-ved-selvmordsfare-9/
LOCATION:Bodø\, Nordland\, 8000\, Norge
CATEGORIES:Kurs,Førstehjelp ved selvmordsfare,Nord
GEO:59.9768021;10.3213481
END:VEVENT
BEGIN:VEVENT
DTSTART;VALUE=DATE:20181213
DTEND;VALUE=DATE:20181215
DTSTAMP:20260425T110714
CREATED:20181112T105842Z
LAST-MODIFIED:20181112T110407Z
UID:3993-1544659200-1544831999@vivatselvmordsforebygging.net
SUMMARY:Kongsberg\, Førstehjelp ved selvmordsfare
DESCRIPTION:Vivat inviterer til kurs i samarbeid med Kongsberg kommune 13.-14. desember. Kurset er for ansatte i Kongsberg kommune. Dette er et av Helsedirektoratets sponsa kurs til kommuner i 2018. \nKontaktperson er Anne Sissel Olson Hove\, tlf: 481 66 087 \n
URL:https://vivatselvmordsforebygging.net/event/kongsberg-forstehjelp-ved-selvmordsfare-3/
LOCATION:Kongsberg\, Telemark\, Norge
CATEGORIES:Kurs,Førstehjelp ved selvmordsfare,Sør
GEO:60.472024;8.468946
END:VEVENT
BEGIN:VEVENT
DTSTART;VALUE=DATE:20181213
DTEND;VALUE=DATE:20181215
DTSTAMP:20260425T110714
CREATED:20181121T100756Z
LAST-MODIFIED:20181130T131654Z
UID:4033-1544659200-1544831999@vivatselvmordsforebygging.net
SUMMARY:Eide\, Førstehjelp ved selvmordsfare
DESCRIPTION:Vivat inviterer til kurs i samarbeid med Eide kommune. Kurset er for ansatte i Eide og Frena kommune. Dette er et av Helsedirektoratets sponsede kurs for kommuner i 2018. \nKontaktperson er Marry Holsbøvåg\, e-post: marryaafloy.holsbovag@eide.kommune.no \n  \n
URL:https://vivatselvmordsforebygging.net/event/eide-forstehjelp-ved-selvmordsfare/
LOCATION:Eide\, Telemark
CATEGORIES:Kurs,Førstehjelp ved selvmordsfare,Midt
END:VEVENT
BEGIN:VEVENT
DTSTART;VALUE=DATE:20181214
DTEND;VALUE=DATE:20181215
DTSTAMP:20260425T110714
CREATED:20181204T135343Z
LAST-MODIFIED:20181204T135343Z
UID:4052-1544745600-1544831999@vivatselvmordsforebygging.net
SUMMARY:Bergen\, Oppmerksom på selvmordstanker
DESCRIPTION:Sjøforsvaret arrangerer kurs for personell i Sjøforsvaret ved Haakonsvern. Kurset er lukket. \nKontaktperson er Theodor Svane\, e-post: t.svane@icloud.com \n
URL:https://vivatselvmordsforebygging.net/event/bergen-oppmerksom-pa-selvmordstanker-5/
LOCATION:Bergen\, Hordaland\, 5000\, Norge
CATEGORIES:Kurs,Oppmerksom på selvmordstanker,Vest
GEO:59.4199474;5.2725679
END:VEVENT
END:VCALENDAR