BEGIN:VCALENDAR
VERSION:2.0
PRODID:-//vivat - ECPv4.9.14//NONSGML v1.0//EN
CALSCALE:GREGORIAN
METHOD:PUBLISH
X-WR-CALNAME:vivat
X-ORIGINAL-URL:https://vivatselvmordsforebygging.net
X-WR-CALDESC:Events for vivat
BEGIN:VTIMEZONE
TZID:Europe/Oslo
BEGIN:DAYLIGHT
TZOFFSETFROM:+0100
TZOFFSETTO:+0200
TZNAME:CEST
DTSTART:20190331T010000
END:DAYLIGHT
BEGIN:STANDARD
TZOFFSETFROM:+0200
TZOFFSETTO:+0100
TZNAME:CET
DTSTART:20191027T010000
END:STANDARD
END:VTIMEZONE
BEGIN:VEVENT
DTSTART;VALUE=DATE:20190521
DTEND;VALUE=DATE:20190523
DTSTAMP:20260425T043112
CREATED:20181114T143023Z
LAST-MODIFIED:20181114T143023Z
UID:4024-1558396800-1558569599@vivatselvmordsforebygging.net
SUMMARY:Sandefjord\, Førstehjelp ved selvmordsfare
DESCRIPTION:Sandefjord kommune arrangerer kurset Førstehjelp ved selvmordsfare 21.-22. mai. Kurset er for kommunens ansatte og ansatte hos noen av kommunens samarbeidspartnere. \nKontaktperson er Harald Heggernes\, e-post: harald.heggernes@sandefjord.kommune.no \n
URL:https://vivatselvmordsforebygging.net/event/sandefjord-forstehjelp-ved-selvmordsfare-10/
LOCATION:Sandefjord\, Storgata 20\, Sandefjord\, Vestfold\, 3210\, Norge
CATEGORIES:Kurs,Førstehjelp ved selvmordsfare,Sør
GEO:59.1260689;10.221326
X-APPLE-STRUCTURED-LOCATION;VALUE=URI;X-ADDRESS=Sandefjord Storgata 20 Sandefjord Vestfold 3210 Norge;X-APPLE-RADIUS=500;X-TITLE=Storgata 20:geo:10.221326,59.1260689
END:VEVENT
BEGIN:VEVENT
DTSTART;VALUE=DATE:20190521
DTEND;VALUE=DATE:20190523
DTSTAMP:20260425T043112
CREATED:20190114T094255Z
LAST-MODIFIED:20190122T115948Z
UID:4120-1558396800-1558569599@vivatselvmordsforebygging.net
SUMMARY:Bryne\, Førstehjelp ved selvmordsfare
DESCRIPTION:Jæren DPS arrangerer kurset Førstehjelp ved selvmordsfare 21.-22. mai. Kurset er åpent for alle å melde seg på. Invitasjon med påmeldingsinformasjon \nKontaktperson er Einar Steen Jakobsen\, e-post: einar.steen.jakobsen@jdps.no \n
URL:https://vivatselvmordsforebygging.net/event/bryne-forstehjelp-ved-selvmordsfare-10/
LOCATION:Bryne\, Rogaland\, 4340\, Norge
CATEGORIES:Kurs,Førstehjelp ved selvmordsfare,Vest
GEO:58.7269137;5.6794774
END:VEVENT
BEGIN:VEVENT
DTSTART;VALUE=DATE:20190521
DTEND;VALUE=DATE:20190523
DTSTAMP:20260425T043112
CREATED:20190424T080223Z
LAST-MODIFIED:20190424T080223Z
UID:4804-1558396800-1558569599@vivatselvmordsforebygging.net
SUMMARY:Gjesdal\, Førstehjelp ved selvmordsfare
DESCRIPTION:Gjesdal kommune arrangerer kurset Førstehjelp ved selvmordsfare 21.-22. mai. Kurset er lukket. \nKontaktperson er Stig Egeland\, e-post: Stig.Egeland@gjesdal.kommune.no \n
URL:https://vivatselvmordsforebygging.net/event/gjesdal-forstehjelp-ved-selvmordsfare-2/
LOCATION:Gjesdal\, Vestfold
CATEGORIES:Kurs,Førstehjelp ved selvmordsfare,Vest
END:VEVENT
END:VCALENDAR