BEGIN:VCALENDAR
VERSION:2.0
PRODID:-//vivat - ECPv4.9.14//NONSGML v1.0//EN
CALSCALE:GREGORIAN
METHOD:PUBLISH
X-WR-CALNAME:vivat
X-ORIGINAL-URL:https://vivatselvmordsforebygging.net
X-WR-CALDESC:Events for vivat
BEGIN:VTIMEZONE
TZID:Europe/Oslo
BEGIN:DAYLIGHT
TZOFFSETFROM:+0100
TZOFFSETTO:+0200
TZNAME:CEST
DTSTART:20190331T010000
END:DAYLIGHT
BEGIN:STANDARD
TZOFFSETFROM:+0200
TZOFFSETTO:+0100
TZNAME:CET
DTSTART:20191027T010000
END:STANDARD
END:VTIMEZONE
BEGIN:VEVENT
DTSTART;VALUE=DATE:20190528
DTEND;VALUE=DATE:20190530
DTSTAMP:20260425T030854
CREATED:20190327T092917Z
LAST-MODIFIED:20190327T092917Z
UID:4749-1559001600-1559174399@vivatselvmordsforebygging.net
SUMMARY:Lindås\, Førstehjelp ved selvmordsfare
DESCRIPTION:Lindås kommune arrangerer kurset Førstehjelp ved selvmordsfare 28.-29. mai. Kurset er lukket for ansatte i helse og omsorg. \nKontaktperson er Cecilie Johannesen\, e-post: cecilie.johannesen@lindas.kommune.no \n
URL:https://vivatselvmordsforebygging.net/event/lindas-forstehjelp-ved-selvmordsfare-2/
LOCATION:Lindås\, Norge
CATEGORIES:Kurs,Førstehjelp ved selvmordsfare,Vest
GEO:60.472024;8.468946
END:VEVENT
BEGIN:VEVENT
DTSTART;VALUE=DATE:20190528
DTEND;VALUE=DATE:20190530
DTSTAMP:20260425T030854
CREATED:20190424T085321Z
LAST-MODIFIED:20190510T090507Z
UID:4815-1559001600-1559174399@vivatselvmordsforebygging.net
SUMMARY:Oslo\, Førstehjelp ved selvmordsfare
DESCRIPTION:Podium arrangerer kurset Førstehjelp ved selvmordsfare 28.-29. mai. invitasjon med påmeldingsinformasjon \nFor nærmere informasjon\, kontakt Bjørn Tschudi Madsen\, e-post: bt.madsen@podium.no \n
URL:https://vivatselvmordsforebygging.net/event/oslo-forstehjelp-ved-selvmordsfare-52/
LOCATION:Oslo\, Norge
CATEGORIES:Kurs,Førstehjelp ved selvmordsfare,Øst
GEO:60.472024;8.468946
END:VEVENT
BEGIN:VEVENT
DTSTART;TZID=Europe/Oslo:20190528T080000
DTEND;TZID=Europe/Oslo:20190528T113000
DTSTAMP:20260425T030854
CREATED:20190507T082740Z
LAST-MODIFIED:20190507T124000Z
UID:4868-1559030400-1559043000@vivatselvmordsforebygging.net
SUMMARY:Madla\, Oppmerksom på selvmordstanker
DESCRIPTION:Kurset arrangeres ved KNM Haarfagre\, og er et kurs beregnet på nyansatte instruktører i Madlaleiren. \nKontaktperson er Ingrid Nærheim\, e-post: inarheim@mil.no \n
URL:https://vivatselvmordsforebygging.net/event/oppmerksom-pa-selvmordstanker/
LOCATION:Madla
CATEGORIES:Kurs,Oppmerksom på selvmordstanker,Vest
END:VEVENT
BEGIN:VEVENT
DTSTART;TZID=Europe/Oslo:20190528T170000
DTEND;TZID=Europe/Oslo:20190528T210000
DTSTAMP:20260425T030854
CREATED:20190515T103358Z
LAST-MODIFIED:20190516T090151Z
UID:4892-1559062800-1559077200@vivatselvmordsforebygging.net
SUMMARY:Bodø\, Oppmerksom på selvmordtanker
DESCRIPTION:Luftforsvaret holder kurset Oppmerksom på selvmordstanker. Kurset er lukket for tillitsvalgte i forsvaret. \nKontaktperson er Hanna Sesselja Mikalsen\, epost: hanna.mikalsen@hotmail.com \n
URL:https://vivatselvmordsforebygging.net/event/bodo-oppmerksom-pa-selvmordtanker/
LOCATION:Bodø\, Nordland\, 8000\, Norge
CATEGORIES:Kurs,Oppmerksom på selvmordstanker,Nord
GEO:59.9768021;10.3213481
END:VEVENT
END:VCALENDAR