BEGIN:VCALENDAR
VERSION:2.0
PRODID:-//vivat - ECPv4.9.14//NONSGML v1.0//EN
CALSCALE:GREGORIAN
METHOD:PUBLISH
X-WR-CALNAME:vivat
X-ORIGINAL-URL:https://vivatselvmordsforebygging.net
X-WR-CALDESC:Events for vivat
BEGIN:VTIMEZONE
TZID:Europe/Oslo
BEGIN:DAYLIGHT
TZOFFSETFROM:+0100
TZOFFSETTO:+0200
TZNAME:CEST
DTSTART:20190331T010000
END:DAYLIGHT
BEGIN:STANDARD
TZOFFSETFROM:+0200
TZOFFSETTO:+0100
TZNAME:CET
DTSTART:20191027T010000
END:STANDARD
END:VTIMEZONE
BEGIN:VEVENT
DTSTART;VALUE=DATE:20190605
DTEND;VALUE=DATE:20190607
DTSTAMP:20260425T025741
CREATED:20190124T082537Z
LAST-MODIFIED:20190124T120251Z
UID:4155-1559692800-1559865599@vivatselvmordsforebygging.net
SUMMARY:Sandnes\, Førstehjelp ved selvmordsfare
DESCRIPTION:RVTS Vest arrangerer kurset Førstehjelp ved selvmordsfare i Sandnes 5.-6. juni. Kurset er åpent for alle å medle seg på. Invitasjon med påmeldingsinformasjon \nKontaktperson er Anne Håkonsholm\, e-post: vivatah@gmail.com \n
URL:https://vivatselvmordsforebygging.net/event/sandnes-forstehjelp-ved-selvmordsfare-3/
LOCATION:Sandnes
CATEGORIES:Kurs,Førstehjelp ved selvmordsfare,Vest
END:VEVENT
BEGIN:VEVENT
DTSTART;VALUE=DATE:20190605
DTEND;VALUE=DATE:20190607
DTSTAMP:20260425T025741
CREATED:20190507T123914Z
LAST-MODIFIED:20190507T123914Z
UID:4872-1559692800-1559865599@vivatselvmordsforebygging.net
SUMMARY:Nesodden\, Førstehjelp ved selvmordsfare
DESCRIPTION:Kurset Førstehjelp ved selvmordsfare arrangeres på Nesoddtunet 5-6  juni. Kurset er åpent for alle å melde seg på. \nKontaktperson er Heidi Maria Päivärinne \, e-post: heidi.maria.paivarinne@nesodden.kommune.no \n
URL:https://vivatselvmordsforebygging.net/event/nesodden-forstehjelp-ved-selvmordsfare-2/
LOCATION:Nesodden
CATEGORIES:Kurs,Førstehjelp ved selvmordsfare,Øst
END:VEVENT
BEGIN:VEVENT
DTSTART;VALUE=DATE:20190606
DTEND;VALUE=DATE:20190608
DTSTAMP:20260425T025741
CREATED:20190212T141533Z
LAST-MODIFIED:20190212T141533Z
UID:4535-1559779200-1559951999@vivatselvmordsforebygging.net
SUMMARY:Tromsø\, Førstehjelp ved selvmordsfare
DESCRIPTION:Institutt for psykologi ved UIT arrangerer kurs for studenter på 3. året profesjonsstudiet i Psykologi. Kurset er lukket. \nKontaktperson er Ingvild N. Myrbakk\, e-post: ingvild.n.myrbakk@uit.no \n
URL:https://vivatselvmordsforebygging.net/event/tromso-forstehjelp-ved-selvmordsfare-34/
LOCATION:Tromsø\, Fiolveien 15\, Tromsø\, Troms\, 9016\, Norge
CATEGORIES:Kurs,Førstehjelp ved selvmordsfare,Nord
GEO:69.6857553;18.9930926
X-APPLE-STRUCTURED-LOCATION;VALUE=URI;X-ADDRESS=Tromsø Fiolveien 15 Tromsø Troms 9016 Norge;X-APPLE-RADIUS=500;X-TITLE=Fiolveien 15:geo:18.9930926,69.6857553
END:VEVENT
BEGIN:VEVENT
DTSTART;VALUE=DATE:20190606
DTEND;VALUE=DATE:20190607
DTSTAMP:20260425T025741
CREATED:20190318T090022Z
LAST-MODIFIED:20190318T090434Z
UID:4721-1559779200-1559865599@vivatselvmordsforebygging.net
SUMMARY:Tromsø\, Oppmerksom på selvmordstanker
DESCRIPTION:Fagskolen i Troms\, avd. Tromsø arrangerer kurset Oppmerksom på selvmordstanker 6. juni. Kurset er for studentene ved Psykisk helsearbeid og rusarbeid og Helse\, aldring og aktiv omsorg. \nKontaktperson er Aud-Mari Sohini Fjelltun\, e-post: aud-mari.sohini.fjelltun@tromsfylke.no \n
URL:https://vivatselvmordsforebygging.net/event/tromso-oppmerksom-pa-selvmordstanker-2/
LOCATION:Tromsø\, Fiolveien 15\, Tromsø\, Troms\, 9016\, Norge
CATEGORIES:Kurs,Oppmerksom på selvmordstanker,Nord
GEO:69.6857553;18.9930926
X-APPLE-STRUCTURED-LOCATION;VALUE=URI;X-ADDRESS=Tromsø Fiolveien 15 Tromsø Troms 9016 Norge;X-APPLE-RADIUS=500;X-TITLE=Fiolveien 15:geo:18.9930926,69.6857553
END:VEVENT
BEGIN:VEVENT
DTSTART;VALUE=DATE:20190606
DTEND;VALUE=DATE:20190607
DTSTAMP:20260425T025741
CREATED:20190424T102649Z
LAST-MODIFIED:20190424T102649Z
UID:4837-1559779200-1559865599@vivatselvmordsforebygging.net
SUMMARY:Stavanger\, Oppmerksom på selvmordstanker
DESCRIPTION:Hundvåg Fotballklubb arrangerer kurset OPS! 6. juni. Kurset er for alle med frivillige verv i idretten på byøyene i Stavanger. \nKontaktperson er Pål Erik Johannessen\, e-post: pajohan@outlook.com \n
URL:https://vivatselvmordsforebygging.net/event/stavanger-oppmerksom-pa-selvmordstanker-3/
LOCATION:Stavanger\, Rogaland\, 4000\, Norge
CATEGORIES:Kurs,Oppmerksom på selvmordstanker,Vest
GEO:58.9562814;5.7377252
END:VEVENT
END:VCALENDAR