BEGIN:VCALENDAR
VERSION:2.0
PRODID:-//vivat - ECPv4.9.14//NONSGML v1.0//EN
CALSCALE:GREGORIAN
METHOD:PUBLISH
X-WR-CALNAME:vivat
X-ORIGINAL-URL:https://vivatselvmordsforebygging.net
X-WR-CALDESC:Events for vivat
BEGIN:VTIMEZONE
TZID:Europe/Oslo
BEGIN:DAYLIGHT
TZOFFSETFROM:+0100
TZOFFSETTO:+0200
TZNAME:CEST
DTSTART:20190331T010000
END:DAYLIGHT
BEGIN:STANDARD
TZOFFSETFROM:+0200
TZOFFSETTO:+0100
TZNAME:CET
DTSTART:20191027T010000
END:STANDARD
END:VTIMEZONE
BEGIN:VEVENT
DTSTART;VALUE=DATE:20190611
DTEND;VALUE=DATE:20190613
DTSTAMP:20260425T030931
CREATED:20190212T141644Z
LAST-MODIFIED:20190212T141644Z
UID:4536-1560211200-1560383999@vivatselvmordsforebygging.net
SUMMARY:Tromsø\, Førstehjelp ved selvmordsfare
DESCRIPTION:Institutt for psykologi ved UIT arrangerer kurs for studenter på 3. året profesjonsstudiet i Psykologi. Kurset er lukket. \nKontaktperson er Ingvild N. Myrbakk\, e-post: ingvild.n.myrbakk@uit.no \n
URL:https://vivatselvmordsforebygging.net/event/tromso-forstehjelp-ved-selvmordsfare-35/
LOCATION:Tromsø\, Fiolveien 15\, Tromsø\, Troms\, 9016\, Norge
CATEGORIES:Kurs,Førstehjelp ved selvmordsfare,Nord
GEO:69.6857553;18.9930926
X-APPLE-STRUCTURED-LOCATION;VALUE=URI;X-ADDRESS=Tromsø Fiolveien 15 Tromsø Troms 9016 Norge;X-APPLE-RADIUS=500;X-TITLE=Fiolveien 15:geo:18.9930926,69.6857553
END:VEVENT
BEGIN:VEVENT
DTSTART;VALUE=DATE:20190612
DTEND;VALUE=DATE:20190614
DTSTAMP:20260425T030932
CREATED:20190424T090047Z
LAST-MODIFIED:20190425T091257Z
UID:4818-1560297600-1560470399@vivatselvmordsforebygging.net
SUMMARY:Molde\, Førstehjelp ved selvmordsfare
DESCRIPTION:Molde kommune\, Ressurstjenesten – enhet for psykisk helse og rus inviterer til kurset Førstehjelp ved selvmordsfare 12.-13. juni. Invitasjon med påmeldingsinformasjon \nKontaktperson er Annett Eidem Røsok\, e-post: annett.eidem.rosok@molde.kommune.no \n
URL:https://vivatselvmordsforebygging.net/event/4818/
LOCATION:Molde\, Molde\, Molde\, 6400\, Norge
CATEGORIES:Kurs,Førstehjelp ved selvmordsfare,Midt
GEO:62.7484101;7.1268681
END:VEVENT
BEGIN:VEVENT
DTSTART;VALUE=DATE:20190612
DTEND;VALUE=DATE:20190614
DTSTAMP:20260425T030932
CREATED:20190430T103729Z
LAST-MODIFIED:20190430T103729Z
UID:4855-1560297600-1560470399@vivatselvmordsforebygging.net
SUMMARY:Bergen\, Førstehjelp ved selvmordsfare
DESCRIPTION:Kurset Førstehjelp ved selvmordsfare arrangeres i Bergen 12.-13. juni. Kurset er for Myrsæter bo- og rehabiliteringssenter. Kurset er lukket. \nKontaktperson er Thomas Dahl Orø\, tlf. 53 03 90 90 \n
URL:https://vivatselvmordsforebygging.net/event/bergen-forstehjelp-ved-selvmordsfare-57/
LOCATION:Bergen\, Hordaland\, 5000\, Norge
CATEGORIES:Kurs,Førstehjelp ved selvmordsfare,Vest
GEO:59.4199474;5.2725679
END:VEVENT
END:VCALENDAR