BEGIN:VCALENDAR
VERSION:2.0
PRODID:-//vivat - ECPv4.9.14//NONSGML v1.0//EN
CALSCALE:GREGORIAN
METHOD:PUBLISH
X-WR-CALNAME:vivat
X-ORIGINAL-URL:https://vivatselvmordsforebygging.net
X-WR-CALDESC:Events for vivat
BEGIN:VTIMEZONE
TZID:Europe/Oslo
BEGIN:DAYLIGHT
TZOFFSETFROM:+0100
TZOFFSETTO:+0200
TZNAME:CEST
DTSTART:20190331T010000
END:DAYLIGHT
BEGIN:STANDARD
TZOFFSETFROM:+0200
TZOFFSETTO:+0100
TZNAME:CET
DTSTART:20191027T010000
END:STANDARD
END:VTIMEZONE
BEGIN:VEVENT
DTSTART;VALUE=DATE:20190909
DTEND;VALUE=DATE:20190911
DTSTAMP:20260424T233439
CREATED:20190805T075358Z
LAST-MODIFIED:20190805T075358Z
UID:5002-1567987200-1568159999@vivatselvmordsforebygging.net
SUMMARY:Kvinnherad\, Førstehjelp ved selvmordsfare
DESCRIPTION:Kvinnherad kommune holder kurset Førstehjelp ved selvmordsfare. Kurset er for kommunens egne ansatte\, og er lukket. \nKontaktperson er Randi T. Nordvik\, epost: randi@mennesketifokus.no \n
URL:https://vivatselvmordsforebygging.net/event/kvinnherad-forstehjelp-ved-selvmordsfare-2/
LOCATION:Kvinnherad
CATEGORIES:Kurs,Førstehjelp ved selvmordsfare,Vest
END:VEVENT
BEGIN:VEVENT
DTSTART;TZID=Europe/Oslo:20190910T080000
DTEND;TZID=Europe/Oslo:20190910T170000
DTSTAMP:20260424T233439
CREATED:20190812T072930Z
LAST-MODIFIED:20190813T073036Z
UID:5020-1568102400-1568134800@vivatselvmordsforebygging.net
SUMMARY:Ranheim\, Oppmerksom på selvmordstanker
DESCRIPTION:Frivillighetssentralene arrangerer kurset Oppmerksom på selvmordstanker. Kurset er åpent for alle å melde seg på. \nKontaktperson er Anne Karin Nilsen\, epost: post@strindafrivilligsentral.no \n
URL:https://vivatselvmordsforebygging.net/event/ranheim-oppmerksom-pa-selvmordstanker/
LOCATION:Ranheim\, Trøndelag\, Norge
CATEGORIES:Kurs,Oppmerksom på selvmordstanker,Midt
END:VEVENT
BEGIN:VEVENT
DTSTART;TZID=Europe/Oslo:20190910T080000
DTEND;TZID=Europe/Oslo:20190910T120000
DTSTAMP:20260424T233439
CREATED:20190903T112622Z
LAST-MODIFIED:20190903T112622Z
UID:5095-1568102400-1568116800@vivatselvmordsforebygging.net
SUMMARY:Bergen\, Oppmerksom på selvmordstanker
DESCRIPTION:Forsvaret arrangerer kurset Oppmerksom på selvmordstanker for personell ved Haakonsvern. Kurset er lukket. \nKontaktperson er Theodor Svane\, e-post: t.svane@icloud.com \n
URL:https://vivatselvmordsforebygging.net/event/bergen-oppmerksom-pa-selvmordstanker-11/
LOCATION:Haakonsvern\, Mathopen\, Bergen\, Hordaland\, 5173\, Norge
CATEGORIES:Kurs,Oppmerksom på selvmordstanker,Vest
GEO:60.3380604;5.2093597
X-APPLE-STRUCTURED-LOCATION;VALUE=URI;X-ADDRESS=Haakonsvern Mathopen Bergen Hordaland 5173 Norge;X-APPLE-RADIUS=500;X-TITLE=Mathopen:geo:5.2093597,60.3380604
END:VEVENT
BEGIN:VEVENT
DTSTART;TZID=Europe/Oslo:20190910T090000
DTEND;TZID=Europe/Oslo:20190910T130000
DTSTAMP:20260424T233439
CREATED:20190823T090357Z
LAST-MODIFIED:20190823T090357Z
UID:5058-1568106000-1568120400@vivatselvmordsforebygging.net
SUMMARY:Tromsø\, Oppmerksom på selvmordstanker
DESCRIPTION:Vivat inviterer til OPS! 10 september i forbindelse med Verdensdagen for selvmordsforebygging. \nInvitasjon \nMeld deg på her\, via questback: Påmelding \nKontaktperson er Sigrid Tonstad\, e-post: vivat@unn.no \n
URL:https://vivatselvmordsforebygging.net/event/tromso-oppmerksom-pa-selvmordstanker-4/
LOCATION:Tromsø\, Fiolveien 15\, Tromsø\, Troms\, 9016\, Norge
CATEGORIES:Kurs,Oppmerksom på selvmordstanker,Nord
GEO:69.6857553;18.9930926
X-APPLE-STRUCTURED-LOCATION;VALUE=URI;X-ADDRESS=Tromsø Fiolveien 15 Tromsø Troms 9016 Norge;X-APPLE-RADIUS=500;X-TITLE=Fiolveien 15:geo:18.9930926,69.6857553
END:VEVENT
END:VCALENDAR