BEGIN:VCALENDAR
VERSION:2.0
PRODID:-//vivat - ECPv4.9.14//NONSGML v1.0//EN
CALSCALE:GREGORIAN
METHOD:PUBLISH
X-WR-CALNAME:vivat
X-ORIGINAL-URL:https://vivatselvmordsforebygging.net
X-WR-CALDESC:Events for vivat
BEGIN:VTIMEZONE
TZID:Europe/Oslo
BEGIN:DAYLIGHT
TZOFFSETFROM:+0100
TZOFFSETTO:+0200
TZNAME:CEST
DTSTART:20190331T010000
END:DAYLIGHT
BEGIN:STANDARD
TZOFFSETFROM:+0200
TZOFFSETTO:+0100
TZNAME:CET
DTSTART:20191027T010000
END:STANDARD
END:VTIMEZONE
BEGIN:VEVENT
DTSTART;VALUE=DATE:20191008
DTEND;VALUE=DATE:20191010
DTSTAMP:20260424T221545
CREATED:20190826T072455Z
LAST-MODIFIED:20190925T134949Z
UID:5068-1570492800-1570665599@vivatselvmordsforebygging.net
SUMMARY:Oslo\, Førstehjelp ved selvmordfare
DESCRIPTION:VID Vitenskapelige høgskole arrangerer kurset Førstehjelp ved selvmordsfare. Kurset er for studenter\, og er lukket. \nKontaktperson er Elisabeth Nilsen Aas\, e-post: elisabeth.nilsen.aas@vid.no \n
URL:https://vivatselvmordsforebygging.net/event/oslo-forstehjelp-ved-selvmordfare/
LOCATION:Oslo\, Norge
CATEGORIES:Kurs,Førstehjelp ved selvmordsfare,Øst
GEO:60.472024;8.468946
END:VEVENT
BEGIN:VEVENT
DTSTART;VALUE=DATE:20191008
DTEND;VALUE=DATE:20191010
DTSTAMP:20260424T221545
CREATED:20190827T082649Z
LAST-MODIFIED:20190827T172517Z
UID:5076-1570492800-1570665599@vivatselvmordsforebygging.net
SUMMARY:Hamar\, Førstehjelp ved selvmordsfare
DESCRIPTION:Toneheim Folkehøyskole arrangerer kurset Førstehjelp ved selvmordsfare. Kurset er for ansatte ved landets Folkehøyskoler. \nKontaktperson er Mette Furmston\, epost: mf@toneheim.no \n
URL:https://vivatselvmordsforebygging.net/event/hamar-forstehjelp-ved-selvmordsfare-2/
LOCATION:Norge
CATEGORIES:Kurs,Førstehjelp ved selvmordsfare,Øst
END:VEVENT
BEGIN:VEVENT
DTSTART;TZID=Europe/Oslo:20191008T170000
DTEND;TZID=Europe/Oslo:20191008T210000
DTSTAMP:20260424T221545
CREATED:20190814T061801Z
LAST-MODIFIED:20190814T061801Z
UID:5041-1570554000-1570568400@vivatselvmordsforebygging.net
SUMMARY:Trondheim\, Oppmerksom på selvmordstanker
DESCRIPTION:I samarbeid med  LEVE sør i Trøndelag\, Trondheim kommune og Verdensdagen for psykisk helse arrangeres kurset Oppmerksom på selvmordstanker. \nKurset er åpent for alle å melde seg på. Ingen kursavgift for deltakere. \nKontaktperson er Eva Steinkjer\, epost: eva_steinkjer@hotmail.com \n
URL:https://vivatselvmordsforebygging.net/event/trondheim-oppmerksom-pa-selvmordstanker-9/
LOCATION:Trondheim\, Trondheim\, Sør-Trøndelag\, 7000\, Norge
CATEGORIES:Kurs,Oppmerksom på selvmordstanker,Midt
GEO:63.427569;10.393207
END:VEVENT
END:VCALENDAR