BEGIN:VCALENDAR
VERSION:2.0
PRODID:-//vivat - ECPv4.9.14//NONSGML v1.0//EN
CALSCALE:GREGORIAN
METHOD:PUBLISH
X-WR-CALNAME:vivat
X-ORIGINAL-URL:https://vivatselvmordsforebygging.net
X-WR-CALDESC:Events for vivat
BEGIN:VTIMEZONE
TZID:Europe/Oslo
BEGIN:DAYLIGHT
TZOFFSETFROM:+0100
TZOFFSETTO:+0200
TZNAME:CEST
DTSTART:20190331T010000
END:DAYLIGHT
BEGIN:STANDARD
TZOFFSETFROM:+0200
TZOFFSETTO:+0100
TZNAME:CET
DTSTART:20191027T010000
END:STANDARD
END:VTIMEZONE
BEGIN:VEVENT
DTSTART;VALUE=DATE:20191009
DTEND;VALUE=DATE:20191011
DTSTAMP:20260424T221024
CREATED:20190304T144315Z
LAST-MODIFIED:20190304T144315Z
UID:4696-1570579200-1570751999@vivatselvmordsforebygging.net
SUMMARY:Asker\, Førstehjelp ved selvmordsfare
DESCRIPTION:Avdeling psykisk helse og rus i Asker kommune inviterer til kurset Førstehjelp ved selvmordsfare 9.-10. oktober 2019. Kurset er åpent for alle å søke på. \nFor nærmere informasjon\, ta kontakt med Vivi-Ann Rype\, e-post: vivi-ann.rype@asker.kommune.no \n
URL:https://vivatselvmordsforebygging.net/event/asker-forstehjelp-ved-selvmordsfare-6/
LOCATION:Asker\, Asker\, Akershus\, 1373\, Norge
CATEGORIES:Kurs,Førstehjelp ved selvmordsfare,Øst
ORGANIZER;CN="Asker%20kommune":MAILTO:vivi-ann.rype@asker.kommune.no
GEO:59.8316353;10.4297237
END:VEVENT
BEGIN:VEVENT
DTSTART;VALUE=DATE:20191010
DTEND;VALUE=DATE:20191012
DTSTAMP:20260424T221024
CREATED:20190819T102138Z
LAST-MODIFIED:20190819T102138Z
UID:5056-1570665600-1570838399@vivatselvmordsforebygging.net
SUMMARY:Oslo\, Førstehjelp ved selvmordsfare
DESCRIPTION:Kirkens Bymisjon arrangerer kurset Førstehjelp ved selvmordsfare. Kurset er for interne deltakere\, og er lukket. \nKontaktperson er Elsbet Pilskog\, epost: elsbet.pilskog@bymisjon.no \n
URL:https://vivatselvmordsforebygging.net/event/oslo-forstehjelp-ved-selvmordsfare-55/
LOCATION:Oslo\, Akershus\, Norge
CATEGORIES:Kurs,Førstehjelp ved selvmordsfare,Øst
GEO:60.472024;8.468946
END:VEVENT
BEGIN:VEVENT
DTSTART;VALUE=DATE:20191010
DTEND;VALUE=DATE:20191011
DTSTAMP:20260424T221024
CREATED:20191002T104456Z
LAST-MODIFIED:20191002T104456Z
UID:5165-1570665600-1570751999@vivatselvmordsforebygging.net
SUMMARY:Drammen\, Oppmerksom på selvmordstanker
DESCRIPTION:Det arrangeres OPS! kurs for Studentforeningen for lærerstudenter ved Drammen universitet. \nKontaktperson er Linda Jakobsen\, e-post: lkjconsulting@outlook.com \n
URL:https://vivatselvmordsforebygging.net/event/drammen-oppmerksom-pa-selvmordstanker-2/
LOCATION:Drammen\, Drammen\, Buskerud\, 3040\, Norge
CATEGORIES:Kurs,Oppmerksom på selvmordstanker,Øst
GEO:59.7277268;10.2463455
END:VEVENT
BEGIN:VEVENT
DTSTART;TZID=Europe/Oslo:20191010T180000
DTEND;TZID=Europe/Oslo:20191010T220000
DTSTAMP:20260424T221024
CREATED:20190816T131304Z
LAST-MODIFIED:20190816T131304Z
UID:5050-1570730400-1570744800@vivatselvmordsforebygging.net
SUMMARY:Lakselv\, Oppmerksom på selvmordstanker
DESCRIPTION:Finnmark Idrettskrets og Porsanger kommune arrangerer kurset Oppmerksom på selvmordstanker. Kurset er åpent for alle å melde seg på. \nINVITASJON \nKontaktperson er Inger Lise Eieland\, epost: inger-lise.eieland@idrettsforbundet.no \n
URL:https://vivatselvmordsforebygging.net/event/lakselv-oppmerksom-pa-selvmordstanker-2/
LOCATION:Lakselv\, lakselv\, Finnmark\, 9700\, Norge
CATEGORIES:Kurs,Oppmerksom på selvmordstanker,Nord
GEO:70.0513264;24.9717819
END:VEVENT
END:VCALENDAR