BEGIN:VCALENDAR
VERSION:2.0
PRODID:-//vivat - ECPv4.9.14//NONSGML v1.0//EN
CALSCALE:GREGORIAN
METHOD:PUBLISH
X-WR-CALNAME:vivat
X-ORIGINAL-URL:https://vivatselvmordsforebygging.net
X-WR-CALDESC:Events for vivat
BEGIN:VTIMEZONE
TZID:Europe/Oslo
BEGIN:DAYLIGHT
TZOFFSETFROM:+0100
TZOFFSETTO:+0200
TZNAME:CEST
DTSTART:20190331T010000
END:DAYLIGHT
BEGIN:STANDARD
TZOFFSETFROM:+0200
TZOFFSETTO:+0100
TZNAME:CET
DTSTART:20191027T010000
END:STANDARD
END:VTIMEZONE
BEGIN:VEVENT
DTSTART;VALUE=DATE:20191014
DTEND;VALUE=DATE:20191016
DTSTAMP:20260424T221702
CREATED:20190711T055545Z
LAST-MODIFIED:20190925T132516Z
UID:4997-1571011200-1571183999@vivatselvmordsforebygging.net
SUMMARY:Midsund\, Førsthjelp ved selvmordsfare
DESCRIPTION:Midsund Kommune arrangerer kurset Førstehjelp ved selvmordsfare. Kurset er åpent. \nKursinvitasjon VIVAT \nKontaktperson er Sissel Orvik\, epost: sissel.orvik@midsund.kommune.no \n
URL:https://vivatselvmordsforebygging.net/event/misund-forsthjelp-ved-selvmordsfare/
LOCATION:Midsund
CATEGORIES:Kurs,Førstehjelp ved selvmordsfare,Midt
END:VEVENT
BEGIN:VEVENT
DTSTART;VALUE=DATE:20191014
DTEND;VALUE=DATE:20191015
DTSTAMP:20260424T221702
CREATED:20191002T104551Z
LAST-MODIFIED:20191002T104551Z
UID:5166-1571011200-1571097599@vivatselvmordsforebygging.net
SUMMARY:Drammen\, Oppmerksom på selvmordstanker
DESCRIPTION:Det arrangeres OPS! kurs for Studentforeningen for lærerstudenter ved Drammen universitet. \nKontaktperson er Linda Jakobsen\, e-post: lkjconsulting@outlook.com \n
URL:https://vivatselvmordsforebygging.net/event/drammen-oppmerksom-pa-selvmordstanker-3/
LOCATION:Drammen\, Drammen\, Buskerud\, 3040\, Norge
CATEGORIES:Kurs,Oppmerksom på selvmordstanker,Øst
GEO:59.7277268;10.2463455
END:VEVENT
BEGIN:VEVENT
DTSTART;TZID=Europe/Oslo:20191014T100000
DTEND;TZID=Europe/Oslo:20191014T143000
DTSTAMP:20260424T221702
CREATED:20190910T133037Z
LAST-MODIFIED:20190910T133143Z
UID:5106-1571047200-1571063400@vivatselvmordsforebygging.net
SUMMARY:Sandnes\, Oppmerksom på selvmordstanker
DESCRIPTION:Rogaland Brann og redning arrangerer kurset Oppmerksom på selvmordstanker. \nKurset er i utgangspunktet lukket\, men mulig å melde seg på da det er noen få ledige plasser. \nKontaktperson er Marie Forberg Aanestad\, epost: marie.forberg.aanestad@rogbr.no \n
URL:https://vivatselvmordsforebygging.net/event/sandnes-oppmerksom-pa-selvmordstanker-2/
LOCATION:Sandnes
CATEGORIES:Kurs,Oppmerksom på selvmordstanker,Vest
END:VEVENT
END:VCALENDAR