BEGIN:VCALENDAR
VERSION:2.0
PRODID:-//vivat - ECPv4.9.14//NONSGML v1.0//EN
CALSCALE:GREGORIAN
METHOD:PUBLISH
X-WR-CALNAME:vivat
X-ORIGINAL-URL:https://vivatselvmordsforebygging.net
X-WR-CALDESC:Events for vivat
BEGIN:VTIMEZONE
TZID:Europe/Oslo
BEGIN:DAYLIGHT
TZOFFSETFROM:+0100
TZOFFSETTO:+0200
TZNAME:CEST
DTSTART:20190331T010000
END:DAYLIGHT
BEGIN:STANDARD
TZOFFSETFROM:+0200
TZOFFSETTO:+0100
TZNAME:CET
DTSTART:20191027T010000
END:STANDARD
END:VTIMEZONE
BEGIN:VEVENT
DTSTART;VALUE=DATE:20191017
DTEND;VALUE=DATE:20191019
DTSTAMP:20260424T220939
CREATED:20190531T114316Z
LAST-MODIFIED:20190925T133317Z
UID:4954-1571270400-1571443199@vivatselvmordsforebygging.net
SUMMARY:Skien\, Førstehjelp ved selvmordsfare
DESCRIPTION:Kirkens SOS Telemark arrangerer kurset Førstehjelp ved selvmordsfare i Skien. Kurset er åpent for alle. \nKontaktperson er Stine Sætre Risanger\, epost: stine.risanger@kirkens-sos.no \nInvitasjon \nInformasjon om kurset \n
URL:https://vivatselvmordsforebygging.net/event/telemark-forstehjelp-ved-selvmordsfare/
LOCATION:Skien\, Skien\, Telemark\, 3700\, Norge
CATEGORIES:Kurs,Førstehjelp ved selvmordsfare,Sør
GEO:59.205357;9.606522
END:VEVENT
BEGIN:VEVENT
DTSTART;VALUE=DATE:20191017
DTEND;VALUE=DATE:20191018
DTSTAMP:20260424T220939
CREATED:20190925T134602Z
LAST-MODIFIED:20190925T134850Z
UID:5159-1571270400-1571356799@vivatselvmordsforebygging.net
SUMMARY:Oslo\, Oppmerksom på selvmordstanker
DESCRIPTION:VID Vitenskapelige høgskole arrangerer kurset Oppmerksom på selvmordstanker 17. oktober. Kurset er for studenter\, og er lukket. \nKontaktperson er Elisabeth Nilsen Aas\, e-post: elisabeth.nilsen.aas@vid.no \n
URL:https://vivatselvmordsforebygging.net/event/oslo-oppmerksom-pa-selvmordstanker-6/
LOCATION:Oslo\, Telemark\, Norge
CATEGORIES:Kurs,Oppmerksom på selvmordstanker,Øst
GEO:60.472024;8.468946
END:VEVENT
BEGIN:VEVENT
DTSTART;TZID=Europe/Oslo:20191017T080000
DTEND;TZID=Europe/Oslo:20191017T120000
DTSTAMP:20260424T220939
CREATED:20190902T131735Z
LAST-MODIFIED:20190902T133305Z
UID:5090-1571299200-1571313600@vivatselvmordsforebygging.net
SUMMARY:Bergen\, Oppmerksom på selvmordstanker
DESCRIPTION:Forsvaret arrangerer kurset Oppmerksom på selvmordstanker for personell ved Haakonsvern. Kurset er lukket. \nKontaktperson er Theodor Svane\, e-post: t.svane@icloud.com \n
URL:https://vivatselvmordsforebygging.net/event/bergen-oppmerksom-pa-selvmordstanker-9/
LOCATION:Haakonsvern\, Mathopen\, Bergen\, Hordaland\, 5173\, Norge
CATEGORIES:Kurs,Oppmerksom på selvmordstanker,Vest
GEO:60.3380604;5.2093597
X-APPLE-STRUCTURED-LOCATION;VALUE=URI;X-ADDRESS=Haakonsvern Mathopen Bergen Hordaland 5173 Norge;X-APPLE-RADIUS=500;X-TITLE=Mathopen:geo:5.2093597,60.3380604
END:VEVENT
END:VCALENDAR