BEGIN:VCALENDAR
VERSION:2.0
PRODID:-//vivat - ECPv4.9.14//NONSGML v1.0//EN
CALSCALE:GREGORIAN
METHOD:PUBLISH
X-WR-CALNAME:vivat
X-ORIGINAL-URL:https://vivatselvmordsforebygging.net
X-WR-CALDESC:Events for vivat
BEGIN:VTIMEZONE
TZID:Europe/Oslo
BEGIN:DAYLIGHT
TZOFFSETFROM:+0100
TZOFFSETTO:+0200
TZNAME:CEST
DTSTART:20190331T010000
END:DAYLIGHT
BEGIN:STANDARD
TZOFFSETFROM:+0200
TZOFFSETTO:+0100
TZNAME:CET
DTSTART:20191027T010000
END:STANDARD
END:VTIMEZONE
BEGIN:VEVENT
DTSTART;VALUE=DATE:20191022
DTEND;VALUE=DATE:20191024
DTSTAMP:20260424T221600
CREATED:20190620T080212Z
LAST-MODIFIED:20190620T084755Z
UID:4972-1571702400-1571875199@vivatselvmordsforebygging.net
SUMMARY:Gjøvik\, Førstehjelp ved selvmordsfare
DESCRIPTION:Fylkesopplæringssjefen i Oppland inviterer ansatte i videregående opplæring\, opplæringskontor og lærebedrifter i fylket til kurset Førstehjelp ved selvmordsfare. \nFrist for påmelding er 15.09.2019 \nKontaktperson er Lotte Wevelstad\, epost: Lotte.Wevelstad@oppland.org. \nInformasjon og påmelding \n
URL:https://vivatselvmordsforebygging.net/event/gjovik-forstehjelp-ved-selvmordsfare-2/
LOCATION:Gjøvik\, 2819\, Norge
CATEGORIES:Kurs,Førstehjelp ved selvmordsfare,Øst
GEO:60.8070191;10.6709122
END:VEVENT
BEGIN:VEVENT
DTSTART;VALUE=DATE:20191022
DTEND;VALUE=DATE:20191024
DTSTAMP:20260424T221600
CREATED:20190627T114127Z
LAST-MODIFIED:20190627T114127Z
UID:4993-1571702400-1571875199@vivatselvmordsforebygging.net
SUMMARY:Kristiansand\, Førstehjelp ved selvmordsfare
DESCRIPTION:RVTS Sør arrangerer kurset Førstehjelp ved selvmordsfare for ansatte ved Jegersberg Gård. Kurset er del av et kompetansebyggende program\, og er derfor lukket for andre. \nKontaktperson er Øyvind Dåsvatn\, epost: oyvind.dasvatn@rvtssor.no \n
URL:https://vivatselvmordsforebygging.net/event/kristiansand-forstehjelp-ved-selvmordsfare-22/
LOCATION:Kristiansand\, Kristiansand\, Vest-Agder\, 4600\, Norge
CATEGORIES:Kurs,Førstehjelp ved selvmordsfare,Sør
GEO:58.1611426;8.0307271
END:VEVENT
BEGIN:VEVENT
DTSTART;VALUE=DATE:20191022
DTEND;VALUE=DATE:20191024
DTSTAMP:20260424T221600
CREATED:20190906T102808Z
LAST-MODIFIED:20190925T132854Z
UID:5100-1571702400-1571875199@vivatselvmordsforebygging.net
SUMMARY:Kristiansand\, Førstehjelp ved selvmordsfare
DESCRIPTION:Studentsamskipnaden i Agder arrangerer kurset Førstehjelp ved selvmordsfare for sine studenter. Kurset er lukket. \nKontaktperson er: Hellen Saga\, epost: hellen.saga@sia.no \n
URL:https://vivatselvmordsforebygging.net/event/agder-forstehjelp-ved-selvmordsfare/
LOCATION:Kristiansand\, Kristiansand\, Vest-Agder\, 4600\, Norge
CATEGORIES:Kurs,Førstehjelp ved selvmordsfare,Sør
GEO:58.1611426;8.0307271
END:VEVENT
BEGIN:VEVENT
DTSTART;VALUE=DATE:20191022
DTEND;VALUE=DATE:20191023
DTSTAMP:20260424T221600
CREATED:20191002T131724Z
LAST-MODIFIED:20191002T131724Z
UID:5167-1571702400-1571788799@vivatselvmordsforebygging.net
SUMMARY:Larvik\, Oppmerksom på selvmordstanker
DESCRIPTION:iFokus arrangerer kurset Oppmerksom på selvmordstanker i Larvik 22. oktober. Kurset er lukket. \nKontaktperson er Herdis Irene Tobiassen\, e-post: herdis.irene.tobiassen@larvik.kommune.no \n
URL:https://vivatselvmordsforebygging.net/event/larvik-oppmerksom-pa-selvmordstanker-6/
LOCATION:Larvik
CATEGORIES:Kurs,Oppmerksom på selvmordstanker,Sør
END:VEVENT
BEGIN:VEVENT
DTSTART;TZID=Europe/Oslo:20191022T080000
DTEND;TZID=Europe/Oslo:20191022T160000
DTSTAMP:20260424T221600
CREATED:20190813T072417Z
LAST-MODIFIED:20190813T072417Z
UID:5033-1571731200-1571760000@vivatselvmordsforebygging.net
SUMMARY:Inderøy\, Oppmerksom på selvmordstanker
DESCRIPTION:Trøndelag Fylkeskommune arrangerer kurset Oppmerksom på selvmordstanker\, for rektorer i videregående skoler. Kurset er lukket. \nKontaktperson er Lise Eriksen\, epost: liser@trondelagfylke.no \n
URL:https://vivatselvmordsforebygging.net/event/inderoy-oppmerksom-pa-selvmordstanker-2/
LOCATION:Inderøy\, Trøndelag\, Norge
CATEGORIES:Kurs,Oppmerksom på selvmordstanker,Midt
END:VEVENT
BEGIN:VEVENT
DTSTART;TZID=Europe/Oslo:20191022T130000
DTEND;TZID=Europe/Oslo:20191022T170000
DTSTAMP:20260424T221600
CREATED:20190828T083100Z
LAST-MODIFIED:20190828T083100Z
UID:5080-1571749200-1571763600@vivatselvmordsforebygging.net
SUMMARY:Bergen\, Oppmerksom på selvmordstanker
DESCRIPTION:Kjøkkelvik skole arrangerer kurset Oppmerksom ved selvmordstanker for barne- og ungdomstrinnets lærere. Kurset er lukket. \nKontaktperson er Tine Hammerich\, epost: tine.hammerich@online.no \n
URL:https://vivatselvmordsforebygging.net/event/bergen-oppmerksom-pa-selvmordstanker-8/
LOCATION:Bergen\, Hordaland\, 5000\, Norge
CATEGORIES:Kurs,Oppmerksom på selvmordstanker,Vest
GEO:59.4199474;5.2725679
END:VEVENT
END:VCALENDAR