BEGIN:VCALENDAR
VERSION:2.0
PRODID:-//vivat - ECPv4.9.14//NONSGML v1.0//EN
CALSCALE:GREGORIAN
METHOD:PUBLISH
X-WR-CALNAME:vivat
X-ORIGINAL-URL:https://vivatselvmordsforebygging.net
X-WR-CALDESC:Events for vivat
BEGIN:VTIMEZONE
TZID:Europe/Oslo
BEGIN:DAYLIGHT
TZOFFSETFROM:+0100
TZOFFSETTO:+0200
TZNAME:CEST
DTSTART:20190331T010000
END:DAYLIGHT
BEGIN:STANDARD
TZOFFSETFROM:+0200
TZOFFSETTO:+0100
TZNAME:CET
DTSTART:20191027T010000
END:STANDARD
END:VTIMEZONE
BEGIN:VEVENT
DTSTART;VALUE=DATE:20191106
DTEND;VALUE=DATE:20191108
DTSTAMP:20260424T205522
CREATED:20190627T114400Z
LAST-MODIFIED:20190925T132713Z
UID:4994-1572998400-1573171199@vivatselvmordsforebygging.net
SUMMARY:Mysen\, Førstehjelp ved selvmordsfare
DESCRIPTION:RVTS Sør arrangerer kurset Førstehjelp ved selvmordsfare for ansatte ved Mysebu Transittmottak. Kurset er del av et kompetansebyggende program\, og er derfor lukket for andre. \nKontaktperson er Øyvind Dåsvatn\, epost: oyvind.dasvatn@rvtssor.no \n
URL:https://vivatselvmordsforebygging.net/event/mysebu-forstehjelp-ved-selvmordsfare/
LOCATION:Norge
CATEGORIES:Kurs,Førstehjelp ved selvmordsfare,Sør
END:VEVENT
BEGIN:VEVENT
DTSTART;VALUE=DATE:20191107
DTEND;VALUE=DATE:20191109
DTSTAMP:20260424T205522
CREATED:20190702T074400Z
LAST-MODIFIED:20190702T074400Z
UID:4996-1573084800-1573257599@vivatselvmordsforebygging.net
SUMMARY:Lillestrøm\, Førstehjelp ved selvmordsfare
DESCRIPTION:Kriminalomsorgens høyskole og utdanningssenter (KRUS) arrangerer kurset Førstehjelp ved selvmordsfare i samarbeid med Vivat. \nKurset et lukket. \nKontaktperson er Elisabeth Letèn\, epost: elisabeth.leten@krus.no \n  \n
URL:https://vivatselvmordsforebygging.net/event/lillestrom-forstehjelp-ved-selvmordsfare-2/
LOCATION:Lillestrøm
CATEGORIES:Kurs,Førstehjelp ved selvmordsfare,Øst
END:VEVENT
BEGIN:VEVENT
DTSTART;VALUE=DATE:20191107
DTEND;VALUE=DATE:20191108
DTSTAMP:20260424T205522
CREATED:20191015T075415Z
LAST-MODIFIED:20191015T075415Z
UID:5202-1573084800-1573171199@vivatselvmordsforebygging.net
SUMMARY:Karmøy\, Oppmerksom på selvmordstanker
DESCRIPTION:Karmøy Kommune arrangerer kurset Oppmerksom på selvmordstanker. Kurset er for lærere i kommunen\, og er lukket for andre deltakere. \nKontaktperson er Gudrun Austad\, epost: gudrun.austad@helse-bergen.no \n
URL:https://vivatselvmordsforebygging.net/event/karmoy-oppmerksom-pa-selvmordstanker-5/
LOCATION:Karmøy\, Rogaland\, 4265\, Norge
CATEGORIES:Kurs,Oppmerksom på selvmordstanker,Vest
GEO:59.312995;5.2917524
END:VEVENT
BEGIN:VEVENT
DTSTART;TZID=Europe/Oslo:20191107T080000
DTEND;TZID=Europe/Oslo:20191107T120000
DTSTAMP:20260424T205522
CREATED:20190902T131921Z
LAST-MODIFIED:20190902T133208Z
UID:5091-1573113600-1573128000@vivatselvmordsforebygging.net
SUMMARY:Bergen\, Oppmerksom på selvmordstanker
DESCRIPTION:Forsvaret arrangerer kurset Oppmerksom på selvmordstanker for personell ved Haakonsvern. Kurset er lukket. \nKontaktperson er Theodor Svane\, e-post: t.svane@icloud.com \n
URL:https://vivatselvmordsforebygging.net/event/bergen-oppmerksom-pa-selvmordstanker-10/
LOCATION:Haakonsvern\, Mathopen\, Bergen\, Hordaland\, 5173\, Norge
CATEGORIES:Kurs,Oppmerksom på selvmordstanker,Vest
GEO:60.3380604;5.2093597
X-APPLE-STRUCTURED-LOCATION;VALUE=URI;X-ADDRESS=Haakonsvern Mathopen Bergen Hordaland 5173 Norge;X-APPLE-RADIUS=500;X-TITLE=Mathopen:geo:5.2093597,60.3380604
END:VEVENT
END:VCALENDAR