BEGIN:VCALENDAR
VERSION:2.0
PRODID:-//vivat - ECPv4.9.14//NONSGML v1.0//EN
CALSCALE:GREGORIAN
METHOD:PUBLISH
X-WR-CALNAME:vivat
X-ORIGINAL-URL:https://vivatselvmordsforebygging.net
X-WR-CALDESC:Events for vivat
BEGIN:VTIMEZONE
TZID:Europe/Oslo
BEGIN:DAYLIGHT
TZOFFSETFROM:+0100
TZOFFSETTO:+0200
TZNAME:CEST
DTSTART:20190331T010000
END:DAYLIGHT
BEGIN:STANDARD
TZOFFSETFROM:+0200
TZOFFSETTO:+0100
TZNAME:CET
DTSTART:20191027T010000
END:STANDARD
END:VTIMEZONE
BEGIN:VEVENT
DTSTART;VALUE=DATE:20191111
DTEND;VALUE=DATE:20191112
DTSTAMP:20260424T205727
CREATED:20190925T134747Z
LAST-MODIFIED:20190925T134804Z
UID:5160-1573430400-1573516799@vivatselvmordsforebygging.net
SUMMARY:Oslo\, Oppmerksom på selvmordstanker
DESCRIPTION:VID Vitenskapelige høgskole arrangerer kurset Oppmerksom på selvmordstanker 11. november. Kurset er for studenter\, og er lukket. \nKontaktperson er Elisabeth Nilsen Aas\, e-post: elisabeth.nilsen.aas@vid.no \n
URL:https://vivatselvmordsforebygging.net/event/oslo-oppmerksom-pa-selvmordstanker-7/
LOCATION:Oslo\, Norge
CATEGORIES:Kurs,Oppmerksom på selvmordstanker,Øst
GEO:60.472024;8.468946
END:VEVENT
BEGIN:VEVENT
DTSTART;VALUE=DATE:20191111
DTEND;VALUE=DATE:20191113
DTSTAMP:20260424T205727
CREATED:20191008T112130Z
LAST-MODIFIED:20191008T112130Z
UID:5182-1573430400-1573603199@vivatselvmordsforebygging.net
SUMMARY:Fauske\, Førstehjelp ved selvmordsfare
DESCRIPTION:Kurset Førstehjelp ved selvmordsfare arrangeres for skolehelsetjenesten i Nordland. \nKontaktperson er Lill Esther Nilsen\, epost: lill.esther.nilsen@rana.kommune.no \n
URL:https://vivatselvmordsforebygging.net/event/fauske-forstehjelp-ved-selvmordsfare-4/
LOCATION:Fauske\, Norge
CATEGORIES:Kurs,Førstehjelp ved selvmordsfare,Nord
GEO:60.472024;8.468946
END:VEVENT
BEGIN:VEVENT
DTSTART;VALUE=DATE:20191111
DTEND;VALUE=DATE:20191113
DTSTAMP:20260424T205727
CREATED:20191009T134657Z
LAST-MODIFIED:20191107T082213Z
UID:5197-1573430400-1573603199@vivatselvmordsforebygging.net
SUMMARY:Sunndal\, Førstehjelp ved selvmordsfare
DESCRIPTION:Sunndal kommune arrangerer kurset Førstehjelp ved selvmordsfare. Kurset er for kommunens egne ansatte. \nKontaktperson er Mariann Meisal\, epost: mariann.meisal@sunndal.kommune.no \n  \n
URL:https://vivatselvmordsforebygging.net/event/sunndal-forstehjelp-ved-selvmordsfare/
LOCATION:Sunndal
CATEGORIES:Kurs,Førstehjelp ved selvmordsfare,Midt
END:VEVENT
END:VCALENDAR