BEGIN:VCALENDAR
VERSION:2.0
PRODID:-//vivat - ECPv4.9.14//NONSGML v1.0//EN
CALSCALE:GREGORIAN
METHOD:PUBLISH
X-WR-CALNAME:vivat
X-ORIGINAL-URL:https://vivatselvmordsforebygging.net
X-WR-CALDESC:Events for vivat
BEGIN:VTIMEZONE
TZID:Europe/Oslo
BEGIN:DAYLIGHT
TZOFFSETFROM:+0100
TZOFFSETTO:+0200
TZNAME:CEST
DTSTART:20190331T010000
END:DAYLIGHT
BEGIN:STANDARD
TZOFFSETFROM:+0200
TZOFFSETTO:+0100
TZNAME:CET
DTSTART:20191027T010000
END:STANDARD
END:VTIMEZONE
BEGIN:VEVENT
DTSTART;VALUE=DATE:20191118
DTEND;VALUE=DATE:20191120
DTSTAMP:20260424T205711
CREATED:20190926T104644Z
LAST-MODIFIED:20191017T080821Z
UID:5163-1574035200-1574207999@vivatselvmordsforebygging.net
SUMMARY:Bergen\, Førstehjelp ved selvmordsfare
DESCRIPTION:Førstehjelp ved selvmordsfare arrangeres i Bergen 18.-19. november. Kurset er åpent for alle å melde seg på. \nKontaktperson er Randi T. Nordvik\, e-post: post@mennesketifokus.no \nAdresse for kurset: Kokstadveien 33\, TESS bygget\, 3 etasje\, 5257 Kokstad \n  \n
URL:https://vivatselvmordsforebygging.net/event/bergen-forstehjelp-ved-selvmordsfare-59/
LOCATION:Bergen\, Hordaland\, 5000\, Norge
CATEGORIES:Kurs,Førstehjelp ved selvmordsfare,Vest
GEO:59.4199474;5.2725679
END:VEVENT
BEGIN:VEVENT
DTSTART;VALUE=DATE:20191118
DTEND;VALUE=DATE:20191120
DTSTAMP:20260424T205711
CREATED:20191017T105529Z
LAST-MODIFIED:20191017T105540Z
UID:5209-1574035200-1574207999@vivatselvmordsforebygging.net
SUMMARY:Stavanger\, Førstehjelp ved selvmordsfare
DESCRIPTION:Helse Stavanger HF Psykisk helse arrangerer kurset Førstehjelp ved selvmordsfare. Kurset er primært for ansatte i psykisk helsevern\, det er også åpent for andre å melde seg på. \nKontaktperson er Berit Synnøve Lode Helland\, epost: berit.synnove.lode.helland@sus.no \n
URL:https://vivatselvmordsforebygging.net/event/stavanger-forstehjelp-ved-selvmordsfare-20/
LOCATION:Stavanger\, Rogaland\, 4000\, Norge
CATEGORIES:Kurs,Førstehjelp ved selvmordsfare,Vest
GEO:58.9562814;5.7377252
END:VEVENT
BEGIN:VEVENT
DTSTART;VALUE=DATE:20191119
DTEND;VALUE=DATE:20191120
DTSTAMP:20260424T205711
CREATED:20190620T090842Z
LAST-MODIFIED:20190620T090842Z
UID:4980-1574121600-1574207999@vivatselvmordsforebygging.net
SUMMARY:Sandefjord\, FriskOpp
DESCRIPTION:Sandefjord Kommune arrangerer kurset FriskOpp for egne ansatte. Til kurset inviteres også ansatte fra samarbeidspartnere som har vært på kurs i kommunens regi. \nKontaktperson er Harald Heggernes\, epost: harald.heggernes@sandefjord.kommune.no \n  \n  \n
URL:https://vivatselvmordsforebygging.net/event/sandefjord-friskopp-2/
LOCATION:Sandefjord\, Storgata 20\, Sandefjord\, Vestfold\, 3210\, Norge
CATEGORIES:Kurs,FriskOpp,Øst,Sør
GEO:59.1260689;10.221326
X-APPLE-STRUCTURED-LOCATION;VALUE=URI;X-ADDRESS=Sandefjord Storgata 20 Sandefjord Vestfold 3210 Norge;X-APPLE-RADIUS=500;X-TITLE=Storgata 20:geo:10.221326,59.1260689
END:VEVENT
BEGIN:VEVENT
DTSTART;VALUE=DATE:20191119
DTEND;VALUE=DATE:20191121
DTSTAMP:20260424T205711
CREATED:20190902T132445Z
LAST-MODIFIED:20190919T121126Z
UID:5093-1574121600-1574294399@vivatselvmordsforebygging.net
SUMMARY:Bergen\, Førstehjelp ved selvmordsfare
DESCRIPTION:Forsvaret arrangerer kurset Førstehjelp ved selvmordsfare for personell ved Haakonsvern. Kurset er åpent for andre å melde seg på. \nKontaktperson er Theodor Svane\, e-post: t.svane@icloud.com \n
URL:https://vivatselvmordsforebygging.net/event/bergen-forstehjelp-ved-selvmordsfare-58/
LOCATION:Haakonsvern\, Mathopen\, Bergen\, Hordaland\, 5173\, Norge
CATEGORIES:Kurs,Førstehjelp ved selvmordsfare,Vest
GEO:60.3380604;5.2093597
X-APPLE-STRUCTURED-LOCATION;VALUE=URI;X-ADDRESS=Haakonsvern Mathopen Bergen Hordaland 5173 Norge;X-APPLE-RADIUS=500;X-TITLE=Mathopen:geo:5.2093597,60.3380604
END:VEVENT
BEGIN:VEVENT
DTSTART;VALUE=DATE:20191119
DTEND;VALUE=DATE:20191121
DTSTAMP:20260424T205711
CREATED:20190902T133004Z
LAST-MODIFIED:20190902T133004Z
UID:5094-1574121600-1574294399@vivatselvmordsforebygging.net
SUMMARY:Sessvollmoen\, Førstehjelp ved selvmordsfare
DESCRIPTION:Forsvaret arrangerer kurset Førstehjelp ved selvmordsfare for personell ved Sessvollmoen. Kurset er lukket. \nKontaktperson er Anne-Beth Thørud\, epost: anne.beth.thorud@live.no \n
URL:https://vivatselvmordsforebygging.net/event/sessvollmoen-forstehjelp-ved-selvmordsfare-4/
LOCATION:Sessvollmoen\, Hordaland\, 2058\, Norge
CATEGORIES:Kurs,Førstehjelp ved selvmordsfare,Øst
GEO:35.0204237;-97.9727427
END:VEVENT
BEGIN:VEVENT
DTSTART;VALUE=DATE:20191119
DTEND;VALUE=DATE:20191120
DTSTAMP:20260424T205711
CREATED:20191002T132404Z
LAST-MODIFIED:20191002T132542Z
UID:5168-1574121600-1574207999@vivatselvmordsforebygging.net
SUMMARY:Lavangen\, Oppmerksom på selvmordstanker
DESCRIPTION:Lavangen skole arrangerer kurset Oppmerksom på selvmordstanker for egne ansatte 19. november. Kurset er subsidert med midler fra Helsedirektoratet. \nKontaktperson er Dagfinn Antonsen\, e-post: dagfinn.antonsen@lavangen.kommune.no \n
URL:https://vivatselvmordsforebygging.net/event/lavangen-oppmerksom-pa-selvmordstanker/
LOCATION:Lavangen\, Hordaland
CATEGORIES:Kurs,Oppmerksom på selvmordstanker,Nord
END:VEVENT
BEGIN:VEVENT
DTSTART;VALUE=DATE:20191119
DTEND;VALUE=DATE:20191120
DTSTAMP:20260424T205711
CREATED:20191108T102319Z
LAST-MODIFIED:20191108T102319Z
UID:5282-1574121600-1574207999@vivatselvmordsforebygging.net
SUMMARY:Ørlandet\, Oppmerksom på selvmordstanker
DESCRIPTION:Ørlandet flystasjon arrangerer kurset Oppmerksom på selvmordstanker. \nKurset er for militært ansatte med vaktfunksjoner og ansvar for soldater. Kurset er lukket for andre deltakere. \nKontaktpersoner er: \nChristina Stokkeland\, epost: chstokkeland@fhs.mil.no \nHilde Ivarrud\, epost: hivarrud@fhs.mil.no \n  \n
URL:https://vivatselvmordsforebygging.net/event/orlandet-oppmerksom-pa-selvmordstanker/
LOCATION:Ørlandet Flystasjon\, Hordaland
CATEGORIES:Kurs,Oppmerksom på selvmordstanker,Midt
END:VEVENT
BEGIN:VEVENT
DTSTART;TZID=Europe/Oslo:20191119T170000
DTEND;TZID=Europe/Oslo:20191119T213000
DTSTAMP:20260424T205711
CREATED:20191031T072845Z
LAST-MODIFIED:20191031T072845Z
UID:5249-1574182800-1574199000@vivatselvmordsforebygging.net
SUMMARY:Trondheim\, Oppmerksom på selvmordstanker
DESCRIPTION:PRIMA AS (eid av Trondheim kommune og Røde Kors) arrangerer kurset Oppmerkosm på selvmordstanker. Dette er et lukket kurs. \nKontaktperson er Eva steinkjer\, epost: eva_steinkjer@hotmail.com \n
URL:https://vivatselvmordsforebygging.net/event/trondheim-oppmerksom-pa-selvmordstanker-12/
LOCATION:Trondheim\, Hordaland
CATEGORIES:Kurs,Oppmerksom på selvmordstanker,Midt
END:VEVENT
END:VCALENDAR