BEGIN:VCALENDAR
VERSION:2.0
PRODID:-//vivat - ECPv4.9.14//NONSGML v1.0//EN
CALSCALE:GREGORIAN
METHOD:PUBLISH
X-WR-CALNAME:vivat
X-ORIGINAL-URL:https://vivatselvmordsforebygging.net
X-WR-CALDESC:Events for vivat
BEGIN:VTIMEZONE
TZID:Europe/Oslo
BEGIN:DAYLIGHT
TZOFFSETFROM:+0100
TZOFFSETTO:+0200
TZNAME:CEST
DTSTART:20190331T010000
END:DAYLIGHT
BEGIN:STANDARD
TZOFFSETFROM:+0200
TZOFFSETTO:+0100
TZNAME:CET
DTSTART:20191027T010000
END:STANDARD
END:VTIMEZONE
BEGIN:VEVENT
DTSTART;VALUE=DATE:20191120
DTEND;VALUE=DATE:20191122
DTSTAMP:20260424T205752
CREATED:20191008T112321Z
LAST-MODIFIED:20191008T112321Z
UID:5183-1574208000-1574380799@vivatselvmordsforebygging.net
SUMMARY:Svolvær\, Førstehjelp ved selvmordsfare
DESCRIPTION:Kurset Førstehjelp ved selvmordsfare arrangeres for skolehelsetjenesten i Nordland. \nKontaktperson er Torunn  Blokhus\, epost: torunn.blokhus@sbnett.no \n
URL:https://vivatselvmordsforebygging.net/event/svolvaer-forstehjelp-ved-selvmordsfare-2/
LOCATION:Svolvær\, Nordland\, Norge
CATEGORIES:Kurs,Førstehjelp ved selvmordsfare,Nord
GEO:67.097529;14.5736287
END:VEVENT
BEGIN:VEVENT
DTSTART;VALUE=DATE:20191120
DTEND;VALUE=DATE:20191122
DTSTAMP:20260424T205752
CREATED:20191008T122607Z
LAST-MODIFIED:20191008T122607Z
UID:5188-1574208000-1574380799@vivatselvmordsforebygging.net
SUMMARY:Sandefjord\, Førstehjelp ved selvmordsfare
DESCRIPTION:Sandefjord Kommune arrangerer kurset Førstehjelp ved selvmordsfare. Kurset er for kommunens ansatte og ansatte hos kommunens samarbeidspartnere. \nKontaktperson er Harald Heggernes\, epost: harald.heggernes@sandefjord.kommune.no \n
URL:https://vivatselvmordsforebygging.net/event/sandefjord-forstehjelp-ved-selvmordsfare-12/
LOCATION:Sandefjord\, Storgata 20\, Sandefjord\, Vestfold\, 3210\, Norge
CATEGORIES:Kurs,Førstehjelp ved selvmordsfare,Øst,Sør
GEO:59.1260689;10.221326
X-APPLE-STRUCTURED-LOCATION;VALUE=URI;X-ADDRESS=Sandefjord Storgata 20 Sandefjord Vestfold 3210 Norge;X-APPLE-RADIUS=500;X-TITLE=Storgata 20:geo:10.221326,59.1260689
END:VEVENT
BEGIN:VEVENT
DTSTART;VALUE=DATE:20191120
DTEND;VALUE=DATE:20191122
DTSTAMP:20260424T205752
CREATED:20191031T090202Z
LAST-MODIFIED:20191031T090202Z
UID:5253-1574208000-1574380799@vivatselvmordsforebygging.net
SUMMARY:Oslo\, Førstehjelp ved selvmordsfare
DESCRIPTION:RVTS Øst arrangerer kurset Førstehjelp ved selvmordfare. \nKurset er fulltegnet. \nKontaktperson er Johan Lindmark\, epost: johan.lindmark@rvtsost.no \n
URL:https://vivatselvmordsforebygging.net/event/oslo-forstehjelp-ved-selvmordsfare-58/
LOCATION:Oslo\, Nordland\, Norge
CATEGORIES:Kurs,Førstehjelp ved selvmordsfare,Øst
GEO:60.472024;8.468946
END:VEVENT
BEGIN:VEVENT
DTSTART;TZID=Europe/Oslo:20191120T080000
DTEND;TZID=Europe/Oslo:20191121T170000
DTSTAMP:20260424T205752
CREATED:20191104T082208Z
LAST-MODIFIED:20191104T082208Z
UID:5262-1574236800-1574355600@vivatselvmordsforebygging.net
SUMMARY:Trondheim\, Førstehjelp ved selvmordsfare
DESCRIPTION:Kurset Førstehjelp ved selvmordsfare arrangeres i Trondheim. Kurset er for overdoseteamet i Trondheim Kommune\, og lukket for andre deltakere. \nKurset er et av de subsidierte kursene fra Helsedirektoratet i 2019. \nKontaktperson er Vibeke Kleveland\, epost: vibekke.olufsen@ntnu.no \n
URL:https://vivatselvmordsforebygging.net/event/trondheim-forstehjelp-ved-selvmordsfare-43/
LOCATION:Trondheim\, Nordland
CATEGORIES:Kurs,Førstehjelp ved selvmordsfare,Midt
END:VEVENT
BEGIN:VEVENT
DTSTART;VALUE=DATE:20191121
DTEND;VALUE=DATE:20191123
DTSTAMP:20260424T205752
CREATED:20190327T094938Z
LAST-MODIFIED:20190327T100718Z
UID:4751-1574294400-1574467199@vivatselvmordsforebygging.net
SUMMARY:Skei i Jølster\, Førstehjelp ved selvmordsfare
DESCRIPTION:RVTS Vest arrangerer kurset Førstehjelp ved selvmordsfare i samarbeid med Helse Førde. Kurset er åpent for alle å melde seg på. Invitasjon med påmeldingsinformasjon \nKontaktperson er Hanne Siri Austgulen\, e-post: hanne.austgulen@helse-bergen.no \n  \n
URL:https://vivatselvmordsforebygging.net/event/jolster-forstehjelp-ved-selvmordsfare/
LOCATION:Jølster\, Nordland
CATEGORIES:Kurs,Førstehjelp ved selvmordsfare,Vest
END:VEVENT
BEGIN:VEVENT
DTSTART;VALUE=DATE:20191121
DTEND;VALUE=DATE:20191122
DTSTAMP:20260424T205752
CREATED:20191022T124938Z
LAST-MODIFIED:20191022T131656Z
UID:5222-1574294400-1574380799@vivatselvmordsforebygging.net
SUMMARY:Oslo\, Oppmerksom på selvmordstanker
DESCRIPTION:Folkehøyskoleforbundet arrangerer kurset Oppmerksom på selvmordstanker i Oslo. Kurset er for inspektører i frilynte folkehøyskoler\, og er lukket for andre deltakere. \nKontaktperson er Benedicte Hambro\, epost: benedicte@folkehogskole.no \n
URL:https://vivatselvmordsforebygging.net/event/oslo-oppmerksom-pa-selvmordstanker-8/
LOCATION:Oslo\, Nordland\, Norge
CATEGORIES:Kurs,Oppmerksom på selvmordstanker,Øst
GEO:60.472024;8.468946
END:VEVENT
END:VCALENDAR