BEGIN:VCALENDAR
VERSION:2.0
PRODID:-//vivat - ECPv4.9.14//NONSGML v1.0//EN
CALSCALE:GREGORIAN
METHOD:PUBLISH
X-WR-CALNAME:vivat
X-ORIGINAL-URL:https://vivatselvmordsforebygging.net
X-WR-CALDESC:Events for vivat
BEGIN:VTIMEZONE
TZID:Europe/Oslo
BEGIN:DAYLIGHT
TZOFFSETFROM:+0100
TZOFFSETTO:+0200
TZNAME:CEST
DTSTART:20190331T010000
END:DAYLIGHT
BEGIN:STANDARD
TZOFFSETFROM:+0200
TZOFFSETTO:+0100
TZNAME:CET
DTSTART:20191027T010000
END:STANDARD
END:VTIMEZONE
BEGIN:VEVENT
DTSTART;VALUE=DATE:20191128
DTEND;VALUE=DATE:20191130
DTSTAMP:20260424T193107
CREATED:20191023T132319Z
LAST-MODIFIED:20191023T132319Z
UID:5234-1574899200-1575071999@vivatselvmordsforebygging.net
SUMMARY:Trondheim\, Førstehjelp ved selvmordsfare
DESCRIPTION:RVTS Midt arrangerer kurset Førstehjelp ved selvmordsfare. Dette er et lukket kurs for studenter i helsesykepleie. \nKurset er et av de subsidierte kursene fra Helsedirektoratet i 2019. \nKontaktperson er Eva Steinkjer\, epost: eva_steinkjer@hotmail.com \n  \n
URL:https://vivatselvmordsforebygging.net/event/trondheim-forstehjelp-ved-selvmordsfare-42/
LOCATION:RVTS Midt\, Prinsens gate 1A (Statens hus)\, Trondheim\, Trondheim\, 7013\, Norge
CATEGORIES:Kurs,Førstehjelp ved selvmordsfare,Midt
GEO:63.4237111;10.3896038
X-APPLE-STRUCTURED-LOCATION;VALUE=URI;X-ADDRESS=RVTS Midt Prinsens gate 1A (Statens hus) Trondheim Trondheim 7013 Norge;X-APPLE-RADIUS=500;X-TITLE=Prinsens gate 1A (Statens hus):geo:10.3896038,63.4237111
END:VEVENT
BEGIN:VEVENT
DTSTART;TZID=Europe/Oslo:20191129T080000
DTEND;TZID=Europe/Oslo:20191129T120000
DTSTAMP:20260424T193107
CREATED:20191018T105153Z
LAST-MODIFIED:20191018T105153Z
UID:5211-1575014400-1575028800@vivatselvmordsforebygging.net
SUMMARY:Porsanger\, Oppmerksom på selvmordstanker
DESCRIPTION:Garnisonen i Porsanger arrangerer kurset Oppmerksom på selvmordstanker. Kurset er for tillitsvalgte\, og er lukket for andre deltakere. \nKontaktperson er Vilde Stee\, epost: vilde.stee@icloud.no \n
URL:https://vivatselvmordsforebygging.net/event/porsanger-oppmerksom-pa-selvmordstanker/
LOCATION:Porsanger\, Finmark\, Norge
CATEGORIES:Kurs,Oppmerksom på selvmordstanker,Nord
END:VEVENT
BEGIN:VEVENT
DTSTART;TZID=Europe/Oslo:20191129T160000
DTEND;TZID=Europe/Oslo:20191129T210000
DTSTAMP:20260424T193107
CREATED:20191016T120852Z
LAST-MODIFIED:20191016T120852Z
UID:5204-1575043200-1575061200@vivatselvmordsforebygging.net
SUMMARY:Trondheim\, Oppmerksom på selvmordstanker
DESCRIPTION:Studentorganet for realfagsstudentene arrangerer kurset Oppmerksom på selvmordstanker\, på NTNU. Kurset er lukket. \nKontaktperson er Eva Steinkjer\, epost: eva_steinkjer@hotmail.com \n  \n  \n
URL:https://vivatselvmordsforebygging.net/event/trondheim-oppmerksom-pa-selvmordstanker-11/
LOCATION:Trondheim\, Trondheim\, Sør-Trøndelag\, 7000\, Norge
CATEGORIES:Kurs,Oppmerksom på selvmordstanker,Midt
GEO:63.427569;10.393207
END:VEVENT
END:VCALENDAR