BEGIN:VCALENDAR
VERSION:2.0
PRODID:-//vivat - ECPv4.9.14//NONSGML v1.0//EN
CALSCALE:GREGORIAN
METHOD:PUBLISH
X-WR-CALNAME:vivat
X-ORIGINAL-URL:https://vivatselvmordsforebygging.net
X-WR-CALDESC:Events for vivat
BEGIN:VTIMEZONE
TZID:Europe/Oslo
BEGIN:DAYLIGHT
TZOFFSETFROM:+0100
TZOFFSETTO:+0200
TZNAME:CEST
DTSTART:20190331T010000
END:DAYLIGHT
BEGIN:STANDARD
TZOFFSETFROM:+0200
TZOFFSETTO:+0100
TZNAME:CET
DTSTART:20191027T010000
END:STANDARD
END:VTIMEZONE
BEGIN:VEVENT
DTSTART;VALUE=DATE:20191202
DTEND;VALUE=DATE:20191204
DTSTAMP:20260424T193302
CREATED:20191104T141020Z
LAST-MODIFIED:20191104T141020Z
UID:5269-1575244800-1575417599@vivatselvmordsforebygging.net
SUMMARY:Sotra\, Førstehjelp ved selvmordsfare
DESCRIPTION:Basecamp arrangerer kurset Førstehjelp ved selvmordsfare. Kurset er for frivillige\, og lukket for andre deltakere. \nKontaktperson er Jon Andreas Tjentland\, epost: jon.tjentland@fjell.kommune.no \n
URL:https://vivatselvmordsforebygging.net/event/sotra-forstehjelp-ved-selvmordsfare/
LOCATION:Sotra
CATEGORIES:Kurs,Førstehjelp ved selvmordsfare,Vest
END:VEVENT
BEGIN:VEVENT
DTSTART;VALUE=DATE:20191202
DTEND;VALUE=DATE:20191203
DTSTAMP:20260424T193302
CREATED:20191106T102708Z
LAST-MODIFIED:20191106T102708Z
UID:5272-1575244800-1575331199@vivatselvmordsforebygging.net
SUMMARY:Tromsø\, Oppmerksom på selvmordstanker
DESCRIPTION:Bachelorutdanningen for paramedisin ved UiT Norges arktiske universitet arrangerer kurset Oppmerksom på selvmordstanker. \nKurset er for studenter ved utdanninga\, og er lukket for andre deltakere. \nKurset er et av de subsidierte kursene fra Helsedirektoratet i 2019. \nKontaktperson er Thomas Hansen\, epost: thomas.hansen@uit.no \n
URL:https://vivatselvmordsforebygging.net/event/tromso-oppmerksom-pa-selvmordstanker-5/
LOCATION:Tromsø\, Tromsø\, Troms\, 9010\, Norge
CATEGORIES:Kurs,Førstehjelp ved selvmordsfare,Nord
GEO:69.6690983;18.975498
END:VEVENT
BEGIN:VEVENT
DTSTART;VALUE=DATE:20191202
DTEND;VALUE=DATE:20191204
DTSTAMP:20260424T193302
CREATED:20191112T130823Z
LAST-MODIFIED:20191112T130823Z
UID:5294-1575244800-1575417599@vivatselvmordsforebygging.net
SUMMARY:Hammerfest\, Førstehjelp ved selvmordsfare
DESCRIPTION:Kurset Førstehjelp ved selvmordsfare arrangeres i Hammerfest. \nInvitasjon \nKontakperson er Katrine Markussen\, epost: katrine.markussen@hammerfest.kommune.no \n  \n
URL:https://vivatselvmordsforebygging.net/event/hammerfest-forstehjelp-ved-selvmordsfare-2/
LOCATION:Hammerfest
CATEGORIES:Kurs,Førstehjelp ved selvmordsfare,Nord
END:VEVENT
BEGIN:VEVENT
DTSTART;TZID=Europe/Oslo:20191202T170000
DTEND;TZID=Europe/Oslo:20191202T203000
DTSTAMP:20260424T193302
CREATED:20191028T132909Z
LAST-MODIFIED:20191028T132909Z
UID:5237-1575306000-1575318600@vivatselvmordsforebygging.net
SUMMARY:Rana\, Oppmerksom på selvmordstanker
DESCRIPTION:Kurset Oppmerksom på selvmordstanker arrangeres i Rana. Målgruppa er alle aktører som bidrar til trygt og trivelig uteliv kveld/ natt og helg\, f.eks: dørvakter\, drosjesjåfører\, natteravner\, bartendere med flere. \nInvitasjon til OPS kurs \nPåmelding: Sissel Haugen\, epost: Sissel.Haugen@rana.kommune.no \n
URL:https://vivatselvmordsforebygging.net/event/rana-oppmerksom-pa-selvmordstanker/
LOCATION:Rana Kommune
CATEGORIES:Kurs,Oppmerksom på selvmordstanker,Nord
END:VEVENT
END:VCALENDAR