BEGIN:VCALENDAR
VERSION:2.0
PRODID:-//vivat - ECPv4.9.14//NONSGML v1.0//EN
CALSCALE:GREGORIAN
METHOD:PUBLISH
X-WR-CALNAME:vivat
X-ORIGINAL-URL:https://vivatselvmordsforebygging.net
X-WR-CALDESC:Events for vivat
BEGIN:VTIMEZONE
TZID:Europe/Oslo
BEGIN:DAYLIGHT
TZOFFSETFROM:+0100
TZOFFSETTO:+0200
TZNAME:CEST
DTSTART:20190331T010000
END:DAYLIGHT
BEGIN:STANDARD
TZOFFSETFROM:+0200
TZOFFSETTO:+0100
TZNAME:CET
DTSTART:20191027T010000
END:STANDARD
END:VTIMEZONE
BEGIN:VEVENT
DTSTART;VALUE=DATE:20191204
DTEND;VALUE=DATE:20191206
DTSTAMP:20260424T193134
CREATED:20191030T102121Z
LAST-MODIFIED:20191030T102121Z
UID:5248-1575417600-1575590399@vivatselvmordsforebygging.net
SUMMARY:VID Oslo\, Førstehjelp ved selvmordsfare
DESCRIPTION:VID Oslo arrangerer kurset Oppmerksom på selvmordsfare. Kurset er for studenter\, og lukket for andre deltakere. \nKontaktperson er Elisabeth Nilsen Aas\, epost: elisabeth.nilsen.aas@vid.no \n
URL:https://vivatselvmordsforebygging.net/event/vid-oslo-forstehjelp-ved-selvmordsfare/
LOCATION:Oslo\, Norge
CATEGORIES:Kurs,Førstehjelp ved selvmordsfare,Øst
GEO:60.472024;8.468946
END:VEVENT
BEGIN:VEVENT
DTSTART;VALUE=DATE:20191204
DTEND;VALUE=DATE:20191206
DTSTAMP:20260424T193134
CREATED:20191031T090353Z
LAST-MODIFIED:20191031T090353Z
UID:5254-1575417600-1575590399@vivatselvmordsforebygging.net
SUMMARY:Oslo\, Førstehjelp ved selvmordsfare
DESCRIPTION:RVTS Øst arrangerer kurset Førstehjelp ved selvmordfare. \nKurset er fulltegnet. \nKontaktperson er Johan Lindmark\, epost: johan.lindmark@rvtsost.no \n
URL:https://vivatselvmordsforebygging.net/event/oslo-forstehjelp-ved-selvmordsfare-59/
LOCATION:Oslo\, Norge
CATEGORIES:Kurs,Førstehjelp ved selvmordsfare,Øst
GEO:60.472024;8.468946
END:VEVENT
BEGIN:VEVENT
DTSTART;VALUE=DATE:20191204
DTEND;VALUE=DATE:20191206
DTSTAMP:20260424T193134
CREATED:20191101T094510Z
LAST-MODIFIED:20191101T094510Z
UID:5255-1575417600-1575590399@vivatselvmordsforebygging.net
SUMMARY:Fredrikstad\, Førstehjelp ved selvmordsfare
DESCRIPTION:Fredrikstad kommune arrangerer kurset Førstehjelp ved selvmordsfare. Kurset er lukket. \nKontaktperson er fagkoordinator Geir K. Lund\, epost: geilun@fredrikstad.kommune.no \n
URL:https://vivatselvmordsforebygging.net/event/fredrikstad-forstehjelp-ved-selvmordsfare/
LOCATION:Fredrikstad
CATEGORIES:Kurs,Førstehjelp ved selvmordsfare,Øst
END:VEVENT
BEGIN:VEVENT
DTSTART;VALUE=DATE:20191205
DTEND;VALUE=DATE:20191207
DTSTAMP:20260424T193134
CREATED:20191022T084940Z
LAST-MODIFIED:20191022T084940Z
UID:5219-1575504000-1575676799@vivatselvmordsforebygging.net
SUMMARY:Sandvika\, Førstehjelp ved selvmordsfare
DESCRIPTION:Kurset Førstehjelp ved selvmordsfare arrangeres i samarbeid med VIVAT selvmordsforebygging. Målgruppa for kurset er ansatte i kommuner\, undervisning eller frivillige. Kurset er et av de subsidierte kursene fra Helsedirektoratet i 2019. \nKontaktperson er Sissel Meland\, epost: sissel@akseptgestalt.no \n
URL:https://vivatselvmordsforebygging.net/event/sandvika-forstehjelp-ved-selvmordsfare/
LOCATION:Sandvika\, Otto Sverdrupsplass 4\, Bærum\, Akershus\, Norge
CATEGORIES:Kurs,Førstehjelp ved selvmordsfare,Øst
GEO:59.8922921;10.5303239
X-APPLE-STRUCTURED-LOCATION;VALUE=URI;X-ADDRESS=Sandvika Otto Sverdrupsplass 4 Bærum Akershus Norge;X-APPLE-RADIUS=500;X-TITLE=Otto Sverdrupsplass 4:geo:10.5303239,59.8922921
END:VEVENT
END:VCALENDAR