BEGIN:VCALENDAR
VERSION:2.0
PRODID:-//vivat - ECPv4.9.14//NONSGML v1.0//EN
CALSCALE:GREGORIAN
METHOD:PUBLISH
X-WR-CALNAME:vivat
X-ORIGINAL-URL:https://vivatselvmordsforebygging.net
X-WR-CALDESC:Events for vivat
BEGIN:VTIMEZONE
TZID:Europe/Oslo
BEGIN:DAYLIGHT
TZOFFSETFROM:+0100
TZOFFSETTO:+0200
TZNAME:CEST
DTSTART:20200329T010000
END:DAYLIGHT
BEGIN:STANDARD
TZOFFSETFROM:+0200
TZOFFSETTO:+0100
TZNAME:CET
DTSTART:20201025T010000
END:STANDARD
END:VTIMEZONE
BEGIN:VEVENT
DTSTART;VALUE=DATE:20200204
DTEND;VALUE=DATE:20200206
DTSTAMP:20260424T164621
CREATED:20200115T084025Z
LAST-MODIFIED:20200115T084025Z
UID:5516-1580774400-1580947199@vivatselvmordsforebygging.net
SUMMARY:Lillestrøm\, Førstehjelp ved selvmordsfare
DESCRIPTION:Kriminalomsorgens høgskole og utdanningssenter KRUS arrangerer kurset Førstehjelp ved selvmordsfare. \nKurset er for ansatte ved Oslo Fengsel\, og er lukket for andre deltakere. \nKontaktperson er Anne Natrud\, epost: anne.natrud@krus.no \n
URL:https://vivatselvmordsforebygging.net/event/lillestrom-forstehjelp-ved-selvmordsfare-3/
LOCATION:Lillestrøm
CATEGORIES:Kurs,Oppmerksom på selvmordstanker,Øst
END:VEVENT
BEGIN:VEVENT
DTSTART;VALUE=DATE:20200205
DTEND;VALUE=DATE:20200207
DTSTAMP:20260424T164621
CREATED:20200110T122745Z
LAST-MODIFIED:20200110T131253Z
UID:5487-1580860800-1581033599@vivatselvmordsforebygging.net
SUMMARY:Isdalstø\, Førstehjelp ved selvmordsfare
DESCRIPTION:Alvær kommune arrangerer kurset førstehjelp ved selvmordsfare. Kurset er for kommunens ansatte\, lukket for andre deltakere. \nKontaktperson er Cecilie Johannesen\, epost: cecilie.johannesen@alver.kommune.no \n
URL:https://vivatselvmordsforebygging.net/event/isdalsto-forstehjelp-ved-selvmordsfare/
LOCATION:Isdalstø
CATEGORIES:Kurs,Førstehjelp ved selvmordsfare,Vest
END:VEVENT
BEGIN:VEVENT
DTSTART;VALUE=DATE:20200205
DTEND;VALUE=DATE:20200207
DTSTAMP:20260424T164621
CREATED:20200115T084926Z
LAST-MODIFIED:20200115T084926Z
UID:5517-1580860800-1581033599@vivatselvmordsforebygging.net
SUMMARY:Kristiansand\, Førstehjelp ved selvmordsfare
DESCRIPTION:Studentsamskipnaden i Agder arrangerer kurset Førstehjelp ved selvmordsfare. Kurset er for studenter ved Universitetet i Agder\, og lukket for andre deltakere. \nKontaktperson er Geir O. Lystad\, epost: geir.o.lystad@uia.no \n
URL:https://vivatselvmordsforebygging.net/event/kristiansand-forstehjelp-ved-selvmordsfare-26/
LOCATION:Kristiansand\, Kristiansand\, Vest-Agder\, 4600\, Norge
CATEGORIES:Kurs,Førstehjelp ved selvmordsfare,Sør
GEO:58.1611426;8.0307271
END:VEVENT
END:VCALENDAR