BEGIN:VCALENDAR
VERSION:2.0
PRODID:-//vivat - ECPv4.9.14//NONSGML v1.0//EN
CALSCALE:GREGORIAN
METHOD:PUBLISH
X-WR-CALNAME:vivat
X-ORIGINAL-URL:https://vivatselvmordsforebygging.net
X-WR-CALDESC:Events for vivat
BEGIN:VTIMEZONE
TZID:Europe/Oslo
BEGIN:DAYLIGHT
TZOFFSETFROM:+0100
TZOFFSETTO:+0200
TZNAME:CEST
DTSTART:20200329T010000
END:DAYLIGHT
BEGIN:STANDARD
TZOFFSETFROM:+0200
TZOFFSETTO:+0100
TZNAME:CET
DTSTART:20201025T010000
END:STANDARD
END:VTIMEZONE
BEGIN:VEVENT
DTSTART;VALUE=DATE:20200213
DTEND;VALUE=DATE:20200215
DTSTAMP:20260424T164621
CREATED:20200107T120822Z
LAST-MODIFIED:20200107T120822Z
UID:5466-1581552000-1581724799@vivatselvmordsforebygging.net
SUMMARY:Nittedal\, Førstehjelp ved selvmordsfare
DESCRIPTION:Nittedal kommune arrangerer kurset Førstehjelp ved selvmordsfare. Kurset er for ansatte i Nittedal kommune og Politiet\, Oslo. Lukket for andre deltakere. \nKontaktperson er Hilde Engebretsen\, epost: hilde.engebretsen@nittedal.kommune.no \n
URL:https://vivatselvmordsforebygging.net/event/nittedal-forstehjelp-ved-selvmordsfare-6/
LOCATION:Nittedal\, Akershus\, 1480\, Norge
CATEGORIES:Kurs,Førstehjelp ved selvmordsfare,Øst
GEO:60.0247146;10.942563
END:VEVENT
BEGIN:VEVENT
DTSTART;VALUE=DATE:20200213
DTEND;VALUE=DATE:20200215
DTSTAMP:20260424T164621
CREATED:20200124T120700Z
LAST-MODIFIED:20200124T120700Z
UID:5604-1581552000-1581724799@vivatselvmordsforebygging.net
SUMMARY:Oslo\, Førstehjelp ved selvmordsfare
DESCRIPTION:Forsvaret arrangerer kurset Førstehjelp ved selvmordsfare på Huseby leir. Kurset er lukket for andre deltakere. \nKontaktperson er Kim Bjørnerud\, epost: kim.bjornerud@gmail.com \n
URL:https://vivatselvmordsforebygging.net/event/oslo-forstehjelp-ved-selvmordsfare-69/
LOCATION:Oslo\, Akershus\, Norge
CATEGORIES:Kurs,Førstehjelp ved selvmordsfare,Øst
GEO:60.472024;8.468946
END:VEVENT
BEGIN:VEVENT
DTSTART;VALUE=DATE:20200213
DTEND;VALUE=DATE:20200214
DTSTAMP:20260424T164621
CREATED:20200128T072351Z
LAST-MODIFIED:20200128T072351Z
UID:5606-1581552000-1581638399@vivatselvmordsforebygging.net
SUMMARY:Bodø\, Oppmerksom på selvmordstanker
DESCRIPTION:Kurset Oppmerksom på selvmordstanker arrangeres for Fylkesadministrasjonen i Nordland Fylkeskommune. Kurset er lukket for andre deltakere. \nKontaktperson er Torunn Blokhus\, epost: torunn.blokhus@sb.nett.no \n
URL:https://vivatselvmordsforebygging.net/event/bodo-oppmerksom-pa-selvmordstanker-5/
LOCATION:Bodø\, Nordland\, 8000\, Norge
CATEGORIES:Kurs,Oppmerksom på selvmordstanker,Nord
GEO:59.9768021;10.3213481
END:VEVENT
BEGIN:VEVENT
DTSTART;TZID=Europe/Oslo:20200213T173000
DTEND;TZID=Europe/Oslo:20200213T213000
DTSTAMP:20260424T164621
CREATED:20200117T084554Z
LAST-MODIFIED:20200117T084618Z
UID:5520-1581615000-1581629400@vivatselvmordsforebygging.net
SUMMARY:Stjørdal\, Oppmerksom på selvmordstanker
DESCRIPTION:ADHD foreninga nord i Trøndelag arrangerer kurset Oppmerksom på selvmordstanker. Kurset er for frivillige i foreninga\, og lukket for andre deltakere. \nKontaktperson er Eva Steinkjer\, epost: eva_steinkjer@hotmail.com \n
URL:https://vivatselvmordsforebygging.net/event/stjordal-oppmerksom-pa-selvmordsfare/
LOCATION:Stjørdal\, Akershus
CATEGORIES:Kurs,Oppmerksom på selvmordstanker,Midt
END:VEVENT
END:VCALENDAR