BEGIN:VCALENDAR
VERSION:2.0
PRODID:-//vivat - ECPv4.9.14//NONSGML v1.0//EN
CALSCALE:GREGORIAN
METHOD:PUBLISH
X-WR-CALNAME:vivat
X-ORIGINAL-URL:https://vivatselvmordsforebygging.net
X-WR-CALDESC:Events for vivat
BEGIN:VTIMEZONE
TZID:Europe/Oslo
BEGIN:DAYLIGHT
TZOFFSETFROM:+0100
TZOFFSETTO:+0200
TZNAME:CEST
DTSTART:20200329T010000
END:DAYLIGHT
BEGIN:STANDARD
TZOFFSETFROM:+0200
TZOFFSETTO:+0100
TZNAME:CET
DTSTART:20201025T010000
END:STANDARD
END:VTIMEZONE
BEGIN:VEVENT
DTSTART;TZID=Europe/Oslo:20200218T150000
DTEND;TZID=Europe/Oslo:20200219T223000
DTSTAMP:20260424T164651
CREATED:20200204T084108Z
LAST-MODIFIED:20200204T084108Z
UID:5626-1582038000-1582151400@vivatselvmordsforebygging.net
SUMMARY:Drammen\, Førstehjelp ved selvmordsfare
DESCRIPTION:Drammen sanitetsforening arrangerer kurset Førstehjelp ved selvmordsfare. Kurset er åpnet for alle å melde seg på. \nKontaktperson er Linda Jakobsen\, epost: linda.kristin.jakobsen@drammen.kommune.no \n
URL:https://vivatselvmordsforebygging.net/event/drammen-forstehjelp-ved-selvmordsfare-11/
LOCATION:Drammen\, Drammen\, Buskerud\, 3040\, Norge
CATEGORIES:Kurs,Førstehjelp ved selvmordsfare,Øst
GEO:59.7277268;10.2463455
END:VEVENT
BEGIN:VEVENT
DTSTART;VALUE=DATE:20200219
DTEND;VALUE=DATE:20200221
DTSTAMP:20260424T164651
CREATED:20200107T124816Z
LAST-MODIFIED:20200117T132130Z
UID:5473-1582070400-1582243199@vivatselvmordsforebygging.net
SUMMARY:Karmøy\, Førstehjelp ved selvmordsfare
DESCRIPTION:Karmøy kommune arrangerer kurset Førstehjelp ved selvmordsfare. Kurset er for kommunens ansatte\, og i utgangspunktet  lukket for andre deltakere. Det vil bli åpent for eksterne deltakere ved ledig kapasitet. \nKurset er et av de subsidierte kursene fra Helsedirektoratet i 2020. \nKontaktperson er Tove Vivata Bråthen\, epost: tove@livsrom@life.no \n
URL:https://vivatselvmordsforebygging.net/event/karmoy-forstehjelp-ved-selvmordsfare-2/
LOCATION:Karmøy\, Rogaland\, 4265\, Norge
CATEGORIES:Kurs,Førstehjelp ved selvmordsfare,Vest
GEO:59.312995;5.2917524
END:VEVENT
BEGIN:VEVENT
DTSTART;VALUE=DATE:20200219
DTEND;VALUE=DATE:20200221
DTSTAMP:20260424T164651
CREATED:20200114T123031Z
LAST-MODIFIED:20200114T123031Z
UID:5513-1582070400-1582243199@vivatselvmordsforebygging.net
SUMMARY:Drammen\, Førstehjelp ved selvmordsfare
DESCRIPTION:Norasonde kurs og evaluering holder kurset Førstehjelp ved selvmordsfare. Kurset er åpent for alle å melde seg på. \nKursinvitasjon VIVAT \nKontaktperson er Angelica Bråten\, epost: angelica.braaten@hotmail.com \n
URL:https://vivatselvmordsforebygging.net/event/drammen-forstehjelp-ved-selvmordsfare-10/
LOCATION:Drammen\, Drammen\, Buskerud\, 3040\, Norge
CATEGORIES:Kurs,Førstehjelp ved selvmordsfare,Øst
GEO:59.7277268;10.2463455
END:VEVENT
END:VCALENDAR