BEGIN:VCALENDAR
VERSION:2.0
PRODID:-//vivat - ECPv4.9.14//NONSGML v1.0//EN
CALSCALE:GREGORIAN
METHOD:PUBLISH
X-WR-CALNAME:vivat
X-ORIGINAL-URL:https://vivatselvmordsforebygging.net
X-WR-CALDESC:Events for vivat
BEGIN:VTIMEZONE
TZID:Europe/Oslo
BEGIN:DAYLIGHT
TZOFFSETFROM:+0100
TZOFFSETTO:+0200
TZNAME:CEST
DTSTART:20200329T010000
END:DAYLIGHT
BEGIN:STANDARD
TZOFFSETFROM:+0200
TZOFFSETTO:+0100
TZNAME:CET
DTSTART:20201025T010000
END:STANDARD
END:VTIMEZONE
BEGIN:VEVENT
DTSTART;VALUE=DATE:20200224
DTEND;VALUE=DATE:20200226
DTSTAMP:20260424T154456
CREATED:20191211T145438Z
LAST-MODIFIED:20191211T145438Z
UID:5397-1582502400-1582675199@vivatselvmordsforebygging.net
SUMMARY:Oslo\, Førstehjelp ved selvmordsfare
DESCRIPTION:Vestre Aker bydel arrangerer kurset Førstehjelp ved selvmordsfare. Kurset er for ansatte i bydelen\, og lukket for andre deltakere. \nKontaktperson er Malin Ericson\, epost: malin.ericson.nav.no \n
URL:https://vivatselvmordsforebygging.net/event/oslo-forstehjelp-ved-selvmordsfare-63/
LOCATION:Oslo\, Norge
CATEGORIES:Kurs,Førstehjelp ved selvmordsfare,Øst
GEO:60.472024;8.468946
END:VEVENT
BEGIN:VEVENT
DTSTART;VALUE=DATE:20200224
DTEND;VALUE=DATE:20200226
DTSTAMP:20260424T154456
CREATED:20200107T121411Z
LAST-MODIFIED:20200107T121411Z
UID:5467-1582502400-1582675199@vivatselvmordsforebygging.net
SUMMARY:Sortland\, Førstehjelp ved selvmordsfare
DESCRIPTION:Sortland Kommune arrangerer kurset Førstehjelp ved selvmordsfare. Kurset er for ansatte i kommunen og relevante samarbeidsaktører. \nKontaktperson er Randulf Nedrum\, epost: randulf.nedrum@sortland.kommune.no \n
URL:https://vivatselvmordsforebygging.net/event/sortland-forstehjelp-ved-selvmordsfare-7/
LOCATION:Sortland\, Nordland\, 8400\, Norge
CATEGORIES:Kurs,Førstehjelp ved selvmordsfare,Nord
GEO:68.7228826;15.4990474
END:VEVENT
BEGIN:VEVENT
DTSTART;VALUE=DATE:20200224
DTEND;VALUE=DATE:20200226
DTSTAMP:20260424T154456
CREATED:20200204T113246Z
LAST-MODIFIED:20200204T113246Z
UID:5631-1582502400-1582675199@vivatselvmordsforebygging.net
SUMMARY:Kautokeino\, Førstehjelp ved selvmordsfare
DESCRIPTION:Kurset Førstehjelp ved selvmordsfare arrangeres i Kautokeino. Kurset er for ansatte ved Kautokeino kommune\, samt ansatte ved Samisk høyskole. Lukket for andre deltakere. \nKontaktperson er Margrethe Bals\, epost: margrethe.bals@kautokeino.kommune.no \n
URL:https://vivatselvmordsforebygging.net/event/kautokeino-forstehjelp-ved-selvmordsfare/
LOCATION:Kautokeino\, Norge
CATEGORIES:Kurs,Førstehjelp ved selvmordsfare,Nord
END:VEVENT
BEGIN:VEVENT
DTSTART;VALUE=DATE:20200225
DTEND;VALUE=DATE:20200227
DTSTAMP:20260424T154456
CREATED:20200110T125611Z
LAST-MODIFIED:20200110T125611Z
UID:5491-1582588800-1582761599@vivatselvmordsforebygging.net
SUMMARY:Kristiansand\, Førstehjelp ved selvmordsfare
DESCRIPTION:RVTS Sør arrangerer kurset Førstehjelp ved selvmordsfare. Kurset er åpent for alle å melde seg på. \nKontaktperson er Øyvind Dåsvatn\, epost: Oyvind.dasvatn@rvtssor.no \n
URL:https://vivatselvmordsforebygging.net/event/kristiansand-forstehjelp-ved-selvmordsfare-24/
LOCATION:Kristiansand\, Kristiansand\, Vest-Agder\, 4600\, Norge
CATEGORIES:Kurs,Førstehjelp ved selvmordsfare,Sør
GEO:58.1611426;8.0307271
END:VEVENT
BEGIN:VEVENT
DTSTART;TZID=Europe/Oslo:20200225T083000
DTEND;TZID=Europe/Oslo:20200226T160000
DTSTAMP:20260424T154456
CREATED:20200206T083659Z
LAST-MODIFIED:20200206T083659Z
UID:5645-1582619400-1582732800@vivatselvmordsforebygging.net
SUMMARY:Trondheim\, Førstehjelp ved selvmordsfare
DESCRIPTION:RVTS Midt arrangerer kurset Førstehjelp ved selvmordsfare. Kurset er åpent for alle å melde seg på. \nInvitasjon \nKontaktperson er Rune Nilsen\, epost: runeonilsen@gmail.com \n
URL:https://vivatselvmordsforebygging.net/event/trondheim-forstehjelp-ved-selvmordsfare-46/
LOCATION:RVTS Midt\, Prinsens gate 1A (Statens hus)\, Trondheim\, Trondheim\, 7013\, Norge
CATEGORIES:Kurs,Førstehjelp ved selvmordsfare,Midt
GEO:63.4237111;10.3896038
X-APPLE-STRUCTURED-LOCATION;VALUE=URI;X-ADDRESS=RVTS Midt Prinsens gate 1A (Statens hus) Trondheim Trondheim 7013 Norge;X-APPLE-RADIUS=500;X-TITLE=Prinsens gate 1A (Statens hus):geo:10.3896038,63.4237111
END:VEVENT
BEGIN:VEVENT
DTSTART;TZID=Europe/Oslo:20200225T160000
DTEND;TZID=Europe/Oslo:20200225T193000
DTSTAMP:20260424T154456
CREATED:20200120T113655Z
LAST-MODIFIED:20200120T113655Z
UID:5559-1582646400-1582659000@vivatselvmordsforebygging.net
SUMMARY:Oslo\, Oppmerksom på selvmordstanker
DESCRIPTION:Kurset Oppmerksom på selvmordstanker arrangeres i Oslo. Kurset er åpent for alle å melde seg på. \nInvitasjon \nKontaktperson er Nina Clarke\, epost: nina.clarke@icloud.com \n
URL:https://vivatselvmordsforebygging.net/event/oslo-oppmerksom-pa-selvmordstanker-10/
LOCATION:Oslo\, Norge
CATEGORIES:Kurs,Oppmerksom på selvmordstanker,Øst
GEO:60.472024;8.468946
END:VEVENT
BEGIN:VEVENT
DTSTART;TZID=Europe/Oslo:20200225T170000
DTEND;TZID=Europe/Oslo:20200225T210000
DTSTAMP:20260424T154456
CREATED:20200221T084147Z
LAST-MODIFIED:20200225T073014Z
UID:5747-1582650000-1582664400@vivatselvmordsforebygging.net
SUMMARY:Trondheim\, Oppmerksom på selvmordstanker
DESCRIPTION:Kurset Oppmerksom på selvmordstanker arrangeres for Jentevakta på NTNU. \nKurset er lukket. \nKontaktperson er Therese Vikøren\, epost: thereseavikoren@gmail.com \n
URL:https://vivatselvmordsforebygging.net/event/trondheim-oppmerksom-pa-selvmordstanker-18/
LOCATION:Trondheim\, Norge
CATEGORIES:Kurs,Oppmerksom på selvmordstanker,Midt
END:VEVENT
END:VCALENDAR